{"text_format":"1","workbook":"xlsx","n_sheets":4,"sheets":["Hinweise_Impressum","Modell","..","."],"not_rendered":{"charts":1,"images":7,"macros":1,"external_links":0,"defined_names":1,"comments":0,"pivot_tables":0},"unopened":[],"bounds":{"document_bytes":16777216,"sheet_cells":100000,"rows_first":2000,"rows_last":500,"rows_between":2000,"halvings":0,"cell_chars":16384,"cell_head_chars":4096},"cells_cut":0,"cells_raw":0,"read":"whole","date_system":"1900"}

{"sheet":"Hinweise_Impressum","index":0,"n_rows":21,"n_cols":2,"rows_kept":21,"cut":false,"hidden":false,"merged":[[3,0,3,3],[6,0,6,3],[8,0,8,3]]}
[]
[]
[]
[]
["Haftungsausschluss / AGB"," "]
[]
["Der NWB Verlag übernimmt keine Gewähr und keine Haftung für die Richtigkeit der Ergebnisse."]
[]
["Im Übrigen gelten die aktuellen AGB der NWB Datenbank und des NWB Verlages."]
[]
["Impressum"]
[]
["NWB Verlag GmbH & Co. KG"]
["AG Bochum HRA 5124"]
["Eschstr. 22 · 44629 Herne"]
["Fon 02323.141-900 · Fax 02323.141-123"]
["E-Mail: info@nwb.de"]
["Internet: www.nwb.de"]
[]
[]
["Alle Rechte vorbehalten. Vervielfältigungen nur mit Zustimmung des Verlages."]

{"sheet":"Modell","index":1,"n_rows":53,"n_cols":18,"rows_kept":53,"cut":false,"hidden":false,"merged":[[8,12,8,17],[9,10,14,10]]}
[]
[]
[]
[]
[]
[]
[]
[]
[null,null,"Unternehmensspezifische Einflußfaktoren",null,null,null,null,null,null,null,null,null,"Zinssatz (Kalkulationszins)"]
[null,null,null,null,null,null,null,null,null,null,"Nutzungsdauer (Jahre)",null,0.04,0.06,0.08,0.1,0.12,0.14000000000000001]
[null,null,"Investierte Summe",null,140000,"Euro",null,null,null,null,null,6,{"$f":"'.'!E8","v":-4.5425221675154418E-3},{"$f":"'.'!G8","v":-6.4837064143302972E-3},{"$f":"'.'!I8","v":-8.2340574207275547E-3},{"$f":"'.'!K8","v":-9.8124817056742687E-3},{"$f":"'.'!M8","v":-1.123582989645959E-2},{"$f":"'.'!O8","v":-1.2519143057864347E-2}]
[null,null,"Zinssatz",null,{"$f":"J12/100","v":0.1},"Prozent",null,null,null,10,null,8,{"$f":"'.'!E10","v":-9.8695488841406311E-3},{"$f":"'.'!G10","v":-1.3918026546513059E-2},{"$f":"'.'!I10","v":-1.7470438505782126E-2},{"$f":"'.'!K10","v":-2.0586312812851341E-2},{"$f":"'.'!M10","v":-2.3317491999019061E-2},{"$f":"'.'!O10","v":-2.5709209072650327E-2}]
[null,null,"Steuersatz (Multifaktor)",null,{"$f":"J13/100","v":0.28000000000000003},"Prozent",null,null,null,28,null,10,{"$f":"'.'!E12","v":-1.5776389848359152E-2},{"$f":"'.'!G12","v":-2.2002357361368824E-2},{"$f":"'.'!I12","v":-2.7326507285517623E-2},{"$f":"'.'!K12","v":-3.1874674219874312E-2},{"$f":"'.'!M12","v":-3.575402426801904E-2},{"$f":"'.'!O12","v":-3.9056027861990562E-2}]
[null,null,"Nutzungsdauer",null,{"$f":"J14","v":7},"Jahre",null,null,null,7,null,12,{"$f":"'.'!E14","v":-1.7930639772508666E-2},{"$f":"'.'!G14","v":-2.4729696205759856E-2},{"$f":"'.'!I14","v":-3.0389800412458156E-2},{"$f":"'.'!K14","v":-3.5091746062867239E-2},{"$f":"'.'!M14","v":-3.8986121677921114E-2},{"$f":"'.'!O14","v":-4.2198682887409411E-2}]
[null,null,"Vorherige degressive Afa",null,{"$f":"J15/100","v":0.3},"Prozent",null,null,null,30,null,14,{"$f":"'.'!E16","v":-1.9998978702409756E-2},{"$f":"'.'!G16","v":-2.7279985219649951E-2},{"$f":"'.'!I16","v":-3.3176298622432966E-2},{"$f":"'.'!K16","v":-3.7933884031685253E-2},{"$f":"'.'!M16","v":-4.1753098937775866E-2},{"$f":"'.'!O16","v":-4.4797636758657486E-2}]
[]
[]
[]
[]
[]
[]
[null,null,"Barwertige Vorteilhaftigkeitseinbuße ",null,null,{"$f":"(Abschreibungsbarwert(-1,E14,E12,E13)-Abschreibungsbarwert(E15,E14,E12,E13))*E13","v":-1.5045607208230864E-2},"Prozent"]
[null,null,"(in % der Investitionssumme)"]
[]
[null,null,"Vorteilhaftigkeitseinbuße in Euro",null,null,{"$f":"E11*F22","v":-2106.3850091523209},"Euro"]
[]
[]
[]
[]
[]
[null,null,"•  alle Zahlungen erfolgen zum Jahresende"]
[null,null,"•  bei degressiver Abschreibung wird regulärer (optimaler) "]
[null,null,"   Wechsel von degressiver auf lineare Abschreibung realisiert"]
[null,null,"•  Annahme, dass der Restbuchwert gleich Null ist"]
[null,null,"•  grobe Vereinfachung der Besteuerung in Form eines"]
[null,null,"   linearen \"Steuermultifaktors\" (als durchschnittliche Belastung)"]
[null,null,"•  Betrachtung einer Kapitalgesellschaft oder einer Personen-"]
[null,null,"   gesellschaft, deren Gesellschafter den Spitzensteuersatz"]
[null,null,"   zahlen"]
[null,null,"•  Unternehmen erzielt über den gesamten Zeitraum in toto"]
[null,null,"   (zu versteuernde) Gewinne"]
[null,null,"•  durchgängige Gültigkeit der Parameter über den gesamten"]
[null,null,"   Betrachtungszeitraum (keine Zinssatzänderung, keine Steuer-"]
[null,null,"   satzänderung ...) "]
[null,null,"•  rein pagatorisches Modell"]
[]
[]
[]
[]
[]
[]
[null,null,"Schmitting, W. (2007): Ein neuer Höchstsatz der degressiven Abschreibung - ein wirksamer Investitionsanreiz?,"]
[null,null,"in: Zeitschrift für Planung  & Unternehmenssteuerung, 18. Jg. (2007), Heft 1 (April), S. 109-121."]

{"sheet":"..","index":2,"n_rows":8,"n_cols":10,"rows_kept":8,"cut":false,"hidden":true,"merged":[]}
["Parameter "]
[]
[]
["Zinssatz",{"$f":"Modell!E12","v":0.1},"Prozent",null,null,null,null,null,null,7]
["Steuersatz",{"$f":"Modell!E13","v":0.28000000000000003},"Prozent",null,null,null,null,null,null,45]
["Nutzungsdauer",{"$f":"Modell!E14","v":7},"Jahre",null,null,null,null,null,null,7]
["Buchwertabschreibung",{"$f":"Modell!E15","v":0.3},"Prozent",null,null,null,null,null,null,20]
[null,null,null,null,null,null,null,null,null,20]

{"sheet":".","index":3,"n_rows":41,"n_cols":26,"rows_kept":41,"cut":false,"hidden":true,"merged":[]}
["ND","Zins"]
[null,0.01,0.02,0.03,0.04,0.05,0.06,7.0000000000000007E-2,0.08,0.09,0.1,0.11,0.12,0.13,0.14000000000000001,0.15,0.16,0.17,0.18,0.19,0.2,0.21,0.22,0.23,0.24,0.25]
[1,{"$f":"(Abschreibungsbarwert(-1,$A3,B$2,'..'!$B$5)-Abschreibungsbarwert('..'!$B$7,'.'!$A3,'.'!B$2,'..'!$B$5))*'..'!$B$5","v":0},{"$f":"(Abschreibungsbarwert(-1,$A3,C$2,'..'!$B$5)-Abschreibungsbarwert('..'!$B$7,'.'!$A3,'.'!C$2,'..'!$B$5))*'..'!$B$5","v":0},{"$f":"(Abschreibungsbarwert(-1,$A3,D$2,'..'!$B$5)-Abschreibungsbarwert('..'!$B$7,'.'!$A3,'.'!D$2,'..'!$B$5))*'..'!$B$5","v":0},{"$f":"(Abschreibungsbarwert(-1,$A3,E$2,'..'!$B$5)-Abschreibungsbarwert('..'!$B$7,'.'!$A3,'.'!E$2,'..'!$B$5))*'..'!$B$5","v":0},{"$f":"(Abschreibungsbarwert(-1,$A3,F$2,'..'!$B$5)-Abschreibungsbarwert('..'!$B$7,'.'!$A3,'.'!F$2,'..'!$B$5))*'..'!$B$5","v":0},{"$f":"(Abschreibungsbarwert(-1,$A3,G$2,'..'!$B$5)-Abschreibungsbarwert('..'!$B$7,'.'!$A3,'.'!G$2,'..'!$B$5))*'..'!$B$5","v":0},{"$f":"(Abschreibungsbarwert(-1,$A3,H$2,'..'!$B$5)-Abschreibungsbarwert('..'!$B$7,'.'!$A3,'.'!H$2,'..'!$B$5))*'..'!$B$5","v":0},{"$f":"(Abschreibungsbarwert(-1,$A3,I$2,'..'!$B$5)-Abschreibungsbarwert('..'!$B$7,'.'!$A3,'.'!I$2,'..'!$B$5))*'..'!$B$5","v":0},{"$f":"(Abschreibungsbarwert(-1,$A3,J$2,'..'!$B$5)-Abschreibungsbarwert('..'!$B$7,'.'!$A3,'.'!J$2,'..'!$B$5))*'..'!$B$5","v":0},{"$f":"(Abschreibungsbarwert(-1,$A3,K$2,'..'!$B$5)-Abschreibungsbarwert('..'!$B$7,'.'!$A3,'.'!K$2,'..'!$B$5))*'..'!$B$5","v":0},{"$f":"(Abschreibungsbarwert(-1,$A3,L$2,'..'!$B$5)-Abschreibungsbarwert('..'!$B$7,'.'!$A3,'.'!L$2,'..'!$B$5))*'..'!$B$5","v":0},{"$f":"(Abschreibungsbarwert(-1,$A3,M$2,'..'!$B$5)-Abschreibungsbarwert('..'!$B$7,'.'!$A3,'.'!M$2,'..'!$B$5))*'..'!$B$5","v":0},{"$f":"(Abschreibungsbarwert(-1,$A3,N$2,'..'!$B$5)-Abschreibungsbarwert('..'!$B$7,'.'!$A3,'.'!N$2,'..'!$B$5))*'..'!$B$5","v":0},{"$f":"(Abschreibungsbarwert(-1,$A3,O$2,'..'!$B$5)-Abschreibungsbarwert('..'!$B$7,'.'!$A3,'.'!O$2,'..'!$B$5))*'..'!$B$5","v":0},{"$f":"(Abschreibungsbarwert(-1,$A3,P$2,'..'!$B$5)-Abschreibungsbarwert('..'!$B$7,'.'!$A3,'.'!P$2,'..'!$B$5))*'..'!$B$5","v":0},{"$f":"(Abschreibungsbarwert(-1,$A3,Q$2,'..'!$B$5)-Abschreibungsbarwert('..'!$B$7,'.'!$A3,'.'!Q$2,'..'!$B$5))*'..'!$B$5","v":0},{"$f":"(Abschreibungsbarwert(-1,$A3,R$2,'..'!$B$5)-Abschreibungsbarwert('..'!$B$7,'.'!$A3,'.'!R$2,'..'!$B$5))*'..'!$B$5","v":0},{"$f":"(Abschreibungsbarwert(-1,$A3,S$2,'..'!$B$5)-Abschreibungsbarwert('..'!$B$7,'.'!$A3,'.'!S$2,'..'!$B$5))*'..'!$B$5","v":0},{"$f":"(Abschreibungsbarwert(-1,$A3,T$2,'..'!$B$5)-Abschreibungsbarwert('..'!$B$7,'.'!$A3,'.'!T$2,'..'!$B$5))*'..'!$B$5","v":0},{"$f":"(Abschreibungsbarwert(-1,$A3,U$2,'..'!$B$5)-Abschreibungsbarwert('..'!$B$7,'.'!$A3,'.'!U$2,'..'!$B$5))*'..'!$B$5","v":0},{"$f":"(Abschreibungsbarwert(-1,$A3,V$2,'..'!$B$5)-Abschreibungsbarwert('..'!$B$7,'.'!$A3,'.'!V$2,'..'!$B$5))*'..'!$B$5","v":0},{"$f":"(Abschreibungsbarwert(-1,$A3,W$2,'..'!$B$5)-Abschreibungsbarwert('..'!$B$7,'.'!$A3,'.'!W$2,'..'!$B$5))*'..'!$B$5","v":0},{"$f":"(Abschreibungsbarwert(-1,$A3,X$2,'..'!$B$5)-Abschreibungsbarwert('..'!$B$7,'.'!$A3,'.'!X$2,'..'!$B$5))*'..'!$B$5","v":0},{"$f":"(Abschreibungsbarwert(-1,$A3,Y$2,'..'!$B$5)-Abschreibungsbarwert('..'!$B$7,'.'!$A3,'.'!Y$2,'..'!$B$5))*'..'!$B$5","v":0},{"$f":"(Abschreibungsbarwert(-1,$A3,Z$2,'..'!$B$5)-Abschreibungsbarwert('..'!$B$7,'.'!$A3,'.'!Z$2,'..'!$B$5))*'..'!$B$5","v":0}]
[2,{"$f":"(Abschreibungsbarwert(-1,$A4,B$2,'..'!$B$5)-Abschreibungsbarwert('..'!$B$7,'.'!$A4,'.'!B$2,'..'!$B$5))*'..'!$B$5","v":0},{"$f":"(Abschreibungsbarwert(-1,$A4,C$2,'..'!$B$5)-Abschreibungsbarwert('..'!$B$7,'.'!$A4,'.'!C$2,'..'!$B$5))*'..'!$B$5","v":0},{"$f":"(Abschreibungsbarwert(-1,$A4,D$2,'..'!$B$5)-Abschreibungsbarwert('..'!$B$7,'.'!$A4,'.'!D$2,'..'!$B$5))*'..'!$B$5","v":0},{"$f":"(Abschreibungsbarwert(-1,$A4,E$2,'..'!$B$5)-Abschreibungsbarwert('..'!$B$7,'.'!$A4,'.'!E$2,'..'!$B$5))*'..'!$B$5","v":0},{"$f":"(Abschreibungsbarwert(-1,$A4,F$2,'..'!$B$5)-Abschreibungsbarwert('..'!$B$7,'.'!$A4,'.'!F$2,'..'!$B$5))*'..'!$B$5","v":0},{"$f":"(Abschreibungsbarwert(-1,$A4,G$2,'..'!$B$5)-Abschreibungsbarwert('..'!$B$7,'.'!$A4,'.'!G$2,'..'!$B$5))*'..'!$B$5","v":0},{"$f":"(Abschreibungsbarwert(-1,$A4,H$2,'..'!$B$5)-Abschreibungsbarwert('..'!$B$7,'.'!$A4,'.'!H$2,'..'!$B$5))*'..'!$B$5","v":0},{"$f":"(Abschreibungsbarwert(-1,$A4,I$2,'..'!$B$5)-Abschreibungsbarwert('..'!$B$7,'.'!$A4,'.'!I$2,'..'!$B$5))*'..'!$B$5","v":0},{"$f":"(Abschreibungsbarwert(-1,$A4,J$2,'..'!$B$5)-Abschreibungsbarwert('..'!$B$7,'.'!$A4,'.'!J$2,'..'!$B$5))*'..'!$B$5","v":0},{"$f":"(Abschreibungsbarwert(-1,$A4,K$2,'..'!$B$5)-Abschreibungsbarwert('..'!$B$7,'.'!$A4,'.'!K$2,'..'!$B$5))*'..'!$B$5","v":0},{"$f":"(Abschreibungsbarwert(-1,$A4,L$2,'..'!$B$5)-Abschreibungsbarwert('..'!$B$7,'.'!$A4,'.'!L$2,'..'!$B$5))*'..'!$B$5","v":0},{"$f":"(Abschreibungsbarwert(-1,$A4,M$2,'..'!$B$5)-Abschreibungsbarwert('..'!$B$7,'.'!$A4,'.'!M$2,'..'!$B$5))*'..'!$B$5","v":0},{"$f":"(Abschreibungsbarwert(-1,$A4,N$2,'..'!$B$5)-Abschreibungsbarwert('..'!$B$7,'.'!$A4,'.'!N$2,'..'!$B$5))*'..'!$B$5","v":0},{"$f":"(Abschreibungsbarwert(-1,$A4,O$2,'..'!$B$5)-Abschreibungsbarwert('..'!$B$7,'.'!$A4,'.'!O$2,'..'!$B$5))*'..'!$B$5","v":0},{"$f":"(Abschreibungsbarwert(-1,$A4,P$2,'..'!$B$5)-Abschreibungsbarwert('..'!$B$7,'.'!$A4,'.'!P$2,'..'!$B$5))*'..'!$B$5","v":0},{"$f":"(Abschreibungsbarwert(-1,$A4,Q$2,'..'!$B$5)-Abschreibungsbarwert('..'!$B$7,'.'!$A4,'.'!Q$2,'..'!$B$5))*'..'!$B$5","v":0},{"$f":"(Abschreibungsbarwert(-1,$A4,R$2,'..'!$B$5)-Abschreibungsbarwert('..'!$B$7,'.'!$A4,'.'!R$2,'..'!$B$5))*'..'!$B$5","v":0},{"$f":"(Abschreibungsbarwert(-1,$A4,S$2,'..'!$B$5)-Abschreibungsbarwert('..'!$B$7,'.'!$A4,'.'!S$2,'..'!$B$5))*'..'!$B$5","v":0},{"$f":"(Abschreibungsbarwert(-1,$A4,T$2,'..'!$B$5)-Abschreibungsbarwert('..'!$B$7,'.'!$A4,'.'!T$2,'..'!$B$5))*'..'!$B$5","v":0},{"$f":"(Abschreibungsbarwert(-1,$A4,U$2,'..'!$B$5)-Abschreibungsbarwert('..'!$B$7,'.'!$A4,'.'!U$2,'..'!$B$5))*'..'!$B$5","v":0},{"$f":"(Abschreibungsbarwert(-1,$A4,V$2,'..'!$B$5)-Abschreibungsbarwert('..'!$B$7,'.'!$A4,'.'!V$2,'..'!$B$5))*'..'!$B$5","v":0},{"$f":"(Abschreibungsbarwert(-1,$A4,W$2,'..'!$B$5)-Abschreibungsbarwert('..'!$B$7,'.'!$A4,'.'!W$2,'..'!$B$5))*'..'!$B$5","v":0},{"$f":"(Abschreibungsbarwert(-1,$A4,X$2,'..'!$B$5)-Abschreibungsbarwert('..'!$B$7,'.'!$A4,'.'!X$2,'..'!$B$5))*'..'!$B$5","v":0},{"$f":"(Abschreibungsbarwert(-1,$A4,Y$2,'..'!$B$5)-Abschreibungsbarwert('..'!$B$7,'.'!$A4,'.'!Y$2,'..'!$B$5))*'..'!$B$5","v":0},{"$f":"(Abschreibungsbarwert(-1,$A4,Z$2,'..'!$B$5)-Abschreibungsbarwert('..'!$B$7,'.'!$A4,'.'!Z$2,'..'!$B$5))*'..'!$B$5","v":0}]
[3,{"$f":"(Abschreibungsbarwert(-1,$A5,B$2,'..'!$B$5)-Abschreibungsbarwert('..'!$B$7,'.'!$A5,'.'!B$2,'..'!$B$5))*'..'!$B$5","v":-3.1086244689504386E-17},{"$f":"(Abschreibungsbarwert(-1,$A5,C$2,'..'!$B$5)-Abschreibungsbarwert('..'!$B$7,'.'!$A5,'.'!C$2,'..'!$B$5))*'..'!$B$5","v":-3.1086244689504386E-17},{"$f":"(Abschreibungsbarwert(-1,$A5,D$2,'..'!$B$5)-Abschreibungsbarwert('..'!$B$7,'.'!$A5,'.'!D$2,'..'!$B$5))*'..'!$B$5","v":0},{"$f":"(Abschreibungsbarwert(-1,$A5,E$2,'..'!$B$5)-Abschreibungsbarwert('..'!$B$7,'.'!$A5,'.'!E$2,'..'!$B$5))*'..'!$B$5","v":0},{"$f":"(Abschreibungsbarwert(-1,$A5,F$2,'..'!$B$5)-Abschreibungsbarwert('..'!$B$7,'.'!$A5,'.'!F$2,'..'!$B$5))*'..'!$B$5","v":-3.1086244689504386E-17},{"$f":"(Abschreibungsbarwert(-1,$A5,G$2,'..'!$B$5)-Abschreibungsbarwert('..'!$B$7,'.'!$A5,'.'!G$2,'..'!$B$5))*'..'!$B$5","v":-3.1086244689504386E-17},{"$f":"(Abschreibungsbarwert(-1,$A5,H$2,'..'!$B$5)-Abschreibungsbarwert('..'!$B$7,'.'!$A5,'.'!H$2,'..'!$B$5))*'..'!$B$5","v":0},{"$f":"(Abschreibungsbarwert(-1,$A5,I$2,'..'!$B$5)-Abschreibungsbarwert('..'!$B$7,'.'!$A5,'.'!I$2,'..'!$B$5))*'..'!$B$5","v":-3.1086244689504386E-17},{"$f":"(Abschreibungsbarwert(-1,$A5,J$2,'..'!$B$5)-Abschreibungsbarwert('..'!$B$7,'.'!$A5,'.'!J$2,'..'!$B$5))*'..'!$B$5","v":-3.1086244689504386E-17},{"$f":"(Abschreibungsbarwert(-1,$A5,K$2,'..'!$B$5)-Abschreibungsbarwert('..'!$B$7,'.'!$A5,'.'!K$2,'..'!$B$5))*'..'!$B$5","v":-3.1086244689504386E-17},{"$f":"(Abschreibungsbarwert(-1,$A5,L$2,'..'!$B$5)-Abschreibungsbarwert('..'!$B$7,'.'!$A5,'.'!L$2,'..'!$B$5))*'..'!$B$5","v":0},{"$f":"(Abschreibungsbarwert(-1,$A5,M$2,'..'!$B$5)-Abschreibungsbarwert('..'!$B$7,'.'!$A5,'.'!M$2,'..'!$B$5))*'..'!$B$5","v":0},{"$f":"(Abschreibungsbarwert(-1,$A5,N$2,'..'!$B$5)-Abschreibungsbarwert('..'!$B$7,'.'!$A5,'.'!N$2,'..'!$B$5))*'..'!$B$5","v":-3.1086244689504386E-17},{"$f":"(Abschreibungsbarwert(-1,$A5,O$2,'..'!$B$5)-Abschreibungsbarwert('..'!$B$7,'.'!$A5,'.'!O$2,'..'!$B$5))*'..'!$B$5","v":-3.1086244689504386E-17},{"$f":"(Abschreibungsbarwert(-1,$A5,P$2,'..'!$B$5)-Abschreibungsbarwert('..'!$B$7,'.'!$A5,'.'!P$2,'..'!$B$5))*'..'!$B$5","v":-6.2172489379008772E-17},{"$f":"(Abschreibungsbarwert(-1,$A5,Q$2,'..'!$B$5)-Abschreibungsbarwert('..'!$B$7,'.'!$A5,'.'!Q$2,'..'!$B$5))*'..'!$B$5","v":-6.2172489379008772E-17},{"$f":"(Abschreibungsbarwert(-1,$A5,R$2,'..'!$B$5)-Abschreibungsbarwert('..'!$B$7,'.'!$A5,'.'!R$2,'..'!$B$5))*'..'!$B$5","v":0},{"$f":"(Abschreibungsbarwert(-1,$A5,S$2,'..'!$B$5)-Abschreibungsbarwert('..'!$B$7,'.'!$A5,'.'!S$2,'..'!$B$5))*'..'!$B$5","v":0},{"$f":"(Abschreibungsbarwert(-1,$A5,T$2,'..'!$B$5)-Abschreibungsbarwert('..'!$B$7,'.'!$A5,'.'!T$2,'..'!$B$5))*'..'!$B$5","v":0},{"$f":"(Abschreibungsbarwert(-1,$A5,U$2,'..'!$B$5)-Abschreibungsbarwert('..'!$B$7,'.'!$A5,'.'!U$2,'..'!$B$5))*'..'!$B$5","v":-3.1086244689504386E-17},{"$f":"(Abschreibungsbarwert(-1,$A5,V$2,'..'!$B$5)-Abschreibungsbarwert('..'!$B$7,'.'!$A5,'.'!V$2,'..'!$B$5))*'..'!$B$5","v":-6.2172489379008772E-17},{"$f":"(Abschreibungsbarwert(-1,$A5,W$2,'..'!$B$5)-Abschreibungsbarwert('..'!$B$7,'.'!$A5,'.'!W$2,'..'!$B$5))*'..'!$B$5","v":0},{"$f":"(Abschreibungsbarwert(-1,$A5,X$2,'..'!$B$5)-Abschreibungsbarwert('..'!$B$7,'.'!$A5,'.'!X$2,'..'!$B$5))*'..'!$B$5","v":-3.1086244689504386E-17},{"$f":"(Abschreibungsbarwert(-1,$A5,Y$2,'..'!$B$5)-Abschreibungsbarwert('..'!$B$7,'.'!$A5,'.'!Y$2,'..'!$B$5))*'..'!$B$5","v":-3.1086244689504386E-17},{"$f":"(Abschreibungsbarwert(-1,$A5,Z$2,'..'!$B$5)-Abschreibungsbarwert('..'!$B$7,'.'!$A5,'.'!Z$2,'..'!$B$5))*'..'!$B$5","v":0}]
[4,{"$f":"(Abschreibungsbarwert(-1,$A6,B$2,'..'!$B$5)-Abschreibungsbarwert('..'!$B$7,'.'!$A6,'.'!B$2,'..'!$B$5))*'..'!$B$5","v":-1.9778263155407317E-4},{"$f":"(Abschreibungsbarwert(-1,$A6,C$2,'..'!$B$5)-Abschreibungsbarwert('..'!$B$7,'.'!$A6,'.'!C$2,'..'!$B$5))*'..'!$B$5","v":-3.8813888455571991E-4},{"$f":"(Abschreibungsbarwert(-1,$A6,D$2,'..'!$B$5)-Abschreibungsbarwert('..'!$B$7,'.'!$A6,'.'!D$2,'..'!$B$5))*'..'!$B$5","v":-5.7137030541787759E-4},{"$f":"(Abschreibungsbarwert(-1,$A6,E$2,'..'!$B$5)-Abschreibungsbarwert('..'!$B$7,'.'!$A6,'.'!E$2,'..'!$B$5))*'..'!$B$5","v":-7.4776441130371303E-4},{"$f":"(Abschreibungsbarwert(-1,$A6,F$2,'..'!$B$5)-Abschreibungsbarwert('..'!$B$7,'.'!$A6,'.'!F$2,'..'!$B$5))*'..'!$B$5","v":-9.175954330199155E-4},{"$f":"(Abschreibungsbarwert(-1,$A6,G$2,'..'!$B$5)-Abschreibungsbarwert('..'!$B$7,'.'!$A6,'.'!G$2,'..'!$B$5))*'..'!$B$5","v":-1.0811250137319917E-3},{"$f":"(Abschreibungsbarwert(-1,$A6,H$2,'..'!$B$5)-Abschreibungsbarwert('..'!$B$7,'.'!$A6,'.'!H$2,'..'!$B$5))*'..'!$B$5","v":-1.2386028664160211E-3},{"$f":"(Abschreibungsbarwert(-1,$A6,I$2,'..'!$B$5)-Abschreibungsbarwert('..'!$B$7,'.'!$A6,'.'!I$2,'..'!$B$5))*'..'!$B$5","v":-1.3902673927482347E-3},{"$f":"(Abschreibungsbarwert(-1,$A6,J$2,'..'!$B$5)-Abschreibungsbarwert('..'!$B$7,'.'!$A6,'.'!J$2,'..'!$B$5))*'..'!$B$5","v":-1.536346265941453E-3},{"$f":"(Abschreibungsbarwert(-1,$A6,K$2,'..'!$B$5)-Abschreibungsbarwert('..'!$B$7,'.'!$A6,'.'!K$2,'..'!$B$5))*'..'!$B$5","v":-1.6770569798573299E-3},{"$f":"(Abschreibungsbarwert(-1,$A6,L$2,'..'!$B$5)-Abschreibungsbarwert('..'!$B$7,'.'!$A6,'.'!L$2,'..'!$B$5))*'..'!$B$5","v":-1.8126073665593137E-3},{"$f":"(Abschreibungsbarwert(-1,$A6,M$2,'..'!$B$5)-Abschreibungsbarwert('..'!$B$7,'.'!$A6,'.'!M$2,'..'!$B$5))*'..'!$B$5","v":-1.9431960843168874E-3},{"$f":"(Abschreibungsbarwert(-1,$A6,N$2,'..'!$B$5)-Abschreibungsbarwert('..'!$B$7,'.'!$A6,'.'!N$2,'..'!$B$5))*'..'!$B$5","v":-2.0690130779337903E-3},{"$f":"(Abschreibungsbarwert(-1,$A6,O$2,'..'!$B$5)-Abschreibungsbarwert('..'!$B$7,'.'!$A6,'.'!O$2,'..'!$B$5))*'..'!$B$5","v":-2.1902400131396152E-3},{"$f":"(Abschreibungsbarwert(-1,$A6,P$2,'..'!$B$5)-Abschreibungsbarwert('..'!$B$7,'.'!$A6,'.'!P$2,'..'!$B$5))*'..'!$B$5","v":-2.3070506866668962E-3},{"$f":"(Abschreibungsbarwert(-1,$A6,Q$2,'..'!$B$5)-Abschreibungsbarwert('..'!$B$7,'.'!$A6,'.'!Q$2,'..'!$B$5))*'..'!$B$5","v":-2.4196114135222094E-3},{"$f":"(Abschreibungsbarwert(-1,$A6,R$2,'..'!$B$5)-Abschreibungsbarwert('..'!$B$7,'.'!$A6,'.'!R$2,'..'!$B$5))*'..'!$B$5","v":-2.5280813928598937E-3},{"$f":"(Abschreibungsbarwert(-1,$A6,S$2,'..'!$B$5)-Abschreibungsbarwert('..'!$B$7,'.'!$A6,'.'!S$2,'..'!$B$5))*'..'!$B$5","v":-2.6326130537673146E-3},{"$f":"(Abschreibungsbarwert(-1,$A6,T$2,'..'!$B$5)-Abschreibungsbarwert('..'!$B$7,'.'!$A6,'.'!T$2,'..'!$B$5))*'..'!$B$5","v":-2.7333523821875842E-3},{"$f":"(Abschreibungsbarwert(-1,$A6,U$2,'..'!$B$5)-Abschreibungsbarwert('..'!$B$7,'.'!$A6,'.'!U$2,'..'!$B$5))*'..'!$B$5","v":-2.8304392301195459E-3},{"$f":"(Abschreibungsbarwert(-1,$A6,V$2,'..'!$B$5)-Abschreibungsbarwert('..'!$B$7,'.'!$A6,'.'!V$2,'..'!$B$5))*'..'!$B$5","v":-2.9240076081614723E-3},{"$f":"(Abschreibungsbarwert(-1,$A6,W$2,'..'!$B$5)-Abschreibungsbarwert('..'!$B$7,'.'!$A6,'.'!W$2,'..'!$B$5))*'..'!$B$5","v":-3.0141859623935697E-3},{"$f":"(Abschreibungsbarwert(-1,$A6,X$2,'..'!$B$5)-Abschreibungsbarwert('..'!$B$7,'.'!$A6,'.'!X$2,'..'!$B$5))*'..'!$B$5","v":-3.1010974365297452E-3},{"$f":"(Abschreibungsbarwert(-1,$A6,Y$2,'..'!$B$5)-Abschreibungsbarwert('..'!$B$7,'.'!$A6,'.'!Y$2,'..'!$B$5))*'..'!$B$5","v":-3.1848601202071696E-3},{"$f":"(Abschreibungsbarwert(-1,$A6,Z$2,'..'!$B$5)-Abschreibungsbarwert('..'!$B$7,'.'!$A6,'.'!Z$2,'..'!$B$5))*'..'!$B$5","v":-3.2655872842279224E-3}]
[5,{"$f":"(Abschreibungsbarwert(-1,$A7,B$2,'..'!$B$5)-Abschreibungsbarwert('..'!$B$7,'.'!$A7,'.'!B$2,'..'!$B$5))*'..'!$B$5","v":-6.307393225319436E-4},{"$f":"(Abschreibungsbarwert(-1,$A7,C$2,'..'!$B$5)-Abschreibungsbarwert('..'!$B$7,'.'!$A7,'.'!C$2,'..'!$B$5))*'..'!$B$5","v":-1.2336177905329171E-3},{"$f":"(Abschreibungsbarwert(-1,$A7,D$2,'..'!$B$5)-Abschreibungsbarwert('..'!$B$7,'.'!$A7,'.'!D$2,'..'!$B$5))*'..'!$B$5","v":-1.8099326559172148E-3},{"$f":"(Abschreibungsbarwert(-1,$A7,E$2,'..'!$B$5)-Abschreibungsbarwert('..'!$B$7,'.'!$A7,'.'!E$2,'..'!$B$5))*'..'!$B$5","v":-2.3609132206001472E-3},{"$f":"(Abschreibungsbarwert(-1,$A7,F$2,'..'!$B$5)-Abschreibungsbarwert('..'!$B$7,'.'!$A7,'.'!F$2,'..'!$B$5))*'..'!$B$5","v":-2.8877248316764395E-3},{"$f":"(Abschreibungsbarwert(-1,$A7,G$2,'..'!$B$5)-Abschreibungsbarwert('..'!$B$7,'.'!$A7,'.'!G$2,'..'!$B$5))*'..'!$B$5","v":-3.391472615667497E-3},{"$f":"(Abschreibungsbarwert(-1,$A7,H$2,'..'!$B$5)-Abschreibungsbarwert('..'!$B$7,'.'!$A7,'.'!H$2,'..'!$B$5))*'..'!$B$5","v":-3.8732049705717314E-3},{"$f":"(Abschreibungsbarwert(-1,$A7,I$2,'..'!$B$5)-Abschreibungsbarwert('..'!$B$7,'.'!$A7,'.'!I$2,'..'!$B$5))*'..'!$B$5","v":-4.3339168329836449E-3},{"$f":"(Abschreibungsbarwert(-1,$A7,J$2,'..'!$B$5)-Abschreibungsbarwert('..'!$B$7,'.'!$A7,'.'!J$2,'..'!$B$5))*'..'!$B$5","v":-4.7745527362095261E-3},{"$f":"(Abschreibungsbarwert(-1,$A7,K$2,'..'!$B$5)-Abschreibungsbarwert('..'!$B$7,'.'!$A7,'.'!K$2,'..'!$B$5))*'..'!$B$5","v":-5.1960096740779485E-3},{"$f":"(Abschreibungsbarwert(-1,$A7,L$2,'..'!$B$5)-Abschreibungsbarwert('..'!$B$7,'.'!$A7,'.'!L$2,'..'!$B$5))*'..'!$B$5","v":-5.5991397840166809E-3},{"$f":"(Abschreibungsbarwert(-1,$A7,M$2,'..'!$B$5)-Abschreibungsbarwert('..'!$B$7,'.'!$A7,'.'!M$2,'..'!$B$5))*'..'!$B$5","v":-5.9847528619370576E-3},{"$f":"(Abschreibungsbarwert(-1,$A7,N$2,'..'!$B$5)-Abschreibungsbarwert('..'!$B$7,'.'!$A7,'.'!N$2,'..'!$B$5))*'..'!$B$5","v":-6.3536187205161191E-3},{"$f":"(Abschreibungsbarwert(-1,$A7,O$2,'..'!$B$5)-Abschreibungsbarwert('..'!$B$7,'.'!$A7,'.'!O$2,'..'!$B$5))*'..'!$B$5","v":-6.7064694015982083E-3},{"$f":"(Abschreibungsbarwert(-1,$A7,P$2,'..'!$B$5)-Abschreibungsbarwert('..'!$B$7,'.'!$A7,'.'!P$2,'..'!$B$5))*'..'!$B$5","v":-7.0440012526384842E-3},{"$f":"(Abschreibungsbarwert(-1,$A7,Q$2,'..'!$B$5)-Abschreibungsbarwert('..'!$B$7,'.'!$A7,'.'!Q$2,'..'!$B$5))*'..'!$B$5","v":-7.3668768763739678E-3},{"$f":"(Abschreibungsbarwert(-1,$A7,R$2,'..'!$B$5)-Abschreibungsbarwert('..'!$B$7,'.'!$A7,'.'!R$2,'..'!$B$5))*'..'!$B$5","v":-7.6757269622327769E-3},{"$f":"(Abschreibungsbarwert(-1,$A7,S$2,'..'!$B$5)-Abschreibungsbarwert('..'!$B$7,'.'!$A7,'.'!S$2,'..'!$B$5))*'..'!$B$5","v":-7.9711520073682662E-3},{"$f":"(Abschreibungsbarwert(-1,$A7,T$2,'..'!$B$5)-Abschreibungsbarwert('..'!$B$7,'.'!$A7,'.'!T$2,'..'!$B$5))*'..'!$B$5","v":-8.253723934633618E-3},{"$f":"(Abschreibungsbarwert(-1,$A7,U$2,'..'!$B$5)-Abschreibungsbarwert('..'!$B$7,'.'!$A7,'.'!U$2,'..'!$B$5))*'..'!$B$5","v":-8.5239876142819034E-3},{"$f":"(Abschreibungsbarwert(-1,$A7,V$2,'..'!$B$5)-Abschreibungsbarwert('..'!$B$7,'.'!$A7,'.'!V$2,'..'!$B$5))*'..'!$B$5","v":-8.7824622956916096E-3},{"$f":"(Abschreibungsbarwert(-1,$A7,W$2,'..'!$B$5)-Abschreibungsbarwert('..'!$B$7,'.'!$A7,'.'!W$2,'..'!$B$5))*'..'!$B$5","v":-9.0296429549670924E-3},{"$f":"(Abschreibungsbarwert(-1,$A7,X$2,'..'!$B$5)-Abschreibungsbarwert('..'!$B$7,'.'!$A7,'.'!X$2,'..'!$B$5))*'..'!$B$5","v":-9.266001563849123E-3},{"$f":"(Abschreibungsbarwert(-1,$A7,Y$2,'..'!$B$5)-Abschreibungsbarwert('..'!$B$7,'.'!$A7,'.'!Y$2,'..'!$B$5))*'..'!$B$5","v":-9.4919882849896949E-3},{"$f":"(Abschreibungsbarwert(-1,$A7,Z$2,'..'!$B$5)-Abschreibungsbarwert('..'!$B$7,'.'!$A7,'.'!Z$2,'..'!$B$5))*'..'!$B$5","v":-9.7080325982877164E-3}]
[6,{"$f":"(Abschreibungsbarwert(-1,$A8,B$2,'..'!$B$5)-Abschreibungsbarwert('..'!$B$7,'.'!$A8,'.'!B$2,'..'!$B$5))*'..'!$B$5","v":-1.2257372833278969E-3},{"$f":"(Abschreibungsbarwert(-1,$A8,C$2,'..'!$B$5)-Abschreibungsbarwert('..'!$B$7,'.'!$A8,'.'!C$2,'..'!$B$5))*'..'!$B$5","v":-2.3892582259058951E-3},{"$f":"(Abschreibungsbarwert(-1,$A8,D$2,'..'!$B$5)-Abschreibungsbarwert('..'!$B$7,'.'!$A8,'.'!D$2,'..'!$B$5))*'..'!$B$5","v":-3.4938281062598447E-3},{"$f":"(Abschreibungsbarwert(-1,$A8,E$2,'..'!$B$5)-Abschreibungsbarwert('..'!$B$7,'.'!$A8,'.'!E$2,'..'!$B$5))*'..'!$B$5","v":-4.5425221675154418E-3},{"$f":"(Abschreibungsbarwert(-1,$A8,F$2,'..'!$B$5)-Abschreibungsbarwert('..'!$B$7,'.'!$A8,'.'!F$2,'..'!$B$5))*'..'!$B$5","v":-5.538237893928058E-3},{"$f":"(Abschreibungsbarwert(-1,$A8,G$2,'..'!$B$5)-Abschreibungsbarwert('..'!$B$7,'.'!$A8,'.'!G$2,'..'!$B$5))*'..'!$B$5","v":-6.4837064143302972E-3},{"$f":"(Abschreibungsbarwert(-1,$A8,H$2,'..'!$B$5)-Abschreibungsbarwert('..'!$B$7,'.'!$A8,'.'!H$2,'..'!$B$5))*'..'!$B$5","v":-7.3815031002459367E-3},{"$f":"(Abschreibungsbarwert(-1,$A8,I$2,'..'!$B$5)-Abschreibungsbarwert('..'!$B$7,'.'!$A8,'.'!I$2,'..'!$B$5))*'..'!$B$5","v":-8.2340574207275547E-3},{"$f":"(Abschreibungsbarwert(-1,$A8,J$2,'..'!$B$5)-Abschreibungsbarwert('..'!$B$7,'.'!$A8,'.'!J$2,'..'!$B$5))*'..'!$B$5","v":-9.0436621107992787E-3},{"$f":"(Abschreibungsbarwert(-1,$A8,K$2,'..'!$B$5)-Abschreibungsbarwert('..'!$B$7,'.'!$A8,'.'!K$2,'..'!$B$5))*'..'!$B$5","v":-9.8124817056742687E-3},{"$f":"(Abschreibungsbarwert(-1,$A8,L$2,'..'!$B$5)-Abschreibungsbarwert('..'!$B$7,'.'!$A8,'.'!L$2,'..'!$B$5))*'..'!$B$5","v":-1.0542560488623455E-2},{"$f":"(Abschreibungsbarwert(-1,$A8,M$2,'..'!$B$5)-Abschreibungsbarwert('..'!$B$7,'.'!$A8,'.'!M$2,'..'!$B$5))*'..'!$B$5","v":-1.123582989645959E-2},{"$f":"(Abschreibungsbarwert(-1,$A8,N$2,'..'!$B$5)-Abschreibungsbarwert('..'!$B$7,'.'!$A8,'.'!N$2,'..'!$B$5))*'..'!$B$5","v":-1.1894115423031232E-2},{"$f":"(Abschreibungsbarwert(-1,$A8,O$2,'..'!$B$5)-Abschreibungsbarwert('..'!$B$7,'.'!$A8,'.'!O$2,'..'!$B$5))*'..'!$B$5","v":-1.2519143057864347E-2},{"$f":"(Abschreibungsbarwert(-1,$A8,P$2,'..'!$B$5)-Abschreibungsbarwert('..'!$B$7,'.'!$A8,'.'!P$2,'..'!$B$5))*'..'!$B$5","v":-1.3112545294114273E-2},{"$f":"(Abschreibungsbarwert(-1,$A8,Q$2,'..'!$B$5)-Abschreibungsbarwert('..'!$B$7,'.'!$A8,'.'!Q$2,'..'!$B$5))*'..'!$B$5","v":-1.3675866737271385E-2},{"$f":"(Abschreibungsbarwert(-1,$A8,R$2,'..'!$B$5)-Abschreibungsbarwert('..'!$B$7,'.'!$A8,'.'!R$2,'..'!$B$5))*'..'!$B$5","v":-1.4210569343578833E-2},{"$f":"(Abschreibungsbarwert(-1,$A8,S$2,'..'!$B$5)-Abschreibungsbarwert('..'!$B$7,'.'!$A8,'.'!S$2,'..'!$B$5))*'..'!$B$5","v":-1.4718037314844371E-2},{"$f":"(Abschreibungsbarwert(-1,$A8,T$2,'..'!$B$5)-Abschreibungsbarwert('..'!$B$7,'.'!$A8,'.'!T$2,'..'!$B$5))*'..'!$B$5","v":-1.5199581674248936E-2},{"$f":"(Abschreibungsbarwert(-1,$A8,U$2,'..'!$B$5)-Abschreibungsbarwert('..'!$B$7,'.'!$A8,'.'!U$2,'..'!$B$5))*'..'!$B$5","v":-1.5656444545843352E-2},{"$f":"(Abschreibungsbarwert(-1,$A8,V$2,'..'!$B$5)-Abschreibungsbarwert('..'!$B$7,'.'!$A8,'.'!V$2,'..'!$B$5))*'..'!$B$5","v":-1.608980315867832E-2},{"$f":"(Abschreibungsbarwert(-1,$A8,W$2,'..'!$B$5)-Abschreibungsbarwert('..'!$B$7,'.'!$A8,'.'!W$2,'..'!$B$5))*'..'!$B$5","v":-1.6500773594909226E-2},{"$f":"(Abschreibungsbarwert(-1,$A8,X$2,'..'!$B$5)-Abschreibungsbarwert('..'!$B$7,'.'!$A8,'.'!X$2,'..'!$B$5))*'..'!$B$5","v":-1.6890414299744517E-2},{"$f":"(Abschreibungsbarwert(-1,$A8,Y$2,'..'!$B$5)-Abschreibungsbarwert('..'!$B$7,'.'!$A8,'.'!Y$2,'..'!$B$5))*'..'!$B$5","v":-1.7259729369756598E-2},{"$f":"(Abschreibungsbarwert(-1,$A8,Z$2,'..'!$B$5)-Abschreibungsbarwert('..'!$B$7,'.'!$A8,'.'!Z$2,'..'!$B$5))*'..'!$B$5","v":-1.7609671634832125E-2}]
[7,{"$f":"(Abschreibungsbarwert(-1,$A9,B$2,'..'!$B$5)-Abschreibungsbarwert('..'!$B$7,'.'!$A9,'.'!B$2,'..'!$B$5))*'..'!$B$5","v":-1.9319570273512677E-3},{"$f":"(Abschreibungsbarwert(-1,$A9,C$2,'..'!$B$5)-Abschreibungsbarwert('..'!$B$7,'.'!$A9,'.'!C$2,'..'!$B$5))*'..'!$B$5","v":-3.7535553567562244E-3},{"$f":"(Abschreibungsbarwert(-1,$A9,D$2,'..'!$B$5)-Abschreibungsbarwert('..'!$B$7,'.'!$A9,'.'!D$2,'..'!$B$5))*'..'!$B$5","v":-5.4712254465030747E-3},{"$f":"(Abschreibungsbarwert(-1,$A9,E$2,'..'!$B$5)-Abschreibungsbarwert('..'!$B$7,'.'!$A9,'.'!E$2,'..'!$B$5))*'..'!$B$5","v":-7.0909867259555844E-3},{"$f":"(Abschreibungsbarwert(-1,$A9,F$2,'..'!$B$5)-Abschreibungsbarwert('..'!$B$7,'.'!$A9,'.'!F$2,'..'!$B$5))*'..'!$B$5","v":-8.6184765022611701E-3},{"$f":"(Abschreibungsbarwert(-1,$A9,G$2,'..'!$B$5)-Abschreibungsbarwert('..'!$B$7,'.'!$A9,'.'!G$2,'..'!$B$5))*'..'!$B$5","v":-1.0058976645363257E-2},{"$f":"(Abschreibungsbarwert(-1,$A9,H$2,'..'!$B$5)-Abschreibungsbarwert('..'!$B$7,'.'!$A9,'.'!H$2,'..'!$B$5))*'..'!$B$5","v":-1.1417438236479442E-2},{"$f":"(Abschreibungsbarwert(-1,$A9,I$2,'..'!$B$5)-Abschreibungsbarwert('..'!$B$7,'.'!$A9,'.'!I$2,'..'!$B$5))*'..'!$B$5","v":-1.2698504348592708E-2},{"$f":"(Abschreibungsbarwert(-1,$A9,J$2,'..'!$B$5)-Abschreibungsbarwert('..'!$B$7,'.'!$A9,'.'!J$2,'..'!$B$5))*'..'!$B$5","v":-1.3906531112481902E-2},{"$f":"(Abschreibungsbarwert(-1,$A9,K$2,'..'!$B$5)-Abschreibungsbarwert('..'!$B$7,'.'!$A9,'.'!K$2,'..'!$B$5))*'..'!$B$5","v":-1.5045607208230864E-2},{"$f":"(Abschreibungsbarwert(-1,$A9,L$2,'..'!$B$5)-Abschreibungsbarwert('..'!$B$7,'.'!$A9,'.'!L$2,'..'!$B$5))*'..'!$B$5","v":-1.6119571909854667E-2},{"$f":"(Abschreibungsbarwert(-1,$A9,M$2,'..'!$B$5)-Abschreibungsbarwert('..'!$B$7,'.'!$A9,'.'!M$2,'..'!$B$5))*'..'!$B$5","v":-1.7132031799537848E-2},{"$f":"(Abschreibungsbarwert(-1,$A9,N$2,'..'!$B$5)-Abschreibungsbarwert('..'!$B$7,'.'!$A9,'.'!N$2,'..'!$B$5))*'..'!$B$5","v":-1.8086376257877668E-2},{"$f":"(Abschreibungsbarwert(-1,$A9,O$2,'..'!$B$5)-Abschreibungsbarwert('..'!$B$7,'.'!$A9,'.'!O$2,'..'!$B$5))*'..'!$B$5","v":-1.8985791827360193E-2},{"$f":"(Abschreibungsbarwert(-1,$A9,P$2,'..'!$B$5)-Abschreibungsbarwert('..'!$B$7,'.'!$A9,'.'!P$2,'..'!$B$5))*'..'!$B$5","v":-1.9833275537978475E-2},{"$f":"(Abschreibungsbarwert(-1,$A9,Q$2,'..'!$B$5)-Abschreibungsbarwert('..'!$B$7,'.'!$A9,'.'!Q$2,'..'!$B$5))*'..'!$B$5","v":-2.0631647276344853E-2},{"$f":"(Abschreibungsbarwert(-1,$A9,R$2,'..'!$B$5)-Abschreibungsbarwert('..'!$B$7,'.'!$A9,'.'!R$2,'..'!$B$5))*'..'!$B$5","v":-2.1383561272778608E-2},{"$f":"(Abschreibungsbarwert(-1,$A9,S$2,'..'!$B$5)-Abschreibungsbarwert('..'!$B$7,'.'!$A9,'.'!S$2,'..'!$B$5))*'..'!$B$5","v":-2.209151677460235E-2},{"$f":"(Abschreibungsbarwert(-1,$A9,T$2,'..'!$B$5)-Abschreibungsbarwert('..'!$B$7,'.'!$A9,'.'!T$2,'..'!$B$5))*'..'!$B$5","v":-2.2757867968195331E-2},{"$f":"(Abschreibungsbarwert(-1,$A9,U$2,'..'!$B$5)-Abschreibungsbarwert('..'!$B$7,'.'!$A9,'.'!U$2,'..'!$B$5))*'..'!$B$5","v":-2.3384833207167086E-2},{"$f":"(Abschreibungsbarwert(-1,$A9,V$2,'..'!$B$5)-Abschreibungsbarwert('..'!$B$7,'.'!$A9,'.'!V$2,'..'!$B$5))*'..'!$B$5","v":-2.3974503599301478E-2},{"$f":"(Abschreibungsbarwert(-1,$A9,W$2,'..'!$B$5)-Abschreibungsbarwert('..'!$B$7,'.'!$A9,'.'!W$2,'..'!$B$5))*'..'!$B$5","v":-2.452885100061027E-2},{"$f":"(Abschreibungsbarwert(-1,$A9,X$2,'..'!$B$5)-Abschreibungsbarwert('..'!$B$7,'.'!$A9,'.'!X$2,'..'!$B$5))*'..'!$B$5","v":-2.5049735460912419E-2},{"$f":"(Abschreibungsbarwert(-1,$A9,Y$2,'..'!$B$5)-Abschreibungsbarwert('..'!$B$7,'.'!$A9,'.'!Y$2,'..'!$B$5))*'..'!$B$5","v":-2.553891216176863E-2},{"$f":"(Abschreibungsbarwert(-1,$A9,Z$2,'..'!$B$5)-Abschreibungsbarwert('..'!$B$7,'.'!$A9,'.'!Z$2,'..'!$B$5))*'..'!$B$5","v":-2.5998037884322544E-2}]
[8,{"$f":"(Abschreibungsbarwert(-1,$A10,B$2,'..'!$B$5)-Abschreibungsbarwert('..'!$B$7,'.'!$A10,'.'!B$2,'..'!$B$5))*'..'!$B$5","v":-2.7140866820877067E-3},{"$f":"(Abschreibungsbarwert(-1,$A10,C$2,'..'!$B$5)-Abschreibungsbarwert('..'!$B$7,'.'!$A10,'.'!C$2,'..'!$B$5))*'..'!$B$5","v":-5.2565214022864473E-3},{"$f":"(Abschreibungsbarwert(-1,$A10,D$2,'..'!$B$5)-Abschreibungsbarwert('..'!$B$7,'.'!$A10,'.'!D$2,'..'!$B$5))*'..'!$B$5","v":-7.6382733069698637E-3},{"$f":"(Abschreibungsbarwert(-1,$A10,E$2,'..'!$B$5)-Abschreibungsbarwert('..'!$B$7,'.'!$A10,'.'!E$2,'..'!$B$5))*'..'!$B$5","v":-9.8695488841406311E-3},{"$f":"(Abschreibungsbarwert(-1,$A10,F$2,'..'!$B$5)-Abschreibungsbarwert('..'!$B$7,'.'!$A10,'.'!F$2,'..'!$B$5))*'..'!$B$5","v":-1.1959849898652376E-2},{"$f":"(Abschreibungsbarwert(-1,$A10,G$2,'..'!$B$5)-Abschreibungsbarwert('..'!$B$7,'.'!$A10,'.'!G$2,'..'!$B$5))*'..'!$B$5","v":-1.3918026546513059E-2},{"$f":"(Abschreibungsbarwert(-1,$A10,H$2,'..'!$B$5)-Abschreibungsbarwert('..'!$B$7,'.'!$A10,'.'!H$2,'..'!$B$5))*'..'!$B$5","v":-1.5752326253885444E-2},{"$f":"(Abschreibungsbarwert(-1,$A10,I$2,'..'!$B$5)-Abschreibungsbarwert('..'!$B$7,'.'!$A10,'.'!I$2,'..'!$B$5))*'..'!$B$5","v":-1.7470438505782126E-2},{"$f":"(Abschreibungsbarwert(-1,$A10,J$2,'..'!$B$5)-Abschreibungsbarwert('..'!$B$7,'.'!$A10,'.'!J$2,'..'!$B$5))*'..'!$B$5","v":-1.9079536052976624E-2},{"$f":"(Abschreibungsbarwert(-1,$A10,K$2,'..'!$B$5)-Abschreibungsbarwert('..'!$B$7,'.'!$A10,'.'!K$2,'..'!$B$5))*'..'!$B$5","v":-2.0586312812851341E-2},{"$f":"(Abschreibungsbarwert(-1,$A10,L$2,'..'!$B$5)-Abschreibungsbarwert('..'!$B$7,'.'!$A10,'.'!L$2,'..'!$B$5))*'..'!$B$5","v":-2.1997018750398122E-2},{"$f":"(Abschreibungsbarwert(-1,$A10,M$2,'..'!$B$5)-Abschreibungsbarwert('..'!$B$7,'.'!$A10,'.'!M$2,'..'!$B$5))*'..'!$B$5","v":-2.3317491999019061E-2},{"$f":"(Abschreibungsbarwert(-1,$A10,N$2,'..'!$B$5)-Abschreibungsbarwert('..'!$B$7,'.'!$A10,'.'!N$2,'..'!$B$5))*'..'!$B$5","v":-2.4553188456838345E-2},{"$f":"(Abschreibungsbarwert(-1,$A10,O$2,'..'!$B$5)-Abschreibungsbarwert('..'!$B$7,'.'!$A10,'.'!O$2,'..'!$B$5))*'..'!$B$5","v":-2.5709209072650327E-2},{"$f":"(Abschreibungsbarwert(-1,$A10,P$2,'..'!$B$5)-Abschreibungsbarwert('..'!$B$7,'.'!$A10,'.'!P$2,'..'!$B$5))*'..'!$B$5","v":-2.6790325016151775E-2},{"$f":"(Abschreibungsbarwert(-1,$A10,Q$2,'..'!$B$5)-Abschreibungsbarwert('..'!$B$7,'.'!$A10,'.'!Q$2,'..'!$B$5))*'..'!$B$5","v":-2.7801000909519029E-2},{"$f":"(Abschreibungsbarwert(-1,$A10,R$2,'..'!$B$5)-Abschreibungsbarwert('..'!$B$7,'.'!$A10,'.'!R$2,'..'!$B$5))*'..'!$B$5","v":-2.874541628149721E-2},{"$f":"(Abschreibungsbarwert(-1,$A10,S$2,'..'!$B$5)-Abschreibungsbarwert('..'!$B$7,'.'!$A10,'.'!S$2,'..'!$B$5))*'..'!$B$5","v":-2.9627485390797285E-2},{"$f":"(Abschreibungsbarwert(-1,$A10,T$2,'..'!$B$5)-Abschreibungsbarwert('..'!$B$7,'.'!$A10,'.'!T$2,'..'!$B$5))*'..'!$B$5","v":-3.0450875552592821E-2},{"$f":"(Abschreibungsbarwert(-1,$A10,U$2,'..'!$B$5)-Abschreibungsbarwert('..'!$B$7,'.'!$A10,'.'!U$2,'..'!$B$5))*'..'!$B$5","v":-3.1219024090130866E-2},{"$f":"(Abschreibungsbarwert(-1,$A10,V$2,'..'!$B$5)-Abschreibungsbarwert('..'!$B$7,'.'!$A10,'.'!V$2,'..'!$B$5))*'..'!$B$5","v":-3.1935154022803343E-2},{"$f":"(Abschreibungsbarwert(-1,$A10,W$2,'..'!$B$5)-Abschreibungsbarwert('..'!$B$7,'.'!$A10,'.'!W$2,'..'!$B$5))*'..'!$B$5","v":-3.2602288592349433E-2},{"$f":"(Abschreibungsbarwert(-1,$A10,X$2,'..'!$B$5)-Abschreibungsbarwert('..'!$B$7,'.'!$A10,'.'!X$2,'..'!$B$5))*'..'!$B$5","v":-3.3223264720081802E-2},{"$f":"(Abschreibungsbarwert(-1,$A10,Y$2,'..'!$B$5)-Abschreibungsbarwert('..'!$B$7,'.'!$A10,'.'!Y$2,'..'!$B$5))*'..'!$B$5","v":-3.3800745480061935E-2},{"$f":"(Abschreibungsbarwert(-1,$A10,Z$2,'..'!$B$5)-Abschreibungsbarwert('..'!$B$7,'.'!$A10,'.'!Z$2,'..'!$B$5))*'..'!$B$5","v":-3.4337231665906777E-2}]
[9,{"$f":"(Abschreibungsbarwert(-1,$A11,B$2,'..'!$B$5)-Abschreibungsbarwert('..'!$B$7,'.'!$A11,'.'!B$2,'..'!$B$5))*'..'!$B$5","v":-3.5475920625710391E-3},{"$f":"(Abschreibungsbarwert(-1,$A11,C$2,'..'!$B$5)-Abschreibungsbarwert('..'!$B$7,'.'!$A11,'.'!C$2,'..'!$B$5))*'..'!$B$5","v":-6.8499166919246427E-3},{"$f":"(Abschreibungsbarwert(-1,$A11,D$2,'..'!$B$5)-Abschreibungsbarwert('..'!$B$7,'.'!$A11,'.'!D$2,'..'!$B$5))*'..'!$B$5","v":-9.9239930026898647E-3},{"$f":"(Abschreibungsbarwert(-1,$A11,E$2,'..'!$B$5)-Abschreibungsbarwert('..'!$B$7,'.'!$A11,'.'!E$2,'..'!$B$5))*'..'!$B$5","v":-1.2785563252643637E-2},{"$f":"(Abschreibungsbarwert(-1,$A11,F$2,'..'!$B$5)-Abschreibungsbarwert('..'!$B$7,'.'!$A11,'.'!F$2,'..'!$B$5))*'..'!$B$5","v":-1.544919692212929E-2},{"$f":"(Abschreibungsbarwert(-1,$A11,G$2,'..'!$B$5)-Abschreibungsbarwert('..'!$B$7,'.'!$A11,'.'!G$2,'..'!$B$5))*'..'!$B$5","v":-1.7928385623035732E-2},{"$f":"(Abschreibungsbarwert(-1,$A11,H$2,'..'!$B$5)-Abschreibungsbarwert('..'!$B$7,'.'!$A11,'.'!H$2,'..'!$B$5))*'..'!$B$5","v":-2.0235629705202537E-2},{"$f":"(Abschreibungsbarwert(-1,$A11,I$2,'..'!$B$5)-Abschreibungsbarwert('..'!$B$7,'.'!$A11,'.'!I$2,'..'!$B$5))*'..'!$B$5","v":-2.2382517340414864E-2},{"$f":"(Abschreibungsbarwert(-1,$A11,J$2,'..'!$B$5)-Abschreibungsbarwert('..'!$B$7,'.'!$A11,'.'!J$2,'..'!$B$5))*'..'!$B$5","v":-2.4379796785880023E-2},{"$f":"(Abschreibungsbarwert(-1,$A11,K$2,'..'!$B$5)-Abschreibungsbarwert('..'!$B$7,'.'!$A11,'.'!K$2,'..'!$B$5))*'..'!$B$5","v":-2.6237442459132464E-2},{"$f":"(Abschreibungsbarwert(-1,$A11,L$2,'..'!$B$5)-Abschreibungsbarwert('..'!$B$7,'.'!$A11,'.'!L$2,'..'!$B$5))*'..'!$B$5","v":-2.7964715393782178E-2},{"$f":"(Abschreibungsbarwert(-1,$A11,M$2,'..'!$B$5)-Abschreibungsbarwert('..'!$B$7,'.'!$A11,'.'!M$2,'..'!$B$5))*'..'!$B$5","v":-2.9570218589563074E-2},{"$f":"(Abschreibungsbarwert(-1,$A11,N$2,'..'!$B$5)-Abschreibungsbarwert('..'!$B$7,'.'!$A11,'.'!N$2,'..'!$B$5))*'..'!$B$5","v":-3.1061947720018121E-2},{"$f":"(Abschreibungsbarwert(-1,$A11,O$2,'..'!$B$5)-Abschreibungsbarwert('..'!$B$7,'.'!$A11,'.'!O$2,'..'!$B$5))*'..'!$B$5","v":-3.2447337616241384E-2},{"$f":"(Abschreibungsbarwert(-1,$A11,P$2,'..'!$B$5)-Abschreibungsbarwert('..'!$B$7,'.'!$A11,'.'!P$2,'..'!$B$5))*'..'!$B$5","v":-3.3733304904806742E-2},{"$f":"(Abschreibungsbarwert(-1,$A11,Q$2,'..'!$B$5)-Abschreibungsbarwert('..'!$B$7,'.'!$A11,'.'!Q$2,'..'!$B$5))*'..'!$B$5","v":-3.4926287141844169E-2},{"$f":"(Abschreibungsbarwert(-1,$A11,R$2,'..'!$B$5)-Abschreibungsbarwert('..'!$B$7,'.'!$A11,'.'!R$2,'..'!$B$5))*'..'!$B$5","v":-3.6032278752735382E-2},{"$f":"(Abschreibungsbarwert(-1,$A11,S$2,'..'!$B$5)-Abschreibungsbarwert('..'!$B$7,'.'!$A11,'.'!S$2,'..'!$B$5))*'..'!$B$5","v":-3.7056864057690542E-2},{"$f":"(Abschreibungsbarwert(-1,$A11,T$2,'..'!$B$5)-Abschreibungsbarwert('..'!$B$7,'.'!$A11,'.'!T$2,'..'!$B$5))*'..'!$B$5","v":-3.800524763719082E-2},{"$f":"(Abschreibungsbarwert(-1,$A11,U$2,'..'!$B$5)-Abschreibungsbarwert('..'!$B$7,'.'!$A11,'.'!U$2,'..'!$B$5))*'..'!$B$5","v":-3.8882282267621304E-2},{"$f":"(Abschreibungsbarwert(-1,$A11,V$2,'..'!$B$5)-Abschreibungsbarwert('..'!$B$7,'.'!$A11,'.'!V$2,'..'!$B$5))*'..'!$B$5","v":-3.9692494636103581E-2},{"$f":"(Abschreibungsbarwert(-1,$A11,W$2,'..'!$B$5)-Abschreibungsbarwert('..'!$B$7,'.'!$A11,'.'!W$2,'..'!$B$5))*'..'!$B$5","v":-4.0440109024320381E-2},{"$f":"(Abschreibungsbarwert(-1,$A11,X$2,'..'!$B$5)-Abschreibungsbarwert('..'!$B$7,'.'!$A11,'.'!X$2,'..'!$B$5))*'..'!$B$5","v":-4.1129069133784855E-2},{"$f":"(Abschreibungsbarwert(-1,$A11,Y$2,'..'!$B$5)-Abschreibungsbarwert('..'!$B$7,'.'!$A11,'.'!Y$2,'..'!$B$5))*'..'!$B$5","v":-4.1763058209352763E-2},{"$f":"(Abschreibungsbarwert(-1,$A11,Z$2,'..'!$B$5)-Abschreibungsbarwert('..'!$B$7,'.'!$A11,'.'!Z$2,'..'!$B$5))*'..'!$B$5","v":-4.2345517603632213E-2}]
[10,{"$f":"(Abschreibungsbarwert(-1,$A12,B$2,'..'!$B$5)-Abschreibungsbarwert('..'!$B$7,'.'!$A12,'.'!B$2,'..'!$B$5))*'..'!$B$5","v":-4.4154293914840537E-3},{"$f":"(Abschreibungsbarwert(-1,$A12,C$2,'..'!$B$5)-Abschreibungsbarwert('..'!$B$7,'.'!$A12,'.'!C$2,'..'!$B$5))*'..'!$B$5","v":-8.5005084860009031E-3},{"$f":"(Abschreibungsbarwert(-1,$A12,D$2,'..'!$B$5)-Abschreibungsbarwert('..'!$B$7,'.'!$A12,'.'!D$2,'..'!$B$5))*'..'!$B$5","v":-1.2279927169353498E-2},{"$f":"(Abschreibungsbarwert(-1,$A12,E$2,'..'!$B$5)-Abschreibungsbarwert('..'!$B$7,'.'!$A12,'.'!E$2,'..'!$B$5))*'..'!$B$5","v":-1.5776389848359152E-2},{"$f":"(Abschreibungsbarwert(-1,$A12,F$2,'..'!$B$5)-Abschreibungsbarwert('..'!$B$7,'.'!$A12,'.'!F$2,'..'!$B$5))*'..'!$B$5","v":-1.9010788134707118E-2},{"$f":"(Abschreibungsbarwert(-1,$A12,G$2,'..'!$B$5)-Abschreibungsbarwert('..'!$B$7,'.'!$A12,'.'!G$2,'..'!$B$5))*'..'!$B$5","v":-2.2002357361368824E-2},{"$f":"(Abschreibungsbarwert(-1,$A12,H$2,'..'!$B$5)-Abschreibungsbarwert('..'!$B$7,'.'!$A12,'.'!H$2,'..'!$B$5))*'..'!$B$5","v":-2.4768818551303268E-2},{"$f":"(Abschreibungsbarwert(-1,$A12,I$2,'..'!$B$5)-Abschreibungsbarwert('..'!$B$7,'.'!$A12,'.'!I$2,'..'!$B$5))*'..'!$B$5","v":-2.7326507285517623E-2},{"$f":"(Abschreibungsbarwert(-1,$A12,J$2,'..'!$B$5)-Abschreibungsbarwert('..'!$B$7,'.'!$A12,'.'!J$2,'..'!$B$5))*'..'!$B$5","v":-2.969049076435579E-2},{"$f":"(Abschreibungsbarwert(-1,$A12,K$2,'..'!$B$5)-Abschreibungsbarwert('..'!$B$7,'.'!$A12,'.'!K$2,'..'!$B$5))*'..'!$B$5","v":-3.1874674219874312E-2},{"$f":"(Abschreibungsbarwert(-1,$A12,L$2,'..'!$B$5)-Abschreibungsbarwert('..'!$B$7,'.'!$A12,'.'!L$2,'..'!$B$5))*'..'!$B$5","v":-3.389189771629459E-2},{"$f":"(Abschreibungsbarwert(-1,$A12,M$2,'..'!$B$5)-Abschreibungsbarwert('..'!$B$7,'.'!$A12,'.'!M$2,'..'!$B$5))*'..'!$B$5","v":-3.575402426801904E-2},{"$f":"(Abschreibungsbarwert(-1,$A12,N$2,'..'!$B$5)-Abschreibungsbarwert('..'!$B$7,'.'!$A12,'.'!N$2,'..'!$B$5))*'..'!$B$5","v":-3.7472020108999894E-2},{"$f":"(Abschreibungsbarwert(-1,$A12,O$2,'..'!$B$5)-Abschreibungsbarwert('..'!$B$7,'.'!$A12,'.'!O$2,'..'!$B$5))*'..'!$B$5","v":-3.9056027861990562E-2},{"$f":"(Abschreibungsbarwert(-1,$A12,P$2,'..'!$B$5)-Abschreibungsbarwert('..'!$B$7,'.'!$A12,'.'!P$2,'..'!$B$5))*'..'!$B$5","v":-4.0515433280190999E-2},{"$f":"(Abschreibungsbarwert(-1,$A12,Q$2,'..'!$B$5)-Abschreibungsbarwert('..'!$B$7,'.'!$A12,'.'!Q$2,'..'!$B$5))*'..'!$B$5","v":-4.1858926165957634E-2},{"$f":"(Abschreibungsbarwert(-1,$A12,R$2,'..'!$B$5)-Abschreibungsbarwert('..'!$B$7,'.'!$A12,'.'!R$2,'..'!$B$5))*'..'!$B$5","v":-4.3094556010660694E-2},{"$f":"(Abschreibungsbarwert(-1,$A12,S$2,'..'!$B$5)-Abschreibungsbarwert('..'!$B$7,'.'!$A12,'.'!S$2,'..'!$B$5))*'..'!$B$5","v":-4.422978284562136E-2},{"$f":"(Abschreibungsbarwert(-1,$A12,T$2,'..'!$B$5)-Abschreibungsbarwert('..'!$B$7,'.'!$A12,'.'!T$2,'..'!$B$5))*'..'!$B$5","v":-4.5271523745621586E-2},{"$f":"(Abschreibungsbarwert(-1,$A12,U$2,'..'!$B$5)-Abschreibungsbarwert('..'!$B$7,'.'!$A12,'.'!U$2,'..'!$B$5))*'..'!$B$5","v":-4.6226195383114364E-2},{"$f":"(Abschreibungsbarwert(-1,$A12,V$2,'..'!$B$5)-Abschreibungsbarwert('..'!$B$7,'.'!$A12,'.'!V$2,'..'!$B$5))*'..'!$B$5","v":-4.7099752992418253E-2},{"$f":"(Abschreibungsbarwert(-1,$A12,W$2,'..'!$B$5)-Abschreibungsbarwert('..'!$B$7,'.'!$A12,'.'!W$2,'..'!$B$5))*'..'!$B$5","v":-4.7897726068350209E-2},{"$f":"(Abschreibungsbarwert(-1,$A12,X$2,'..'!$B$5)-Abschreibungsbarwert('..'!$B$7,'.'!$A12,'.'!X$2,'..'!$B$5))*'..'!$B$5","v":-4.8625251092502021E-2},{"$f":"(Abschreibungsbarwert(-1,$A12,Y$2,'..'!$B$5)-Abschreibungsbarwert('..'!$B$7,'.'!$A12,'.'!Y$2,'..'!$B$5))*'..'!$B$5","v":-4.9287101552312279E-2},{"$f":"(Abschreibungsbarwert(-1,$A12,Z$2,'..'!$B$5)-Abschreibungsbarwert('..'!$B$7,'.'!$A12,'.'!Z$2,'..'!$B$5))*'..'!$B$5","v":-4.9887715492869841E-2}]
[11,{"$f":"(Abschreibungsbarwert(-1,$A13,B$2,'..'!$B$5)-Abschreibungsbarwert('..'!$B$7,'.'!$A13,'.'!B$2,'..'!$B$5))*'..'!$B$5","v":-4.7638382926578965E-3},{"$f":"(Abschreibungsbarwert(-1,$A13,C$2,'..'!$B$5)-Abschreibungsbarwert('..'!$B$7,'.'!$A13,'.'!C$2,'..'!$B$5))*'..'!$B$5","v":-9.1433584895692522E-3},{"$f":"(Abschreibungsbarwert(-1,$A13,D$2,'..'!$B$5)-Abschreibungsbarwert('..'!$B$7,'.'!$A13,'.'!D$2,'..'!$B$5))*'..'!$B$5","v":-1.3169357810406998E-2},{"$f":"(Abschreibungsbarwert(-1,$A13,E$2,'..'!$B$5)-Abschreibungsbarwert('..'!$B$7,'.'!$A13,'.'!E$2,'..'!$B$5))*'..'!$B$5","v":-1.6869991052577787E-2},{"$f":"(Abschreibungsbarwert(-1,$A13,F$2,'..'!$B$5)-Abschreibungsbarwert('..'!$B$7,'.'!$A13,'.'!F$2,'..'!$B$5))*'..'!$B$5","v":-2.0271014747696662E-2},{"$f":"(Abschreibungsbarwert(-1,$A13,G$2,'..'!$B$5)-Abschreibungsbarwert('..'!$B$7,'.'!$A13,'.'!G$2,'..'!$B$5))*'..'!$B$5","v":-2.3396007124866978E-2},{"$f":"(Abschreibungsbarwert(-1,$A13,H$2,'..'!$B$5)-Abschreibungsbarwert('..'!$B$7,'.'!$A13,'.'!H$2,'..'!$B$5))*'..'!$B$5","v":-2.6266566437425681E-2},{"$f":"(Abschreibungsbarwert(-1,$A13,I$2,'..'!$B$5)-Abschreibungsbarwert('..'!$B$7,'.'!$A13,'.'!I$2,'..'!$B$5))*'..'!$B$5","v":-2.8902489923165475E-2},{"$f":"(Abschreibungsbarwert(-1,$A13,J$2,'..'!$B$5)-Abschreibungsbarwert('..'!$B$7,'.'!$A13,'.'!J$2,'..'!$B$5))*'..'!$B$5","v":-3.1321935415341957E-2},{"$f":"(Abschreibungsbarwert(-1,$A13,K$2,'..'!$B$5)-Abschreibungsbarwert('..'!$B$7,'.'!$A13,'.'!K$2,'..'!$B$5))*'..'!$B$5","v":-3.3541567398784208E-2},{"$f":"(Abschreibungsbarwert(-1,$A13,L$2,'..'!$B$5)-Abschreibungsbarwert('..'!$B$7,'.'!$A13,'.'!L$2,'..'!$B$5))*'..'!$B$5","v":-3.5576689108466557E-2},{"$f":"(Abschreibungsbarwert(-1,$A13,M$2,'..'!$B$5)-Abschreibungsbarwert('..'!$B$7,'.'!$A13,'.'!M$2,'..'!$B$5))*'..'!$B$5","v":-3.744136209379597E-2},{"$f":"(Abschreibungsbarwert(-1,$A13,N$2,'..'!$B$5)-Abschreibungsbarwert('..'!$B$7,'.'!$A13,'.'!N$2,'..'!$B$5))*'..'!$B$5","v":-3.9148514517795045E-2},{"$f":"(Abschreibungsbarwert(-1,$A13,O$2,'..'!$B$5)-Abschreibungsbarwert('..'!$B$7,'.'!$A13,'.'!O$2,'..'!$B$5))*'..'!$B$5","v":-4.0710039323930761E-2},{"$f":"(Abschreibungsbarwert(-1,$A13,P$2,'..'!$B$5)-Abschreibungsbarwert('..'!$B$7,'.'!$A13,'.'!P$2,'..'!$B$5))*'..'!$B$5","v":-4.2136883282392304E-2},{"$f":"(Abschreibungsbarwert(-1,$A13,Q$2,'..'!$B$5)-Abschreibungsbarwert('..'!$B$7,'.'!$A13,'.'!Q$2,'..'!$B$5))*'..'!$B$5","v":-4.3439127820332817E-2},{"$f":"(Abschreibungsbarwert(-1,$A13,R$2,'..'!$B$5)-Abschreibungsbarwert('..'!$B$7,'.'!$A13,'.'!R$2,'..'!$B$5))*'..'!$B$5","v":-4.4626062445322925E-2},{"$f":"(Abschreibungsbarwert(-1,$A13,S$2,'..'!$B$5)-Abschreibungsbarwert('..'!$B$7,'.'!$A13,'.'!S$2,'..'!$B$5))*'..'!$B$5","v":-4.5706251486601984E-2},{"$f":"(Abschreibungsbarwert(-1,$A13,T$2,'..'!$B$5)-Abschreibungsbarwert('..'!$B$7,'.'!$A13,'.'!T$2,'..'!$B$5))*'..'!$B$5","v":-4.6687594803422314E-2},{"$f":"(Abschreibungsbarwert(-1,$A13,U$2,'..'!$B$5)-Abschreibungsbarwert('..'!$B$7,'.'!$A13,'.'!U$2,'..'!$B$5))*'..'!$B$5","v":-4.7577383042753357E-2},{"$f":"(Abschreibungsbarwert(-1,$A13,V$2,'..'!$B$5)-Abschreibungsbarwert('..'!$B$7,'.'!$A13,'.'!V$2,'..'!$B$5))*'..'!$B$5","v":-4.8382347968909438E-2},{"$f":"(Abschreibungsbarwert(-1,$A13,W$2,'..'!$B$5)-Abschreibungsbarwert('..'!$B$7,'.'!$A13,'.'!W$2,'..'!$B$5))*'..'!$B$5","v":-4.9108708334432018E-2},{"$f":"(Abschreibungsbarwert(-1,$A13,X$2,'..'!$B$5)-Abschreibungsbarwert('..'!$B$7,'.'!$A13,'.'!X$2,'..'!$B$5))*'..'!$B$5","v":-4.976221171406018E-2},{"$f":"(Abschreibungsbarwert(-1,$A13,Y$2,'..'!$B$5)-Abschreibungsbarwert('..'!$B$7,'.'!$A13,'.'!Y$2,'..'!$B$5))*'..'!$B$5","v":-5.0348172681210168E-2},{"$f":"(Abschreibungsbarwert(-1,$A13,Z$2,'..'!$B$5)-Abschreibungsbarwert('..'!$B$7,'.'!$A13,'.'!Z$2,'..'!$B$5))*'..'!$B$5","v":-5.0871507668485652E-2}]
[12,{"$f":"(Abschreibungsbarwert(-1,$A14,B$2,'..'!$B$5)-Abschreibungsbarwert('..'!$B$7,'.'!$A14,'.'!B$2,'..'!$B$5))*'..'!$B$5","v":-5.1083581635330208E-3},{"$f":"(Abschreibungsbarwert(-1,$A14,C$2,'..'!$B$5)-Abschreibungsbarwert('..'!$B$7,'.'!$A14,'.'!C$2,'..'!$B$5))*'..'!$B$5","v":-9.7749874985301865E-3},{"$f":"(Abschreibungsbarwert(-1,$A14,D$2,'..'!$B$5)-Abschreibungsbarwert('..'!$B$7,'.'!$A14,'.'!D$2,'..'!$B$5))*'..'!$B$5","v":-1.4037643119283884E-2},{"$f":"(Abschreibungsbarwert(-1,$A14,E$2,'..'!$B$5)-Abschreibungsbarwert('..'!$B$7,'.'!$A14,'.'!E$2,'..'!$B$5))*'..'!$B$5","v":-1.7930639772508666E-2},{"$f":"(Abschreibungsbarwert(-1,$A14,F$2,'..'!$B$5)-Abschreibungsbarwert('..'!$B$7,'.'!$A14,'.'!F$2,'..'!$B$5))*'..'!$B$5","v":-2.1485188174823023E-2},{"$f":"(Abschreibungsbarwert(-1,$A14,G$2,'..'!$B$5)-Abschreibungsbarwert('..'!$B$7,'.'!$A14,'.'!G$2,'..'!$B$5))*'..'!$B$5","v":-2.4729696205759856E-2},{"$f":"(Abschreibungsbarwert(-1,$A14,H$2,'..'!$B$5)-Abschreibungsbarwert('..'!$B$7,'.'!$A14,'.'!H$2,'..'!$B$5))*'..'!$B$5","v":-2.7690038861125869E-2},{"$f":"(Abschreibungsbarwert(-1,$A14,I$2,'..'!$B$5)-Abschreibungsbarwert('..'!$B$7,'.'!$A14,'.'!I$2,'..'!$B$5))*'..'!$B$5","v":-3.0389800412458156E-2},{"$f":"(Abschreibungsbarwert(-1,$A14,J$2,'..'!$B$5)-Abschreibungsbarwert('..'!$B$7,'.'!$A14,'.'!J$2,'..'!$B$5))*'..'!$B$5","v":-3.2850491816123803E-2},{"$f":"(Abschreibungsbarwert(-1,$A14,K$2,'..'!$B$5)-Abschreibungsbarwert('..'!$B$7,'.'!$A14,'.'!K$2,'..'!$B$5))*'..'!$B$5","v":-3.5091746062867239E-2},{"$f":"(Abschreibungsbarwert(-1,$A14,L$2,'..'!$B$5)-Abschreibungsbarwert('..'!$B$7,'.'!$A14,'.'!L$2,'..'!$B$5))*'..'!$B$5","v":-3.7131493848948517E-2},{"$f":"(Abschreibungsbarwert(-1,$A14,M$2,'..'!$B$5)-Abschreibungsbarwert('..'!$B$7,'.'!$A14,'.'!M$2,'..'!$B$5))*'..'!$B$5","v":-3.8986121677921114E-2},{"$f":"(Abschreibungsbarwert(-1,$A14,N$2,'..'!$B$5)-Abschreibungsbarwert('..'!$B$7,'.'!$A14,'.'!N$2,'..'!$B$5))*'..'!$B$5","v":-4.0670614262766649E-2},{"$f":"(Abschreibungsbarwert(-1,$A14,O$2,'..'!$B$5)-Abschreibungsbarwert('..'!$B$7,'.'!$A14,'.'!O$2,'..'!$B$5))*'..'!$B$5","v":-4.2198682887409411E-2},{"$f":"(Abschreibungsbarwert(-1,$A14,P$2,'..'!$B$5)-Abschreibungsbarwert('..'!$B$7,'.'!$A14,'.'!P$2,'..'!$B$5))*'..'!$B$5","v":-4.3582881200969245E-2},{"$f":"(Abschreibungsbarwert(-1,$A14,Q$2,'..'!$B$5)-Abschreibungsbarwert('..'!$B$7,'.'!$A14,'.'!Q$2,'..'!$B$5))*'..'!$B$5","v":-4.4834709754356064E-2},{"$f":"(Abschreibungsbarwert(-1,$A14,R$2,'..'!$B$5)-Abschreibungsbarwert('..'!$B$7,'.'!$A14,'.'!R$2,'..'!$B$5))*'..'!$B$5","v":-4.5964710444248207E-2},{"$f":"(Abschreibungsbarwert(-1,$A14,S$2,'..'!$B$5)-Abschreibungsbarwert('..'!$B$7,'.'!$A14,'.'!S$2,'..'!$B$5))*'..'!$B$5","v":-4.6982551901762454E-2},{"$f":"(Abschreibungsbarwert(-1,$A14,T$2,'..'!$B$5)-Abschreibungsbarwert('..'!$B$7,'.'!$A14,'.'!T$2,'..'!$B$5))*'..'!$B$5","v":-4.7897106750167548E-2},{"$f":"(Abschreibungsbarwert(-1,$A14,U$2,'..'!$B$5)-Abschreibungsbarwert('..'!$B$7,'.'!$A14,'.'!U$2,'..'!$B$5))*'..'!$B$5","v":-4.8716521556005567E-2},{"$f":"(Abschreibungsbarwert(-1,$A14,V$2,'..'!$B$5)-Abschreibungsbarwert('..'!$B$7,'.'!$A14,'.'!V$2,'..'!$B$5))*'..'!$B$5","v":-4.9448280209413706E-2},{"$f":"(Abschreibungsbarwert(-1,$A14,W$2,'..'!$B$5)-Abschreibungsbarwert('..'!$B$7,'.'!$A14,'.'!W$2,'..'!$B$5))*'..'!$B$5","v":-5.0099261390906466E-2},{"$f":"(Abschreibungsbarwert(-1,$A14,X$2,'..'!$B$5)-Abschreibungsbarwert('..'!$B$7,'.'!$A14,'.'!X$2,'..'!$B$5))*'..'!$B$5","v":-5.0675790712191041E-2},{"$f":"(Abschreibungsbarwert(-1,$A14,Y$2,'..'!$B$5)-Abschreibungsbarwert('..'!$B$7,'.'!$A14,'.'!Y$2,'..'!$B$5))*'..'!$B$5","v":-5.11836880566994E-2},{"$f":"(Abschreibungsbarwert(-1,$A14,Z$2,'..'!$B$5)-Abschreibungsbarwert('..'!$B$7,'.'!$A14,'.'!Z$2,'..'!$B$5))*'..'!$B$5","v":-5.1628310590512677E-2}]
[13,{"$f":"(Abschreibungsbarwert(-1,$A15,B$2,'..'!$B$5)-Abschreibungsbarwert('..'!$B$7,'.'!$A15,'.'!B$2,'..'!$B$5))*'..'!$B$5","v":-5.4562733687610757E-3},{"$f":"(Abschreibungsbarwert(-1,$A15,C$2,'..'!$B$5)-Abschreibungsbarwert('..'!$B$7,'.'!$A15,'.'!C$2,'..'!$B$5))*'..'!$B$5","v":-1.040893526573341E-2},{"$f":"(Abschreibungsbarwert(-1,$A15,D$2,'..'!$B$5)-Abschreibungsbarwert('..'!$B$7,'.'!$A15,'.'!D$2,'..'!$B$5))*'..'!$B$5","v":-1.4903731491079359E-2},{"$f":"(Abschreibungsbarwert(-1,$A15,E$2,'..'!$B$5)-Abschreibungsbarwert('..'!$B$7,'.'!$A15,'.'!E$2,'..'!$B$5))*'..'!$B$5","v":-1.8981994701194431E-2},{"$f":"(Abschreibungsbarwert(-1,$A15,F$2,'..'!$B$5)-Abschreibungsbarwert('..'!$B$7,'.'!$A15,'.'!F$2,'..'!$B$5))*'..'!$B$5","v":-2.2681099611932196E-2},{"$f":"(Abschreibungsbarwert(-1,$A15,G$2,'..'!$B$5)-Abschreibungsbarwert('..'!$B$7,'.'!$A15,'.'!G$2,'..'!$B$5))*'..'!$B$5","v":-2.6034868169478375E-2},{"$f":"(Abschreibungsbarwert(-1,$A15,H$2,'..'!$B$5)-Abschreibungsbarwert('..'!$B$7,'.'!$A15,'.'!H$2,'..'!$B$5))*'..'!$B$5","v":-2.9073930520241313E-2},{"$f":"(Abschreibungsbarwert(-1,$A15,I$2,'..'!$B$5)-Abschreibungsbarwert('..'!$B$7,'.'!$A15,'.'!I$2,'..'!$B$5))*'..'!$B$5","v":-3.1826046893736692E-2},{"$f":"(Abschreibungsbarwert(-1,$A15,J$2,'..'!$B$5)-Abschreibungsbarwert('..'!$B$7,'.'!$A15,'.'!J$2,'..'!$B$5))*'..'!$B$5","v":-3.4316394887850987E-2},{"$f":"(Abschreibungsbarwert(-1,$A15,K$2,'..'!$B$5)-Abschreibungsbarwert('..'!$B$7,'.'!$A15,'.'!K$2,'..'!$B$5))*'..'!$B$5","v":-3.6567826101451949E-2},{"$f":"(Abschreibungsbarwert(-1,$A15,L$2,'..'!$B$5)-Abschreibungsbarwert('..'!$B$7,'.'!$A15,'.'!L$2,'..'!$B$5))*'..'!$B$5","v":-3.8601095584329781E-2},{"$f":"(Abschreibungsbarwert(-1,$A15,M$2,'..'!$B$5)-Abschreibungsbarwert('..'!$B$7,'.'!$A15,'.'!M$2,'..'!$B$5))*'..'!$B$5","v":-4.0435067159608679E-2},{"$f":"(Abschreibungsbarwert(-1,$A15,N$2,'..'!$B$5)-Abschreibungsbarwert('..'!$B$7,'.'!$A15,'.'!N$2,'..'!$B$5))*'..'!$B$5","v":-4.2086897311075455E-2},{"$f":"(Abschreibungsbarwert(-1,$A15,O$2,'..'!$B$5)-Abschreibungsbarwert('..'!$B$7,'.'!$A15,'.'!O$2,'..'!$B$5))*'..'!$B$5","v":-4.3572200010485035E-2},{"$f":"(Abschreibungsbarwert(-1,$A15,P$2,'..'!$B$5)-Abschreibungsbarwert('..'!$B$7,'.'!$A15,'.'!P$2,'..'!$B$5))*'..'!$B$5","v":-4.4905194581858862E-2},{"$f":"(Abschreibungsbarwert(-1,$A15,Q$2,'..'!$B$5)-Abschreibungsbarwert('..'!$B$7,'.'!$A15,'.'!Q$2,'..'!$B$5))*'..'!$B$5","v":-4.6098838456012481E-2},{"$f":"(Abschreibungsbarwert(-1,$A15,R$2,'..'!$B$5)-Abschreibungsbarwert('..'!$B$7,'.'!$A15,'.'!R$2,'..'!$B$5))*'..'!$B$5","v":-4.7164946454575835E-2},{"$f":"(Abschreibungsbarwert(-1,$A15,S$2,'..'!$B$5)-Abschreibungsbarwert('..'!$B$7,'.'!$A15,'.'!S$2,'..'!$B$5))*'..'!$B$5","v":-4.8114298054804515E-2},{"$f":"(Abschreibungsbarwert(-1,$A15,T$2,'..'!$B$5)-Abschreibungsbarwert('..'!$B$7,'.'!$A15,'.'!T$2,'..'!$B$5))*'..'!$B$5","v":-4.8956733921202096E-2},{"$f":"(Abschreibungsbarwert(-1,$A15,U$2,'..'!$B$5)-Abschreibungsbarwert('..'!$B$7,'.'!$A15,'.'!U$2,'..'!$B$5))*'..'!$B$5","v":-4.9701242844497506E-2},{"$f":"(Abschreibungsbarwert(-1,$A15,V$2,'..'!$B$5)-Abschreibungsbarwert('..'!$B$7,'.'!$A15,'.'!V$2,'..'!$B$5))*'..'!$B$5","v":-5.03560401003883E-2},{"$f":"(Abschreibungsbarwert(-1,$A15,W$2,'..'!$B$5)-Abschreibungsbarwert('..'!$B$7,'.'!$A15,'.'!W$2,'..'!$B$5))*'..'!$B$5","v":-5.0928638127467549E-2},{"$f":"(Abschreibungsbarwert(-1,$A15,X$2,'..'!$B$5)-Abschreibungsbarwert('..'!$B$7,'.'!$A15,'.'!X$2,'..'!$B$5))*'..'!$B$5","v":-5.1425910324049348E-2},{"$f":"(Abschreibungsbarwert(-1,$A15,Y$2,'..'!$B$5)-Abschreibungsbarwert('..'!$B$7,'.'!$A15,'.'!Y$2,'..'!$B$5))*'..'!$B$5","v":-5.1854148675540945E-2},{"$f":"(Abschreibungsbarwert(-1,$A15,Z$2,'..'!$B$5)-Abschreibungsbarwert('..'!$B$7,'.'!$A15,'.'!Z$2,'..'!$B$5))*'..'!$B$5","v":-5.2219115846158778E-2}]
[14,{"$f":"(Abschreibungsbarwert(-1,$A16,B$2,'..'!$B$5)-Abschreibungsbarwert('..'!$B$7,'.'!$A16,'.'!B$2,'..'!$B$5))*'..'!$B$5","v":-5.7995601083413824E-3},{"$f":"(Abschreibungsbarwert(-1,$A16,C$2,'..'!$B$5)-Abschreibungsbarwert('..'!$B$7,'.'!$A16,'.'!C$2,'..'!$B$5))*'..'!$B$5","v":-1.1030385522432927E-2},{"$f":"(Abschreibungsbarwert(-1,$A16,D$2,'..'!$B$5)-Abschreibungsbarwert('..'!$B$7,'.'!$A16,'.'!D$2,'..'!$B$5))*'..'!$B$5","v":-1.5747153820262504E-2},{"$f":"(Abschreibungsbarwert(-1,$A16,E$2,'..'!$B$5)-Abschreibungsbarwert('..'!$B$7,'.'!$A16,'.'!E$2,'..'!$B$5))*'..'!$B$5","v":-1.9998978702409756E-2},{"$f":"(Abschreibungsbarwert(-1,$A16,F$2,'..'!$B$5)-Abschreibungsbarwert('..'!$B$7,'.'!$A16,'.'!F$2,'..'!$B$5))*'..'!$B$5","v":-2.3830013517975417E-2},{"$f":"(Abschreibungsbarwert(-1,$A16,G$2,'..'!$B$5)-Abschreibungsbarwert('..'!$B$7,'.'!$A16,'.'!G$2,'..'!$B$5))*'..'!$B$5","v":-2.7279985219649951E-2},{"$f":"(Abschreibungsbarwert(-1,$A16,H$2,'..'!$B$5)-Abschreibungsbarwert('..'!$B$7,'.'!$A16,'.'!H$2,'..'!$B$5))*'..'!$B$5","v":-3.0384667231356677E-2},{"$f":"(Abschreibungsbarwert(-1,$A16,I$2,'..'!$B$5)-Abschreibungsbarwert('..'!$B$7,'.'!$A16,'.'!I$2,'..'!$B$5))*'..'!$B$5","v":-3.3176298622432966E-2},{"$f":"(Abschreibungsbarwert(-1,$A16,J$2,'..'!$B$5)-Abschreibungsbarwert('..'!$B$7,'.'!$A16,'.'!J$2,'..'!$B$5))*'..'!$B$5","v":-3.5683956039637615E-2},{"$f":"(Abschreibungsbarwert(-1,$A16,K$2,'..'!$B$5)-Abschreibungsbarwert('..'!$B$7,'.'!$A16,'.'!K$2,'..'!$B$5))*'..'!$B$5","v":-3.7933884031685253E-2},{"$f":"(Abschreibungsbarwert(-1,$A16,L$2,'..'!$B$5)-Abschreibungsbarwert('..'!$B$7,'.'!$A16,'.'!L$2,'..'!$B$5))*'..'!$B$5","v":-3.994978869288951E-2},{"$f":"(Abschreibungsbarwert(-1,$A16,M$2,'..'!$B$5)-Abschreibungsbarwert('..'!$B$7,'.'!$A16,'.'!M$2,'..'!$B$5))*'..'!$B$5","v":-4.1753098937775866E-2},{"$f":"(Abschreibungsbarwert(-1,$A16,N$2,'..'!$B$5)-Abschreibungsbarwert('..'!$B$7,'.'!$A16,'.'!N$2,'..'!$B$5))*'..'!$B$5","v":-4.336319918430951E-2},{"$f":"(Abschreibungsbarwert(-1,$A16,O$2,'..'!$B$5)-Abschreibungsbarwert('..'!$B$7,'.'!$A16,'.'!O$2,'..'!$B$5))*'..'!$B$5","v":-4.4797636758657486E-2},{"$f":"(Abschreibungsbarwert(-1,$A16,P$2,'..'!$B$5)-Abschreibungsbarwert('..'!$B$7,'.'!$A16,'.'!P$2,'..'!$B$5))*'..'!$B$5","v":-4.6072306929700241E-2},{"$f":"(Abschreibungsbarwert(-1,$A16,Q$2,'..'!$B$5)-Abschreibungsbarwert('..'!$B$7,'.'!$A16,'.'!Q$2,'..'!$B$5))*'..'!$B$5","v":-4.7201618128721513E-2},{"$f":"(Abschreibungsbarwert(-1,$A16,R$2,'..'!$B$5)-Abschreibungsbarwert('..'!$B$7,'.'!$A16,'.'!R$2,'..'!$B$5))*'..'!$B$5","v":-4.8198639601861611E-2},{"$f":"(Abschreibungsbarwert(-1,$A16,S$2,'..'!$B$5)-Abschreibungsbarwert('..'!$B$7,'.'!$A16,'.'!S$2,'..'!$B$5))*'..'!$B$5","v":-4.9075233474031206E-2},{"$f":"(Abschreibungsbarwert(-1,$A16,T$2,'..'!$B$5)-Abschreibungsbarwert('..'!$B$7,'.'!$A16,'.'!T$2,'..'!$B$5))*'..'!$B$5","v":-4.9842172967887524E-2},{"$f":"(Abschreibungsbarwert(-1,$A16,U$2,'..'!$B$5)-Abschreibungsbarwert('..'!$B$7,'.'!$A16,'.'!U$2,'..'!$B$5))*'..'!$B$5","v":-5.0509248315725279E-2},{"$f":"(Abschreibungsbarwert(-1,$A16,V$2,'..'!$B$5)-Abschreibungsbarwert('..'!$B$7,'.'!$A16,'.'!V$2,'..'!$B$5))*'..'!$B$5","v":-5.1085361721902235E-2},{"$f":"(Abschreibungsbarwert(-1,$A16,W$2,'..'!$B$5)-Abschreibungsbarwert('..'!$B$7,'.'!$A16,'.'!W$2,'..'!$B$5))*'..'!$B$5","v":-5.1578612575377096E-2},{"$f":"(Abschreibungsbarwert(-1,$A16,X$2,'..'!$B$5)-Abschreibungsbarwert('..'!$B$7,'.'!$A16,'.'!X$2,'..'!$B$5))*'..'!$B$5","v":-5.1996373973244615E-2},{"$f":"(Abschreibungsbarwert(-1,$A16,Y$2,'..'!$B$5)-Abschreibungsbarwert('..'!$B$7,'.'!$A16,'.'!Y$2,'..'!$B$5))*'..'!$B$5","v":-5.2345361494304674E-2},{"$f":"(Abschreibungsbarwert(-1,$A16,Z$2,'..'!$B$5)-Abschreibungsbarwert('..'!$B$7,'.'!$A16,'.'!Z$2,'..'!$B$5))*'..'!$B$5","v":-5.2631695054575788E-2}]
[15,{"$f":"(Abschreibungsbarwert(-1,$A17,B$2,'..'!$B$5)-Abschreibungsbarwert('..'!$B$7,'.'!$A17,'.'!B$2,'..'!$B$5))*'..'!$B$5","v":-6.1389633646429295E-3},{"$f":"(Abschreibungsbarwert(-1,$A17,C$2,'..'!$B$5)-Abschreibungsbarwert('..'!$B$7,'.'!$A17,'.'!C$2,'..'!$B$5))*'..'!$B$5","v":-1.1640853728926525E-2},{"$f":"(Abschreibungsbarwert(-1,$A17,D$2,'..'!$B$5)-Abschreibungsbarwert('..'!$B$7,'.'!$A17,'.'!D$2,'..'!$B$5))*'..'!$B$5","v":-1.6570261934156692E-2},{"$f":"(Abschreibungsbarwert(-1,$A17,E$2,'..'!$B$5)-Abschreibungsbarwert('..'!$B$7,'.'!$A17,'.'!E$2,'..'!$B$5))*'..'!$B$5","v":-2.0984868381970299E-2},{"$f":"(Abschreibungsbarwert(-1,$A17,F$2,'..'!$B$5)-Abschreibungsbarwert('..'!$B$7,'.'!$A17,'.'!F$2,'..'!$B$5))*'..'!$B$5","v":-2.493622902781949E-2},{"$f":"(Abschreibungsbarwert(-1,$A17,G$2,'..'!$B$5)-Abschreibungsbarwert('..'!$B$7,'.'!$A17,'.'!G$2,'..'!$B$5))*'..'!$B$5","v":-2.847046659988595E-2},{"$f":"(Abschreibungsbarwert(-1,$A17,H$2,'..'!$B$5)-Abschreibungsbarwert('..'!$B$7,'.'!$A17,'.'!H$2,'..'!$B$5))*'..'!$B$5","v":-3.1628879105531152E-2},{"$f":"(Abschreibungsbarwert(-1,$A17,I$2,'..'!$B$5)-Abschreibungsbarwert('..'!$B$7,'.'!$A17,'.'!I$2,'..'!$B$5))*'..'!$B$5","v":-3.4448476073840634E-2},{"$f":"(Abschreibungsbarwert(-1,$A17,J$2,'..'!$B$5)-Abschreibungsbarwert('..'!$B$7,'.'!$A17,'.'!J$2,'..'!$B$5))*'..'!$B$5","v":-3.6962451595303557E-2},{"$f":"(Abschreibungsbarwert(-1,$A17,K$2,'..'!$B$5)-Abschreibungsbarwert('..'!$B$7,'.'!$A17,'.'!K$2,'..'!$B$5))*'..'!$B$5","v":-3.9200602025110706E-2},{"$f":"(Abschreibungsbarwert(-1,$A17,L$2,'..'!$B$5)-Abschreibungsbarwert('..'!$B$7,'.'!$A17,'.'!L$2,'..'!$B$5))*'..'!$B$5","v":-4.118969518696549E-2},{"$f":"(Abschreibungsbarwert(-1,$A17,M$2,'..'!$B$5)-Abschreibungsbarwert('..'!$B$7,'.'!$A17,'.'!M$2,'..'!$B$5))*'..'!$B$5","v":-4.2953797025884109E-2},{"$f":"(Abschreibungsbarwert(-1,$A17,N$2,'..'!$B$5)-Abschreibungsbarwert('..'!$B$7,'.'!$A17,'.'!N$2,'..'!$B$5))*'..'!$B$5","v":-4.4514560890996507E-2},{"$f":"(Abschreibungsbarwert(-1,$A17,O$2,'..'!$B$5)-Abschreibungsbarwert('..'!$B$7,'.'!$A17,'.'!O$2,'..'!$B$5))*'..'!$B$5","v":-4.5891483965673802E-2},{"$f":"(Abschreibungsbarwert(-1,$A17,P$2,'..'!$B$5)-Abschreibungsbarwert('..'!$B$7,'.'!$A17,'.'!P$2,'..'!$B$5))*'..'!$B$5","v":-4.7102134787713829E-2},{"$f":"(Abschreibungsbarwert(-1,$A17,Q$2,'..'!$B$5)-Abschreibungsbarwert('..'!$B$7,'.'!$A17,'.'!Q$2,'..'!$B$5))*'..'!$B$5","v":-4.8162355304344408E-2},{"$f":"(Abschreibungsbarwert(-1,$A17,R$2,'..'!$B$5)-Abschreibungsbarwert('..'!$B$7,'.'!$A17,'.'!R$2,'..'!$B$5))*'..'!$B$5","v":-4.908644047477053E-2},{"$f":"(Abschreibungsbarwert(-1,$A17,S$2,'..'!$B$5)-Abschreibungsbarwert('..'!$B$7,'.'!$A17,'.'!S$2,'..'!$B$5))*'..'!$B$5","v":-4.9887298057769612E-2},{"$f":"(Abschreibungsbarwert(-1,$A17,T$2,'..'!$B$5)-Abschreibungsbarwert('..'!$B$7,'.'!$A17,'.'!T$2,'..'!$B$5))*'..'!$B$5","v":-5.0576590895628083E-2},{"$f":"(Abschreibungsbarwert(-1,$A17,U$2,'..'!$B$5)-Abschreibungsbarwert('..'!$B$7,'.'!$A17,'.'!U$2,'..'!$B$5))*'..'!$B$5","v":-5.1164863721821018E-2},{"$f":"(Abschreibungsbarwert(-1,$A17,V$2,'..'!$B$5)-Abschreibungsbarwert('..'!$B$7,'.'!$A17,'.'!V$2,'..'!$B$5))*'..'!$B$5","v":-5.1661656272520548E-2},{"$f":"(Abschreibungsbarwert(-1,$A17,W$2,'..'!$B$5)-Abschreibungsbarwert('..'!$B$7,'.'!$A17,'.'!W$2,'..'!$B$5))*'..'!$B$5","v":-5.2075604266355525E-2},{"$f":"(Abschreibungsbarwert(-1,$A17,X$2,'..'!$B$5)-Abschreibungsbarwert('..'!$B$7,'.'!$A17,'.'!X$2,'..'!$B$5))*'..'!$B$5","v":-5.24145296286017E-2},{"$f":"(Abschreibungsbarwert(-1,$A17,Y$2,'..'!$B$5)-Abschreibungsbarwert('..'!$B$7,'.'!$A17,'.'!Y$2,'..'!$B$5))*'..'!$B$5","v":-5.2685521171505073E-2},{"$f":"(Abschreibungsbarwert(-1,$A17,Z$2,'..'!$B$5)-Abschreibungsbarwert('..'!$B$7,'.'!$A17,'.'!Z$2,'..'!$B$5))*'..'!$B$5","v":-5.2895006798598612E-2}]
[16,{"$f":"(Abschreibungsbarwert(-1,$A18,B$2,'..'!$B$5)-Abschreibungsbarwert('..'!$B$7,'.'!$A18,'.'!B$2,'..'!$B$5))*'..'!$B$5","v":-6.4807821377094585E-3},{"$f":"(Abschreibungsbarwert(-1,$A18,C$2,'..'!$B$5)-Abschreibungsbarwert('..'!$B$7,'.'!$A18,'.'!C$2,'..'!$B$5))*'..'!$B$5","v":-1.2251872697448776E-2},{"$f":"(Abschreibungsbarwert(-1,$A18,D$2,'..'!$B$5)-Abschreibungsbarwert('..'!$B$7,'.'!$A18,'.'!D$2,'..'!$B$5))*'..'!$B$5","v":-1.738896304294266E-2},{"$f":"(Abschreibungsbarwert(-1,$A18,E$2,'..'!$B$5)-Abschreibungsbarwert('..'!$B$7,'.'!$A18,'.'!E$2,'..'!$B$5))*'..'!$B$5","v":-2.1959249384022581E-2},{"$f":"(Abschreibungsbarwert(-1,$A18,F$2,'..'!$B$5)-Abschreibungsbarwert('..'!$B$7,'.'!$A18,'.'!F$2,'..'!$B$5))*'..'!$B$5","v":-2.6022443871940405E-2},{"$f":"(Abschreibungsbarwert(-1,$A18,G$2,'..'!$B$5)-Abschreibungsbarwert('..'!$B$7,'.'!$A18,'.'!G$2,'..'!$B$5))*'..'!$B$5","v":-2.9631658405043355E-2},{"$f":"(Abschreibungsbarwert(-1,$A18,H$2,'..'!$B$5)-Abschreibungsbarwert('..'!$B$7,'.'!$A18,'.'!H$2,'..'!$B$5))*'..'!$B$5","v":-3.2834178024379872E-2},{"$f":"(Abschreibungsbarwert(-1,$A18,I$2,'..'!$B$5)-Abschreibungsbarwert('..'!$B$7,'.'!$A18,'.'!I$2,'..'!$B$5))*'..'!$B$5","v":-3.5672138430569357E-2},{"$f":"(Abschreibungsbarwert(-1,$A18,J$2,'..'!$B$5)-Abschreibungsbarwert('..'!$B$7,'.'!$A18,'.'!J$2,'..'!$B$5))*'..'!$B$5","v":-3.8183120146526979E-2},{"$f":"(Abschreibungsbarwert(-1,$A18,K$2,'..'!$B$5)-Abschreibungsbarwert('..'!$B$7,'.'!$A18,'.'!K$2,'..'!$B$5))*'..'!$B$5","v":-4.0400670133633361E-2},{"$f":"(Abschreibungsbarwert(-1,$A18,L$2,'..'!$B$5)-Abschreibungsbarwert('..'!$B$7,'.'!$A18,'.'!L$2,'..'!$B$5))*'..'!$B$5","v":-4.2354760198072987E-2},{"$f":"(Abschreibungsbarwert(-1,$A18,M$2,'..'!$B$5)-Abschreibungsbarwert('..'!$B$7,'.'!$A18,'.'!M$2,'..'!$B$5))*'..'!$B$5","v":-4.4072190262561615E-2},{"$f":"(Abschreibungsbarwert(-1,$A18,N$2,'..'!$B$5)-Abschreibungsbarwert('..'!$B$7,'.'!$A18,'.'!N$2,'..'!$B$5))*'..'!$B$5","v":-4.5576943495458003E-2},{"$f":"(Abschreibungsbarwert(-1,$A18,O$2,'..'!$B$5)-Abschreibungsbarwert('..'!$B$7,'.'!$A18,'.'!O$2,'..'!$B$5))*'..'!$B$5","v":-4.6890499358062734E-2},{"$f":"(Abschreibungsbarwert(-1,$A18,P$2,'..'!$B$5)-Abschreibungsbarwert('..'!$B$7,'.'!$A18,'.'!P$2,'..'!$B$5))*'..'!$B$5","v":-4.803210982946176E-2},{"$f":"(Abschreibungsbarwert(-1,$A18,Q$2,'..'!$B$5)-Abschreibungsbarwert('..'!$B$7,'.'!$A18,'.'!Q$2,'..'!$B$5))*'..'!$B$5","v":-4.9019043377751786E-2},{"$f":"(Abschreibungsbarwert(-1,$A18,R$2,'..'!$B$5)-Abschreibungsbarwert('..'!$B$7,'.'!$A18,'.'!R$2,'..'!$B$5))*'..'!$B$5","v":-4.9866800650846713E-2},{"$f":"(Abschreibungsbarwert(-1,$A18,S$2,'..'!$B$5)-Abschreibungsbarwert('..'!$B$7,'.'!$A18,'.'!S$2,'..'!$B$5))*'..'!$B$5","v":-5.058930534572368E-2},{"$f":"(Abschreibungsbarwert(-1,$A18,T$2,'..'!$B$5)-Abschreibungsbarwert('..'!$B$7,'.'!$A18,'.'!T$2,'..'!$B$5))*'..'!$B$5","v":-5.1199073270337313E-2},{"$f":"(Abschreibungsbarwert(-1,$A18,U$2,'..'!$B$5)-Abschreibungsbarwert('..'!$B$7,'.'!$A18,'.'!U$2,'..'!$B$5))*'..'!$B$5","v":-5.1707362227654957E-2},{"$f":"(Abschreibungsbarwert(-1,$A18,V$2,'..'!$B$5)-Abschreibungsbarwert('..'!$B$7,'.'!$A18,'.'!V$2,'..'!$B$5))*'..'!$B$5","v":-5.2124305017931361E-2},{"$f":"(Abschreibungsbarwert(-1,$A18,W$2,'..'!$B$5)-Abschreibungsbarwert('..'!$B$7,'.'!$A18,'.'!W$2,'..'!$B$5))*'..'!$B$5","v":-5.2459027566271889E-2},{"$f":"(Abschreibungsbarwert(-1,$A18,X$2,'..'!$B$5)-Abschreibungsbarwert('..'!$B$7,'.'!$A18,'.'!X$2,'..'!$B$5))*'..'!$B$5","v":-5.2719753931590313E-2},{"$f":"(Abschreibungsbarwert(-1,$A18,Y$2,'..'!$B$5)-Abschreibungsbarwert('..'!$B$7,'.'!$A18,'.'!Y$2,'..'!$B$5))*'..'!$B$5","v":-5.2913899735000179E-2},{"$f":"(Abschreibungsbarwert(-1,$A18,Z$2,'..'!$B$5)-Abschreibungsbarwert('..'!$B$7,'.'!$A18,'.'!Z$2,'..'!$B$5))*'..'!$B$5","v":-5.3048155355987843E-2}]
[17,{"$f":"(Abschreibungsbarwert(-1,$A19,B$2,'..'!$B$5)-Abschreibungsbarwert('..'!$B$7,'.'!$A19,'.'!B$2,'..'!$B$5))*'..'!$B$5","v":-6.8183056213366872E-3},{"$f":"(Abschreibungsbarwert(-1,$A19,C$2,'..'!$B$5)-Abschreibungsbarwert('..'!$B$7,'.'!$A19,'.'!C$2,'..'!$B$5))*'..'!$B$5","v":-1.2851267482623979E-2},{"$f":"(Abschreibungsbarwert(-1,$A19,D$2,'..'!$B$5)-Abschreibungsbarwert('..'!$B$7,'.'!$A19,'.'!D$2,'..'!$B$5))*'..'!$B$5","v":-1.8186738019234448E-2},{"$f":"(Abschreibungsbarwert(-1,$A19,E$2,'..'!$B$5)-Abschreibungsbarwert('..'!$B$7,'.'!$A19,'.'!E$2,'..'!$B$5))*'..'!$B$5","v":-2.2902253662100292E-2},{"$f":"(Abschreibungsbarwert(-1,$A19,F$2,'..'!$B$5)-Abschreibungsbarwert('..'!$B$7,'.'!$A19,'.'!F$2,'..'!$B$5))*'..'!$B$5","v":-2.706631655063305E-2},{"$f":"(Abschreibungsbarwert(-1,$A19,G$2,'..'!$B$5)-Abschreibungsbarwert('..'!$B$7,'.'!$A19,'.'!G$2,'..'!$B$5))*'..'!$B$5","v":-3.0739508146087887E-2},{"$f":"(Abschreibungsbarwert(-1,$A19,H$2,'..'!$B$5)-Abschreibungsbarwert('..'!$B$7,'.'!$A19,'.'!H$2,'..'!$B$5))*'..'!$B$5","v":-3.3975457924829089E-2},{"$f":"(Abschreibungsbarwert(-1,$A19,I$2,'..'!$B$5)-Abschreibungsbarwert('..'!$B$7,'.'!$A19,'.'!I$2,'..'!$B$5))*'..'!$B$5","v":-3.6821686983515983E-2},{"$f":"(Abschreibungsbarwert(-1,$A19,J$2,'..'!$B$5)-Abschreibungsbarwert('..'!$B$7,'.'!$A19,'.'!J$2,'..'!$B$5))*'..'!$B$5","v":-3.9320343545344916E-2},{"$f":"(Abschreibungsbarwert(-1,$A19,K$2,'..'!$B$5)-Abschreibungsbarwert('..'!$B$7,'.'!$A19,'.'!K$2,'..'!$B$5))*'..'!$B$5","v":-4.1508844938996599E-2},{"$f":"(Abschreibungsbarwert(-1,$A19,L$2,'..'!$B$5)-Abschreibungsbarwert('..'!$B$7,'.'!$A19,'.'!L$2,'..'!$B$5))*'..'!$B$5","v":-4.3420438563615368E-2},{"$f":"(Abschreibungsbarwert(-1,$A19,M$2,'..'!$B$5)-Abschreibungsbarwert('..'!$B$7,'.'!$A19,'.'!M$2,'..'!$B$5))*'..'!$B$5","v":-4.5084692598437226E-2},{"$f":"(Abschreibungsbarwert(-1,$A19,N$2,'..'!$B$5)-Abschreibungsbarwert('..'!$B$7,'.'!$A19,'.'!N$2,'..'!$B$5))*'..'!$B$5","v":-4.6527925717958371E-2},{"$f":"(Abschreibungsbarwert(-1,$A19,O$2,'..'!$B$5)-Abschreibungsbarwert('..'!$B$7,'.'!$A19,'.'!O$2,'..'!$B$5))*'..'!$B$5","v":-4.7773583793617763E-2},{"$f":"(Abschreibungsbarwert(-1,$A19,P$2,'..'!$B$5)-Abschreibungsbarwert('..'!$B$7,'.'!$A19,'.'!P$2,'..'!$B$5))*'..'!$B$5","v":-4.8842570467858587E-2},{"$f":"(Abschreibungsbarwert(-1,$A19,Q$2,'..'!$B$5)-Abschreibungsbarwert('..'!$B$7,'.'!$A19,'.'!Q$2,'..'!$B$5))*'..'!$B$5","v":-4.9753537548347763E-2},{"$f":"(Abschreibungsbarwert(-1,$A19,R$2,'..'!$B$5)-Abschreibungsbarwert('..'!$B$7,'.'!$A19,'.'!R$2,'..'!$B$5))*'..'!$B$5","v":-5.052314036561454E-2},{"$f":"(Abschreibungsbarwert(-1,$A19,S$2,'..'!$B$5)-Abschreibungsbarwert('..'!$B$7,'.'!$A19,'.'!S$2,'..'!$B$5))*'..'!$B$5","v":-5.1166262546602753E-2},{"$f":"(Abschreibungsbarwert(-1,$A19,T$2,'..'!$B$5)-Abschreibungsbarwert('..'!$B$7,'.'!$A19,'.'!T$2,'..'!$B$5))*'..'!$B$5","v":-5.1696214062857772E-2},{"$f":"(Abschreibungsbarwert(-1,$A19,U$2,'..'!$B$5)-Abschreibungsbarwert('..'!$B$7,'.'!$A19,'.'!U$2,'..'!$B$5))*'..'!$B$5","v":-5.2124905901095996E-2},{"$f":"(Abschreibungsbarwert(-1,$A19,V$2,'..'!$B$5)-Abschreibungsbarwert('..'!$B$7,'.'!$A19,'.'!V$2,'..'!$B$5))*'..'!$B$5","v":-5.246300426369551E-2},{"$f":"(Abschreibungsbarwert(-1,$A19,W$2,'..'!$B$5)-Abschreibungsbarwert('..'!$B$7,'.'!$A19,'.'!W$2,'..'!$B$5))*'..'!$B$5","v":-5.2720066826984865E-2},{"$f":"(Abschreibungsbarwert(-1,$A19,X$2,'..'!$B$5)-Abschreibungsbarwert('..'!$B$7,'.'!$A19,'.'!X$2,'..'!$B$5))*'..'!$B$5","v":-5.2904663257410445E-2},{"$f":"(Abschreibungsbarwert(-1,$A19,Y$2,'..'!$B$5)-Abschreibungsbarwert('..'!$B$7,'.'!$A19,'.'!Y$2,'..'!$B$5))*'..'!$B$5","v":-5.3024481902339375E-2},{"$f":"(Abschreibungsbarwert(-1,$A19,Z$2,'..'!$B$5)-Abschreibungsbarwert('..'!$B$7,'.'!$A19,'.'!Z$2,'..'!$B$5))*'..'!$B$5","v":-5.308642432712031E-2}]
[18,{"$f":"(Abschreibungsbarwert(-1,$A20,B$2,'..'!$B$5)-Abschreibungsbarwert('..'!$B$7,'.'!$A20,'.'!B$2,'..'!$B$5))*'..'!$B$5","v":-7.1521038199646291E-3},{"$f":"(Abschreibungsbarwert(-1,$A20,C$2,'..'!$B$5)-Abschreibungsbarwert('..'!$B$7,'.'!$A20,'.'!C$2,'..'!$B$5))*'..'!$B$5","v":-1.3440203142839949E-2},{"$f":"(Abschreibungsbarwert(-1,$A20,D$2,'..'!$B$5)-Abschreibungsbarwert('..'!$B$7,'.'!$A20,'.'!D$2,'..'!$B$5))*'..'!$B$5","v":-1.8965407275317141E-2},{"$f":"(Abschreibungsbarwert(-1,$A20,E$2,'..'!$B$5)-Abschreibungsbarwert('..'!$B$7,'.'!$A20,'.'!E$2,'..'!$B$5))*'..'!$B$5","v":-2.3816433438975972E-2},{"$f":"(Abschreibungsbarwert(-1,$A20,F$2,'..'!$B$5)-Abschreibungsbarwert('..'!$B$7,'.'!$A20,'.'!F$2,'..'!$B$5))*'..'!$B$5","v":-2.8071210513332247E-2},{"$f":"(Abschreibungsbarwert(-1,$A20,G$2,'..'!$B$5)-Abschreibungsbarwert('..'!$B$7,'.'!$A20,'.'!G$2,'..'!$B$5))*'..'!$B$5","v":-3.1798264093865512E-2},{"$f":"(Abschreibungsbarwert(-1,$A20,H$2,'..'!$B$5)-Abschreibungsbarwert('..'!$B$7,'.'!$A20,'.'!H$2,'..'!$B$5))*'..'!$B$5","v":-3.5057914163981713E-2},{"$f":"(Abschreibungsbarwert(-1,$A20,I$2,'..'!$B$5)-Abschreibungsbarwert('..'!$B$7,'.'!$A20,'.'!I$2,'..'!$B$5))*'..'!$B$5","v":-3.7903311995642952E-2},{"$f":"(Abschreibungsbarwert(-1,$A20,J$2,'..'!$B$5)-Abschreibungsbarwert('..'!$B$7,'.'!$A20,'.'!J$2,'..'!$B$5))*'..'!$B$5","v":-4.0381338939816984E-2},{"$f":"(Abschreibungsbarwert(-1,$A20,K$2,'..'!$B$5)-Abschreibungsbarwert('..'!$B$7,'.'!$A20,'.'!K$2,'..'!$B$5))*'..'!$B$5","v":-4.253338642651032E-2},{"$f":"(Abschreibungsbarwert(-1,$A20,L$2,'..'!$B$5)-Abschreibungsbarwert('..'!$B$7,'.'!$A20,'.'!L$2,'..'!$B$5))*'..'!$B$5","v":-4.4396033666430045E-2},{"$f":"(Abschreibungsbarwert(-1,$A20,M$2,'..'!$B$5)-Abschreibungsbarwert('..'!$B$7,'.'!$A20,'.'!M$2,'..'!$B$5))*'..'!$B$5","v":-4.600163715019201E-2},{"$f":"(Abschreibungsbarwert(-1,$A20,N$2,'..'!$B$5)-Abschreibungsbarwert('..'!$B$7,'.'!$A20,'.'!N$2,'..'!$B$5))*'..'!$B$5","v":-4.7378844007939479E-2},{"$f":"(Abschreibungsbarwert(-1,$A20,O$2,'..'!$B$5)-Abschreibungsbarwert('..'!$B$7,'.'!$A20,'.'!O$2,'..'!$B$5))*'..'!$B$5","v":-4.8553039565084555E-2},{"$f":"(Abschreibungsbarwert(-1,$A20,P$2,'..'!$B$5)-Abschreibungsbarwert('..'!$B$7,'.'!$A20,'.'!P$2,'..'!$B$5))*'..'!$B$5","v":-4.9546737960725069E-2},{"$f":"(Abschreibungsbarwert(-1,$A20,Q$2,'..'!$B$5)-Abschreibungsbarwert('..'!$B$7,'.'!$A20,'.'!Q$2,'..'!$B$5))*'..'!$B$5","v":-5.0379923444070218E-2},{"$f":"(Abschreibungsbarwert(-1,$A20,R$2,'..'!$B$5)-Abschreibungsbarwert('..'!$B$7,'.'!$A20,'.'!R$2,'..'!$B$5))*'..'!$B$5","v":-5.1070348897263688E-2},{"$f":"(Abschreibungsbarwert(-1,$A20,S$2,'..'!$B$5)-Abschreibungsbarwert('..'!$B$7,'.'!$A20,'.'!S$2,'..'!$B$5))*'..'!$B$5","v":-5.1633797222104642E-2},{"$f":"(Abschreibungsbarwert(-1,$A20,T$2,'..'!$B$5)-Abschreibungsbarwert('..'!$B$7,'.'!$A20,'.'!T$2,'..'!$B$5))*'..'!$B$5","v":-5.2084310449567066E-2},{"$f":"(Abschreibungsbarwert(-1,$A20,U$2,'..'!$B$5)-Abschreibungsbarwert('..'!$B$7,'.'!$A20,'.'!U$2,'..'!$B$5))*'..'!$B$5","v":-5.243439076471245E-2},{"$f":"(Abschreibungsbarwert(-1,$A20,V$2,'..'!$B$5)-Abschreibungsbarwert('..'!$B$7,'.'!$A20,'.'!V$2,'..'!$B$5))*'..'!$B$5","v":-5.2695177068722461E-2},{"$f":"(Abschreibungsbarwert(-1,$A20,W$2,'..'!$B$5)-Abschreibungsbarwert('..'!$B$7,'.'!$A20,'.'!W$2,'..'!$B$5))*'..'!$B$5","v":-5.2876600210104964E-2},{"$f":"(Abschreibungsbarwert(-1,$A20,X$2,'..'!$B$5)-Abschreibungsbarwert('..'!$B$7,'.'!$A20,'.'!X$2,'..'!$B$5))*'..'!$B$5","v":-5.2987519596632469E-2},{"$f":"(Abschreibungsbarwert(-1,$A20,Y$2,'..'!$B$5)-Abschreibungsbarwert('..'!$B$7,'.'!$A20,'.'!Y$2,'..'!$B$5))*'..'!$B$5","v":-5.3035843538067347E-2},{"$f":"(Abschreibungsbarwert(-1,$A20,Z$2,'..'!$B$5)-Abschreibungsbarwert('..'!$B$7,'.'!$A20,'.'!Z$2,'..'!$B$5))*'..'!$B$5","v":-5.3028635358599883E-2}]
[19,{"$f":"(Abschreibungsbarwert(-1,$A21,B$2,'..'!$B$5)-Abschreibungsbarwert('..'!$B$7,'.'!$A21,'.'!B$2,'..'!$B$5))*'..'!$B$5","v":-7.4876350193585949E-3},{"$f":"(Abschreibungsbarwert(-1,$A21,C$2,'..'!$B$5)-Abschreibungsbarwert('..'!$B$7,'.'!$A21,'.'!C$2,'..'!$B$5))*'..'!$B$5","v":-1.4028520426400678E-2},{"$f":"(Abschreibungsbarwert(-1,$A21,D$2,'..'!$B$5)-Abschreibungsbarwert('..'!$B$7,'.'!$A21,'.'!D$2,'..'!$B$5))*'..'!$B$5","v":-1.9738344944303907E-2},{"$f":"(Abschreibungsbarwert(-1,$A21,E$2,'..'!$B$5)-Abschreibungsbarwert('..'!$B$7,'.'!$A21,'.'!E$2,'..'!$B$5))*'..'!$B$5","v":-2.471802294077817E-2},{"$f":"(Abschreibungsbarwert(-1,$A21,F$2,'..'!$B$5)-Abschreibungsbarwert('..'!$B$7,'.'!$A21,'.'!F$2,'..'!$B$5))*'..'!$B$5","v":-2.9055682968614882E-2},{"$f":"(Abschreibungsbarwert(-1,$A21,G$2,'..'!$B$5)-Abschreibungsbarwert('..'!$B$7,'.'!$A21,'.'!G$2,'..'!$B$5))*'..'!$B$5","v":-3.282837479330377E-2},{"$f":"(Abschreibungsbarwert(-1,$A21,H$2,'..'!$B$5)-Abschreibungsbarwert('..'!$B$7,'.'!$A21,'.'!H$2,'..'!$B$5))*'..'!$B$5","v":-3.6103536671065008E-2},{"$f":"(Abschreibungsbarwert(-1,$A21,I$2,'..'!$B$5)-Abschreibungsbarwert('..'!$B$7,'.'!$A21,'.'!I$2,'..'!$B$5))*'..'!$B$5","v":-3.8940258171453718E-2},{"$f":"(Abschreibungsbarwert(-1,$A21,J$2,'..'!$B$5)-Abschreibungsbarwert('..'!$B$7,'.'!$A21,'.'!J$2,'..'!$B$5))*'..'!$B$5","v":-4.1390368412474197E-2},{"$f":"(Abschreibungsbarwert(-1,$A21,K$2,'..'!$B$5)-Abschreibungsbarwert('..'!$B$7,'.'!$A21,'.'!K$2,'..'!$B$5))*'..'!$B$5","v":-4.3499375018351938E-2},{"$f":"(Abschreibungsbarwert(-1,$A21,L$2,'..'!$B$5)-Abschreibungsbarwert('..'!$B$7,'.'!$A21,'.'!L$2,'..'!$B$5))*'..'!$B$5","v":-4.5307275276480714E-2},{"$f":"(Abschreibungsbarwert(-1,$A21,M$2,'..'!$B$5)-Abschreibungsbarwert('..'!$B$7,'.'!$A21,'.'!M$2,'..'!$B$5))*'..'!$B$5","v":-4.6849257741130107E-2},{"$f":"(Abschreibungsbarwert(-1,$A21,N$2,'..'!$B$5)-Abschreibungsbarwert('..'!$B$7,'.'!$A21,'.'!N$2,'..'!$B$5))*'..'!$B$5","v":-4.8156309808219167E-2},{"$f":"(Abschreibungsbarwert(-1,$A21,O$2,'..'!$B$5)-Abschreibungsbarwert('..'!$B$7,'.'!$A21,'.'!O$2,'..'!$B$5))*'..'!$B$5","v":-4.9255744485589364E-2},{"$f":"(Abschreibungsbarwert(-1,$A21,P$2,'..'!$B$5)-Abschreibungsbarwert('..'!$B$7,'.'!$A21,'.'!P$2,'..'!$B$5))*'..'!$B$5","v":-5.0171657638360845E-2},{"$f":"(Abschreibungsbarwert(-1,$A21,Q$2,'..'!$B$5)-Abschreibungsbarwert('..'!$B$7,'.'!$A21,'.'!Q$2,'..'!$B$5))*'..'!$B$5","v":-5.0925325342197347E-2},{"$f":"(Abschreibungsbarwert(-1,$A21,R$2,'..'!$B$5)-Abschreibungsbarwert('..'!$B$7,'.'!$A21,'.'!R$2,'..'!$B$5))*'..'!$B$5","v":-5.1535549581149982E-2},{"$f":"(Abschreibungsbarwert(-1,$A21,S$2,'..'!$B$5)-Abschreibungsbarwert('..'!$B$7,'.'!$A21,'.'!S$2,'..'!$B$5))*'..'!$B$5","v":-5.2018959341569936E-2},{"$f":"(Abschreibungsbarwert(-1,$A21,T$2,'..'!$B$5)-Abschreibungsbarwert('..'!$B$7,'.'!$A21,'.'!T$2,'..'!$B$5))*'..'!$B$5","v":-5.2390273146234553E-2},{"$f":"(Abschreibungsbarwert(-1,$A21,U$2,'..'!$B$5)-Abschreibungsbarwert('..'!$B$7,'.'!$A21,'.'!U$2,'..'!$B$5))*'..'!$B$5","v":-5.2662528215570256E-2},{"$f":"(Abschreibungsbarwert(-1,$A21,V$2,'..'!$B$5)-Abschreibungsbarwert('..'!$B$7,'.'!$A21,'.'!V$2,'..'!$B$5))*'..'!$B$5","v":-5.2847280712437356E-2},{"$f":"(Abschreibungsbarwert(-1,$A21,W$2,'..'!$B$5)-Abschreibungsbarwert('..'!$B$7,'.'!$A21,'.'!W$2,'..'!$B$5))*'..'!$B$5","v":-5.2954780903840905E-2},{"$f":"(Abschreibungsbarwert(-1,$A21,X$2,'..'!$B$5)-Abschreibungsbarwert('..'!$B$7,'.'!$A21,'.'!X$2,'..'!$B$5))*'..'!$B$5","v":-5.2994126540743376E-2},{"$f":"(Abschreibungsbarwert(-1,$A21,Y$2,'..'!$B$5)-Abschreibungsbarwert('..'!$B$7,'.'!$A21,'.'!Y$2,'..'!$B$5))*'..'!$B$5","v":-5.2973397302090511E-2},{"$f":"(Abschreibungsbarwert(-1,$A21,Z$2,'..'!$B$5)-Abschreibungsbarwert('..'!$B$7,'.'!$A21,'.'!Z$2,'..'!$B$5))*'..'!$B$5","v":-5.2899772759575511E-2}]
[20,{"$f":"(Abschreibungsbarwert(-1,$A22,B$2,'..'!$B$5)-Abschreibungsbarwert('..'!$B$7,'.'!$A22,'.'!B$2,'..'!$B$5))*'..'!$B$5","v":-7.8191822562830287E-3},{"$f":"(Abschreibungsbarwert(-1,$A22,C$2,'..'!$B$5)-Abschreibungsbarwert('..'!$B$7,'.'!$A22,'.'!C$2,'..'!$B$5))*'..'!$B$5","v":-1.4606027734821964E-2},{"$f":"(Abschreibungsbarwert(-1,$A22,D$2,'..'!$B$5)-Abschreibungsbarwert('..'!$B$7,'.'!$A22,'.'!D$2,'..'!$B$5))*'..'!$B$5","v":-2.0491968758971586E-2},{"$f":"(Abschreibungsbarwert(-1,$A22,E$2,'..'!$B$5)-Abschreibungsbarwert('..'!$B$7,'.'!$A22,'.'!E$2,'..'!$B$5))*'..'!$B$5","v":-2.5590983152809142E-2},{"$f":"(Abschreibungsbarwert(-1,$A22,F$2,'..'!$B$5)-Abschreibungsbarwert('..'!$B$7,'.'!$A22,'.'!F$2,'..'!$B$5))*'..'!$B$5","v":-3.0002032979756964E-2},{"$f":"(Abschreibungsbarwert(-1,$A22,G$2,'..'!$B$5)-Abschreibungsbarwert('..'!$B$7,'.'!$A22,'.'!G$2,'..'!$B$5))*'..'!$B$5","v":-3.3811145455786867E-2},{"$f":"(Abschreibungsbarwert(-1,$A22,H$2,'..'!$B$5)-Abschreibungsbarwert('..'!$B$7,'.'!$A22,'.'!H$2,'..'!$B$5))*'..'!$B$5","v":-3.7093190975562039E-2},{"$f":"(Abschreibungsbarwert(-1,$A22,I$2,'..'!$B$5)-Abschreibungsbarwert('..'!$B$7,'.'!$A22,'.'!I$2,'..'!$B$5))*'..'!$B$5","v":-3.9913404394563555E-2},{"$f":"(Abschreibungsbarwert(-1,$A22,J$2,'..'!$B$5)-Abschreibungsbarwert('..'!$B$7,'.'!$A22,'.'!J$2,'..'!$B$5))*'..'!$B$5","v":-4.2328688378629277E-2},{"$f":"(Abschreibungsbarwert(-1,$A22,K$2,'..'!$B$5)-Abschreibungsbarwert('..'!$B$7,'.'!$A22,'.'!K$2,'..'!$B$5))*'..'!$B$5","v":-4.4388731511854379E-2},{"$f":"(Abschreibungsbarwert(-1,$A22,L$2,'..'!$B$5)-Abschreibungsbarwert('..'!$B$7,'.'!$A22,'.'!L$2,'..'!$B$5))*'..'!$B$5","v":-4.6136968737036571E-2},{"$f":"(Abschreibungsbarwert(-1,$A22,M$2,'..'!$B$5)-Abschreibungsbarwert('..'!$B$7,'.'!$A22,'.'!M$2,'..'!$B$5))*'..'!$B$5","v":-4.761140741908363E-2},{"$f":"(Abschreibungsbarwert(-1,$A22,N$2,'..'!$B$5)-Abschreibungsbarwert('..'!$B$7,'.'!$A22,'.'!N$2,'..'!$B$5))*'..'!$B$5","v":-4.8845338730366929E-2},{"$f":"(Abschreibungsbarwert(-1,$A22,O$2,'..'!$B$5)-Abschreibungsbarwert('..'!$B$7,'.'!$A22,'.'!O$2,'..'!$B$5))*'..'!$B$5","v":-4.9867951041840379E-2},{"$f":"(Abschreibungsbarwert(-1,$A22,P$2,'..'!$B$5)-Abschreibungsbarwert('..'!$B$7,'.'!$A22,'.'!P$2,'..'!$B$5))*'..'!$B$5","v":-5.0704859468881813E-2},{"$f":"(Abschreibungsbarwert(-1,$A22,Q$2,'..'!$B$5)-Abschreibungsbarwert('..'!$B$7,'.'!$A22,'.'!Q$2,'..'!$B$5))*'..'!$B$5","v":-5.1378563586871623E-2},{"$f":"(Abschreibungsbarwert(-1,$A22,R$2,'..'!$B$5)-Abschreibungsbarwert('..'!$B$7,'.'!$A22,'.'!R$2,'..'!$B$5))*'..'!$B$5","v":-5.1908843532664825E-2},{"$f":"(Abschreibungsbarwert(-1,$A22,S$2,'..'!$B$5)-Abschreibungsbarwert('..'!$B$7,'.'!$A22,'.'!S$2,'..'!$B$5))*'..'!$B$5","v":-5.2313103189724451E-2},{"$f":"(Abschreibungsbarwert(-1,$A22,T$2,'..'!$B$5)-Abschreibungsbarwert('..'!$B$7,'.'!$A22,'.'!T$2,'..'!$B$5))*'..'!$B$5","v":-5.2606667871349905E-2},{"$f":"(Abschreibungsbarwert(-1,$A22,U$2,'..'!$B$5)-Abschreibungsbarwert('..'!$B$7,'.'!$A22,'.'!U$2,'..'!$B$5))*'..'!$B$5","v":-5.2803042830371322E-2},{"$f":"(Abschreibungsbarwert(-1,$A22,V$2,'..'!$B$5)-Abschreibungsbarwert('..'!$B$7,'.'!$A22,'.'!V$2,'..'!$B$5))*'..'!$B$5","v":-5.291413800338033E-2},{"$f":"(Abschreibungsbarwert(-1,$A22,W$2,'..'!$B$5)-Abschreibungsbarwert('..'!$B$7,'.'!$A22,'.'!W$2,'..'!$B$5))*'..'!$B$5","v":-5.2950463616754796E-2},{"$f":"(Abschreibungsbarwert(-1,$A22,X$2,'..'!$B$5)-Abschreibungsbarwert('..'!$B$7,'.'!$A22,'.'!X$2,'..'!$B$5))*'..'!$B$5","v":-5.2921300618436334E-2},{"$f":"(Abschreibungsbarwert(-1,$A22,Y$2,'..'!$B$5)-Abschreibungsbarwert('..'!$B$7,'.'!$A22,'.'!Y$2,'..'!$B$5))*'..'!$B$5","v":-5.2834849335250345E-2},{"$f":"(Abschreibungsbarwert(-1,$A22,Z$2,'..'!$B$5)-Abschreibungsbarwert('..'!$B$7,'.'!$A22,'.'!Z$2,'..'!$B$5))*'..'!$B$5","v":-5.2698359275124E-2}]
[21,{"$f":"(Abschreibungsbarwert(-1,$A23,B$2,'..'!$B$5)-Abschreibungsbarwert('..'!$B$7,'.'!$A23,'.'!B$2,'..'!$B$5))*'..'!$B$5","v":-8.147186863079631E-3},{"$f":"(Abschreibungsbarwert(-1,$A23,C$2,'..'!$B$5)-Abschreibungsbarwert('..'!$B$7,'.'!$A23,'.'!C$2,'..'!$B$5))*'..'!$B$5","v":-1.5173633338522789E-2},{"$f":"(Abschreibungsbarwert(-1,$A23,D$2,'..'!$B$5)-Abschreibungsbarwert('..'!$B$7,'.'!$A23,'.'!D$2,'..'!$B$5))*'..'!$B$5","v":-2.1227709981542001E-2},{"$f":"(Abschreibungsbarwert(-1,$A23,E$2,'..'!$B$5)-Abschreibungsbarwert('..'!$B$7,'.'!$A23,'.'!E$2,'..'!$B$5))*'..'!$B$5","v":-2.6437334951877368E-2},{"$f":"(Abschreibungsbarwert(-1,$A23,F$2,'..'!$B$5)-Abschreibungsbarwert('..'!$B$7,'.'!$A23,'.'!F$2,'..'!$B$5))*'..'!$B$5","v":-3.0912935429590779E-2},{"$f":"(Abschreibungsbarwert(-1,$A23,G$2,'..'!$B$5)-Abschreibungsbarwert('..'!$B$7,'.'!$A23,'.'!G$2,'..'!$B$5))*'..'!$B$5","v":-3.4749959386420691E-2},{"$f":"(Abschreibungsbarwert(-1,$A23,H$2,'..'!$B$5)-Abschreibungsbarwert('..'!$B$7,'.'!$A23,'.'!H$2,'..'!$B$5))*'..'!$B$5","v":-3.8031009056168581E-2},{"$f":"(Abschreibungsbarwert(-1,$A23,I$2,'..'!$B$5)-Abschreibungsbarwert('..'!$B$7,'.'!$A23,'.'!I$2,'..'!$B$5))*'..'!$B$5","v":-4.0827655658786668E-2},{"$f":"(Abschreibungsbarwert(-1,$A23,J$2,'..'!$B$5)-Abschreibungsbarwert('..'!$B$7,'.'!$A23,'.'!J$2,'..'!$B$5))*'..'!$B$5","v":-4.3201985166602667E-2},{"$f":"(Abschreibungsbarwert(-1,$A23,K$2,'..'!$B$5)-Abschreibungsbarwert('..'!$B$7,'.'!$A23,'.'!K$2,'..'!$B$5))*'..'!$B$5","v":-4.5207916798084419E-2},{"$f":"(Abschreibungsbarwert(-1,$A23,L$2,'..'!$B$5)-Abschreibungsbarwert('..'!$B$7,'.'!$A23,'.'!L$2,'..'!$B$5))*'..'!$B$5","v":-4.6892329191338143E-2},{"$f":"(Abschreibungsbarwert(-1,$A23,M$2,'..'!$B$5)-Abschreibungsbarwert('..'!$B$7,'.'!$A23,'.'!M$2,'..'!$B$5))*'..'!$B$5","v":-4.8296023606272172E-2},{"$f":"(Abschreibungsbarwert(-1,$A23,N$2,'..'!$B$5)-Abschreibungsbarwert('..'!$B$7,'.'!$A23,'.'!N$2,'..'!$B$5))*'..'!$B$5","v":-4.9454548834534769E-2},{"$f":"(Abschreibungsbarwert(-1,$A23,O$2,'..'!$B$5)-Abschreibungsbarwert('..'!$B$7,'.'!$A23,'.'!O$2,'..'!$B$5))*'..'!$B$5","v":-5.0398908598823455E-2},{"$f":"(Abschreibungsbarwert(-1,$A23,P$2,'..'!$B$5)-Abschreibungsbarwert('..'!$B$7,'.'!$A23,'.'!P$2,'..'!$B$5))*'..'!$B$5","v":-5.1156168965552785E-2},{"$f":"(Abschreibungsbarwert(-1,$A23,Q$2,'..'!$B$5)-Abschreibungsbarwert('..'!$B$7,'.'!$A23,'.'!Q$2,'..'!$B$5))*'..'!$B$5","v":-5.1749980568246499E-2},{"$f":"(Abschreibungsbarwert(-1,$A23,R$2,'..'!$B$5)-Abschreibungsbarwert('..'!$B$7,'.'!$A23,'.'!R$2,'..'!$B$5))*'..'!$B$5","v":-5.2201028153633471E-2},{"$f":"(Abschreibungsbarwert(-1,$A23,S$2,'..'!$B$5)-Abschreibungsbarwert('..'!$B$7,'.'!$A23,'.'!S$2,'..'!$B$5))*'..'!$B$5","v":-5.2527418044226289E-2},{"$f":"(Abschreibungsbarwert(-1,$A23,T$2,'..'!$B$5)-Abschreibungsbarwert('..'!$B$7,'.'!$A23,'.'!T$2,'..'!$B$5))*'..'!$B$5","v":-5.2745012498949771E-2},{"$f":"(Abschreibungsbarwert(-1,$A23,U$2,'..'!$B$5)-Abschreibungsbarwert('..'!$B$7,'.'!$A23,'.'!U$2,'..'!$B$5))*'..'!$B$5","v":-5.2867718596510606E-2},{"$f":"(Abschreibungsbarwert(-1,$A23,V$2,'..'!$B$5)-Abschreibungsbarwert('..'!$B$7,'.'!$A23,'.'!V$2,'..'!$B$5))*'..'!$B$5","v":-5.2907738122714591E-2},{"$f":"(Abschreibungsbarwert(-1,$A23,W$2,'..'!$B$5)-Abschreibungsbarwert('..'!$B$7,'.'!$A23,'.'!W$2,'..'!$B$5))*'..'!$B$5","v":-5.2875783977986444E-2},{"$f":"(Abschreibungsbarwert(-1,$A23,X$2,'..'!$B$5)-Abschreibungsbarwert('..'!$B$7,'.'!$A23,'.'!X$2,'..'!$B$5))*'..'!$B$5","v":-5.2781267806015358E-2},{"$f":"(Abschreibungsbarwert(-1,$A23,Y$2,'..'!$B$5)-Abschreibungsbarwert('..'!$B$7,'.'!$A23,'.'!Y$2,'..'!$B$5))*'..'!$B$5","v":-5.2632462854633383E-2},{"$f":"(Abschreibungsbarwert(-1,$A23,Z$2,'..'!$B$5)-Abschreibungsbarwert('..'!$B$7,'.'!$A23,'.'!Z$2,'..'!$B$5))*'..'!$B$5","v":-5.2436645495671404E-2}]
[22,{"$f":"(Abschreibungsbarwert(-1,$A24,B$2,'..'!$B$5)-Abschreibungsbarwert('..'!$B$7,'.'!$A24,'.'!B$2,'..'!$B$5))*'..'!$B$5","v":-8.4764232420324031E-3},{"$f":"(Abschreibungsbarwert(-1,$A24,C$2,'..'!$B$5)-Abschreibungsbarwert('..'!$B$7,'.'!$A24,'.'!C$2,'..'!$B$5))*'..'!$B$5","v":-1.5739812377216496E-2},{"$f":"(Abschreibungsbarwert(-1,$A24,D$2,'..'!$B$5)-Abschreibungsbarwert('..'!$B$7,'.'!$A24,'.'!D$2,'..'!$B$5))*'..'!$B$5","v":-2.19569165600653E-2},{"$f":"(Abschreibungsbarwert(-1,$A24,E$2,'..'!$B$5)-Abschreibungsbarwert('..'!$B$7,'.'!$A24,'.'!E$2,'..'!$B$5))*'..'!$B$5","v":-2.7270657196025398E-2},{"$f":"(Abschreibungsbarwert(-1,$A24,F$2,'..'!$B$5)-Abschreibungsbarwert('..'!$B$7,'.'!$A24,'.'!F$2,'..'!$B$5))*'..'!$B$5","v":-3.1803699057546729E-2},{"$f":"(Abschreibungsbarwert(-1,$A24,G$2,'..'!$B$5)-Abschreibungsbarwert('..'!$B$7,'.'!$A24,'.'!G$2,'..'!$B$5))*'..'!$B$5","v":-3.5661460949584618E-2},{"$f":"(Abschreibungsbarwert(-1,$A24,H$2,'..'!$B$5)-Abschreibungsbarwert('..'!$B$7,'.'!$A24,'.'!H$2,'..'!$B$5))*'..'!$B$5","v":-3.8934657721869895E-2},{"$f":"(Abschreibungsbarwert(-1,$A24,I$2,'..'!$B$5)-Abschreibungsbarwert('..'!$B$7,'.'!$A24,'.'!I$2,'..'!$B$5))*'..'!$B$5","v":-4.1701449785238966E-2},{"$f":"(Abschreibungsbarwert(-1,$A24,J$2,'..'!$B$5)-Abschreibungsbarwert('..'!$B$7,'.'!$A24,'.'!J$2,'..'!$B$5))*'..'!$B$5","v":-4.4029263412940702E-2},{"$f":"(Abschreibungsbarwert(-1,$A24,K$2,'..'!$B$5)-Abschreibungsbarwert('..'!$B$7,'.'!$A24,'.'!K$2,'..'!$B$5))*'..'!$B$5","v":-4.597633448987256E-2},{"$f":"(Abschreibungsbarwert(-1,$A24,L$2,'..'!$B$5)-Abschreibungsbarwert('..'!$B$7,'.'!$A24,'.'!L$2,'..'!$B$5))*'..'!$B$5","v":-4.7593019603326327E-2},{"$f":"(Abschreibungsbarwert(-1,$A24,M$2,'..'!$B$5)-Abschreibungsbarwert('..'!$B$7,'.'!$A24,'.'!M$2,'..'!$B$5))*'..'!$B$5","v":-4.8922911114961679E-2},{"$f":"(Abschreibungsbarwert(-1,$A24,N$2,'..'!$B$5)-Abschreibungsbarwert('..'!$B$7,'.'!$A24,'.'!N$2,'..'!$B$5))*'..'!$B$5","v":-5.0003786844252225E-2},{"$f":"(Abschreibungsbarwert(-1,$A24,O$2,'..'!$B$5)-Abschreibungsbarwert('..'!$B$7,'.'!$A24,'.'!O$2,'..'!$B$5))*'..'!$B$5","v":-5.0868420007582252E-2},{"$f":"(Abschreibungsbarwert(-1,$A24,P$2,'..'!$B$5)-Abschreibungsbarwert('..'!$B$7,'.'!$A24,'.'!P$2,'..'!$B$5))*'..'!$B$5","v":-5.1545270914005716E-2},{"$f":"(Abschreibungsbarwert(-1,$A24,Q$2,'..'!$B$5)-Abschreibungsbarwert('..'!$B$7,'.'!$A24,'.'!Q$2,'..'!$B$5))*'..'!$B$5","v":-5.2059078470857063E-2},{"$f":"(Abschreibungsbarwert(-1,$A24,R$2,'..'!$B$5)-Abschreibungsbarwert('..'!$B$7,'.'!$A24,'.'!R$2,'..'!$B$5))*'..'!$B$5","v":-5.2431366679009543E-2},{"$f":"(Abschreibungsbarwert(-1,$A24,S$2,'..'!$B$5)-Abschreibungsbarwert('..'!$B$7,'.'!$A24,'.'!S$2,'..'!$B$5))*'..'!$B$5","v":-5.2680878899467064E-2},{"$f":"(Abschreibungsbarwert(-1,$A24,T$2,'..'!$B$5)-Abschreibungsbarwert('..'!$B$7,'.'!$A24,'.'!T$2,'..'!$B$5))*'..'!$B$5","v":-5.2823950668664348E-2},{"$f":"(Abschreibungsbarwert(-1,$A24,U$2,'..'!$B$5)-Abschreibungsbarwert('..'!$B$7,'.'!$A24,'.'!U$2,'..'!$B$5))*'..'!$B$5","v":-5.2874830162316998E-2},{"$f":"(Abschreibungsbarwert(-1,$A24,V$2,'..'!$B$5)-Abschreibungsbarwert('..'!$B$7,'.'!$A24,'.'!V$2,'..'!$B$5))*'..'!$B$5","v":-5.2845954001658244E-2},{"$f":"(Abschreibungsbarwert(-1,$A24,W$2,'..'!$B$5)-Abschreibungsbarwert('..'!$B$7,'.'!$A24,'.'!W$2,'..'!$B$5))*'..'!$B$5","v":-5.2748184915865623E-2},{"$f":"(Abschreibungsbarwert(-1,$A24,X$2,'..'!$B$5)-Abschreibungsbarwert('..'!$B$7,'.'!$A24,'.'!X$2,'..'!$B$5))*'..'!$B$5","v":-5.2591016782734049E-2},{"$f":"(Abschreibungsbarwert(-1,$A24,Y$2,'..'!$B$5)-Abschreibungsbarwert('..'!$B$7,'.'!$A24,'.'!Y$2,'..'!$B$5))*'..'!$B$5","v":-5.2382751735032131E-2},{"$f":"(Abschreibungsbarwert(-1,$A24,Z$2,'..'!$B$5)-Abschreibungsbarwert('..'!$B$7,'.'!$A24,'.'!Z$2,'..'!$B$5))*'..'!$B$5","v":-5.2130653316659212E-2}]
[23,{"$f":"(Abschreibungsbarwert(-1,$A25,B$2,'..'!$B$5)-Abschreibungsbarwert('..'!$B$7,'.'!$A25,'.'!B$2,'..'!$B$5))*'..'!$B$5","v":-8.8019424007278069E-3},{"$f":"(Abschreibungsbarwert(-1,$A25,C$2,'..'!$B$5)-Abschreibungsbarwert('..'!$B$7,'.'!$A25,'.'!C$2,'..'!$B$5))*'..'!$B$5","v":-1.6295895227801706E-2},{"$f":"(Abschreibungsbarwert(-1,$A25,D$2,'..'!$B$5)-Abschreibungsbarwert('..'!$B$7,'.'!$A25,'.'!D$2,'..'!$B$5))*'..'!$B$5","v":-2.2668239353541609E-2},{"$f":"(Abschreibungsbarwert(-1,$A25,E$2,'..'!$B$5)-Abschreibungsbarwert('..'!$B$7,'.'!$A25,'.'!E$2,'..'!$B$5))*'..'!$B$5","v":-2.8077790698173687E-2},{"$f":"(Abschreibungsbarwert(-1,$A25,F$2,'..'!$B$5)-Abschreibungsbarwert('..'!$B$7,'.'!$A25,'.'!F$2,'..'!$B$5))*'..'!$B$5","v":-3.2660070046281776E-2},{"$f":"(Abschreibungsbarwert(-1,$A25,G$2,'..'!$B$5)-Abschreibungsbarwert('..'!$B$7,'.'!$A25,'.'!G$2,'..'!$B$5))*'..'!$B$5","v":-3.6530881161838231E-2},{"$f":"(Abschreibungsbarwert(-1,$A25,H$2,'..'!$B$5)-Abschreibungsbarwert('..'!$B$7,'.'!$A25,'.'!H$2,'..'!$B$5))*'..'!$B$5","v":-3.9789314010361773E-2},{"$f":"(Abschreibungsbarwert(-1,$A25,I$2,'..'!$B$5)-Abschreibungsbarwert('..'!$B$7,'.'!$A25,'.'!I$2,'..'!$B$5))*'..'!$B$5","v":-4.2520269400772082E-2},{"$f":"(Abschreibungsbarwert(-1,$A25,J$2,'..'!$B$5)-Abschreibungsbarwert('..'!$B$7,'.'!$A25,'.'!J$2,'..'!$B$5))*'..'!$B$5","v":-4.4796584589639671E-2},{"$f":"(Abschreibungsbarwert(-1,$A25,K$2,'..'!$B$5)-Abschreibungsbarwert('..'!$B$7,'.'!$A25,'.'!K$2,'..'!$B$5))*'..'!$B$5","v":-4.6680825646624347E-2},{"$f":"(Abschreibungsbarwert(-1,$A25,L$2,'..'!$B$5)-Abschreibungsbarwert('..'!$B$7,'.'!$A25,'.'!L$2,'..'!$B$5))*'..'!$B$5","v":-4.8226801097583288E-2},{"$f":"(Abschreibungsbarwert(-1,$A25,M$2,'..'!$B$5)-Abschreibungsbarwert('..'!$B$7,'.'!$A25,'.'!M$2,'..'!$B$5))*'..'!$B$5","v":-4.9480842085235274E-2},{"$f":"(Abschreibungsbarwert(-1,$A25,N$2,'..'!$B$5)-Abschreibungsbarwert('..'!$B$7,'.'!$A25,'.'!N$2,'..'!$B$5))*'..'!$B$5","v":-5.048288664766401E-2},{"$f":"(Abschreibungsbarwert(-1,$A25,O$2,'..'!$B$5)-Abschreibungsbarwert('..'!$B$7,'.'!$A25,'.'!O$2,'..'!$B$5))*'..'!$B$5","v":-5.1267399413533241E-2},{"$f":"(Abschreibungsbarwert(-1,$A25,P$2,'..'!$B$5)-Abschreibungsbarwert('..'!$B$7,'.'!$A25,'.'!P$2,'..'!$B$5))*'..'!$B$5","v":-5.1864152807157046E-2},{"$f":"(Abschreibungsbarwert(-1,$A25,Q$2,'..'!$B$5)-Abschreibungsbarwert('..'!$B$7,'.'!$A25,'.'!Q$2,'..'!$B$5))*'..'!$B$5","v":-5.2298891549381485E-2},{"$f":"(Abschreibungsbarwert(-1,$A25,R$2,'..'!$B$5)-Abschreibungsbarwert('..'!$B$7,'.'!$A25,'.'!R$2,'..'!$B$5))*'..'!$B$5","v":-5.2593898671063018E-2},{"$f":"(Abschreibungsbarwert(-1,$A25,S$2,'..'!$B$5)-Abschreibungsbarwert('..'!$B$7,'.'!$A25,'.'!S$2,'..'!$B$5))*'..'!$B$5","v":-5.2768478293864732E-2},{"$f":"(Abschreibungsbarwert(-1,$A25,T$2,'..'!$B$5)-Abschreibungsbarwert('..'!$B$7,'.'!$A25,'.'!T$2,'..'!$B$5))*'..'!$B$5","v":-5.2839367971209035E-2},{"$f":"(Abschreibungsbarwert(-1,$A25,U$2,'..'!$B$5)-Abschreibungsbarwert('..'!$B$7,'.'!$A25,'.'!U$2,'..'!$B$5))*'..'!$B$5","v":-5.2821091333046792E-2},{"$f":"(Abschreibungsbarwert(-1,$A25,V$2,'..'!$B$5)-Abschreibungsbarwert('..'!$B$7,'.'!$A25,'.'!V$2,'..'!$B$5))*'..'!$B$5","v":-5.2726260069967508E-2},{"$f":"(Abschreibungsbarwert(-1,$A25,W$2,'..'!$B$5)-Abschreibungsbarwert('..'!$B$7,'.'!$A25,'.'!W$2,'..'!$B$5))*'..'!$B$5","v":-5.2565832866264373E-2},{"$f":"(Abschreibungsbarwert(-1,$A25,X$2,'..'!$B$5)-Abschreibungsbarwert('..'!$B$7,'.'!$A25,'.'!X$2,'..'!$B$5))*'..'!$B$5","v":-5.2349337699571126E-2},{"$f":"(Abschreibungsbarwert(-1,$A25,Y$2,'..'!$B$5)-Abschreibungsbarwert('..'!$B$7,'.'!$A25,'.'!Y$2,'..'!$B$5))*'..'!$B$5","v":-5.2085062926815598E-2},{"$f":"(Abschreibungsbarwert(-1,$A25,Z$2,'..'!$B$5)-Abschreibungsbarwert('..'!$B$7,'.'!$A25,'.'!Z$2,'..'!$B$5))*'..'!$B$5","v":-5.178022173972284E-2}]
[24,{"$f":"(Abschreibungsbarwert(-1,$A26,B$2,'..'!$B$5)-Abschreibungsbarwert('..'!$B$7,'.'!$A26,'.'!B$2,'..'!$B$5))*'..'!$B$5","v":-9.1240935611729638E-3},{"$f":"(Abschreibungsbarwert(-1,$A26,C$2,'..'!$B$5)-Abschreibungsbarwert('..'!$B$7,'.'!$A26,'.'!C$2,'..'!$B$5))*'..'!$B$5","v":-1.6842606448965004E-2},{"$f":"(Abschreibungsbarwert(-1,$A26,D$2,'..'!$B$5)-Abschreibungsbarwert('..'!$B$7,'.'!$A26,'.'!D$2,'..'!$B$5))*'..'!$B$5","v":-2.3362830386525323E-2},{"$f":"(Abschreibungsbarwert(-1,$A26,E$2,'..'!$B$5)-Abschreibungsbarwert('..'!$B$7,'.'!$A26,'.'!E$2,'..'!$B$5))*'..'!$B$5","v":-2.8860372803595092E-2},{"$f":"(Abschreibungsbarwert(-1,$A26,F$2,'..'!$B$5)-Abschreibungsbarwert('..'!$B$7,'.'!$A26,'.'!F$2,'..'!$B$5))*'..'!$B$5","v":-3.3484222554682523E-2},{"$f":"(Abschreibungsbarwert(-1,$A26,G$2,'..'!$B$5)-Abschreibungsbarwert('..'!$B$7,'.'!$A26,'.'!G$2,'..'!$B$5))*'..'!$B$5","v":-3.7360969615125632E-2},{"$f":"(Abschreibungsbarwert(-1,$A26,H$2,'..'!$B$5)-Abschreibungsbarwert('..'!$B$7,'.'!$A26,'.'!H$2,'..'!$B$5))*'..'!$B$5","v":-4.0598325882463565E-2},{"$f":"(Abschreibungsbarwert(-1,$A26,I$2,'..'!$B$5)-Abschreibungsbarwert('..'!$B$7,'.'!$A26,'.'!I$2,'..'!$B$5))*'..'!$B$5","v":-4.3288067652195117E-2},{"$f":"(Abschreibungsbarwert(-1,$A26,J$2,'..'!$B$5)-Abschreibungsbarwert('..'!$B$7,'.'!$A26,'.'!J$2,'..'!$B$5))*'..'!$B$5","v":-4.5508498740988529E-2},{"$f":"(Abschreibungsbarwert(-1,$A26,K$2,'..'!$B$5)-Abschreibungsbarwert('..'!$B$7,'.'!$A26,'.'!K$2,'..'!$B$5))*'..'!$B$5","v":-4.7326515639297198E-2},{"$f":"(Abschreibungsbarwert(-1,$A26,L$2,'..'!$B$5)-Abschreibungsbarwert('..'!$B$7,'.'!$A26,'.'!L$2,'..'!$B$5))*'..'!$B$5","v":-4.8799341722076929E-2},{"$f":"(Abschreibungsbarwert(-1,$A26,M$2,'..'!$B$5)-Abschreibungsbarwert('..'!$B$7,'.'!$A26,'.'!M$2,'..'!$B$5))*'..'!$B$5","v":-4.9975985815252442E-2},{"$f":"(Abschreibungsbarwert(-1,$A26,N$2,'..'!$B$5)-Abschreibungsbarwert('..'!$B$7,'.'!$A26,'.'!N$2,'..'!$B$5))*'..'!$B$5","v":-5.089847081174171E-2},{"$f":"(Abschreibungsbarwert(-1,$A26,O$2,'..'!$B$5)-Abschreibungsbarwert('..'!$B$7,'.'!$A26,'.'!O$2,'..'!$B$5))*'..'!$B$5","v":-5.1602870155610853E-2},{"$f":"(Abschreibungsbarwert(-1,$A26,P$2,'..'!$B$5)-Abschreibungsbarwert('..'!$B$7,'.'!$A26,'.'!P$2,'..'!$B$5))*'..'!$B$5","v":-5.2120183544641235E-2},{"$f":"(Abschreibungsbarwert(-1,$A26,Q$2,'..'!$B$5)-Abschreibungsbarwert('..'!$B$7,'.'!$A26,'.'!Q$2,'..'!$B$5))*'..'!$B$5","v":-5.2477077880409062E-2},{"$f":"(Abschreibungsbarwert(-1,$A26,R$2,'..'!$B$5)-Abschreibungsbarwert('..'!$B$7,'.'!$A26,'.'!R$2,'..'!$B$5))*'..'!$B$5","v":-5.2696515110480235E-2},{"$f":"(Abschreibungsbarwert(-1,$A26,S$2,'..'!$B$5)-Abschreibungsbarwert('..'!$B$7,'.'!$A26,'.'!S$2,'..'!$B$5))*'..'!$B$5","v":-5.279828498899828E-2},{"$f":"(Abschreibungsbarwert(-1,$A26,T$2,'..'!$B$5)-Abschreibungsbarwert('..'!$B$7,'.'!$A26,'.'!T$2,'..'!$B$5))*'..'!$B$5","v":-5.2799457791243253E-2},{"$f":"(Abschreibungsbarwert(-1,$A26,U$2,'..'!$B$5)-Abschreibungsbarwert('..'!$B$7,'.'!$A26,'.'!U$2,'..'!$B$5))*'..'!$B$5","v":-5.2714769542026099E-2},{"$f":"(Abschreibungsbarwert(-1,$A26,V$2,'..'!$B$5)-Abschreibungsbarwert('..'!$B$7,'.'!$A26,'.'!V$2,'..'!$B$5))*'..'!$B$5","v":-5.2556950265253997E-2},{"$f":"(Abschreibungsbarwert(-1,$A26,W$2,'..'!$B$5)-Abschreibungsbarwert('..'!$B$7,'.'!$A26,'.'!W$2,'..'!$B$5))*'..'!$B$5","v":-5.2337004057777532E-2},{"$f":"(Abschreibungsbarwert(-1,$A26,X$2,'..'!$B$5)-Abschreibungsbarwert('..'!$B$7,'.'!$A26,'.'!X$2,'..'!$B$5))*'..'!$B$5","v":-5.2064448373499654E-2},{"$f":"(Abschreibungsbarwert(-1,$A26,Y$2,'..'!$B$5)-Abschreibungsbarwert('..'!$B$7,'.'!$A26,'.'!Y$2,'..'!$B$5))*'..'!$B$5","v":-5.1747518723596765E-2},{"$f":"(Abschreibungsbarwert(-1,$A26,Z$2,'..'!$B$5)-Abschreibungsbarwert('..'!$B$7,'.'!$A26,'.'!Z$2,'..'!$B$5))*'..'!$B$5","v":-5.1393344014512628E-2}]
[25,{"$f":"(Abschreibungsbarwert(-1,$A27,B$2,'..'!$B$5)-Abschreibungsbarwert('..'!$B$7,'.'!$A27,'.'!B$2,'..'!$B$5))*'..'!$B$5","v":-9.4470950895965723E-3},{"$f":"(Abschreibungsbarwert(-1,$A27,C$2,'..'!$B$5)-Abschreibungsbarwert('..'!$B$7,'.'!$A27,'.'!C$2,'..'!$B$5))*'..'!$B$5","v":-1.7387318355722867E-2},{"$f":"(Abschreibungsbarwert(-1,$A27,D$2,'..'!$B$5)-Abschreibungsbarwert('..'!$B$7,'.'!$A27,'.'!D$2,'..'!$B$5))*'..'!$B$5","v":-2.4050414563898392E-2},{"$f":"(Abschreibungsbarwert(-1,$A27,E$2,'..'!$B$5)-Abschreibungsbarwert('..'!$B$7,'.'!$A27,'.'!E$2,'..'!$B$5))*'..'!$B$5","v":-2.962987418519724E-2},{"$f":"(Abschreibungsbarwert(-1,$A27,F$2,'..'!$B$5)-Abschreibungsbarwert('..'!$B$7,'.'!$A27,'.'!F$2,'..'!$B$5))*'..'!$B$5","v":-3.4288910246788318E-2},{"$f":"(Abschreibungsbarwert(-1,$A27,G$2,'..'!$B$5)-Abschreibungsbarwert('..'!$B$7,'.'!$A27,'.'!G$2,'..'!$B$5))*'..'!$B$5","v":-3.8165407079020948E-2},{"$f":"(Abschreibungsbarwert(-1,$A27,H$2,'..'!$B$5)-Abschreibungsbarwert('..'!$B$7,'.'!$A27,'.'!H$2,'..'!$B$5))*'..'!$B$5","v":-4.1376024916142548E-2},{"$f":"(Abschreibungsbarwert(-1,$A27,I$2,'..'!$B$5)-Abschreibungsbarwert('..'!$B$7,'.'!$A27,'.'!I$2,'..'!$B$5))*'..'!$B$5","v":-4.4019610175326872E-2},{"$f":"(Abschreibungsbarwert(-1,$A27,J$2,'..'!$B$5)-Abschreibungsbarwert('..'!$B$7,'.'!$A27,'.'!J$2,'..'!$B$5))*'..'!$B$5","v":-4.6180033655616959E-2},{"$f":"(Abschreibungsbarwert(-1,$A27,K$2,'..'!$B$5)-Abschreibungsbarwert('..'!$B$7,'.'!$A27,'.'!K$2,'..'!$B$5))*'..'!$B$5","v":-4.7928556568097372E-2},{"$f":"(Abschreibungsbarwert(-1,$A27,L$2,'..'!$B$5)-Abschreibungsbarwert('..'!$B$7,'.'!$A27,'.'!L$2,'..'!$B$5))*'..'!$B$5","v":-4.9325806198871468E-2},{"$f":"(Abschreibungsbarwert(-1,$A27,M$2,'..'!$B$5)-Abschreibungsbarwert('..'!$B$7,'.'!$A27,'.'!M$2,'..'!$B$5))*'..'!$B$5","v":-5.0423428293865841E-2},{"$f":"(Abschreibungsbarwert(-1,$A27,N$2,'..'!$B$5)-Abschreibungsbarwert('..'!$B$7,'.'!$A27,'.'!N$2,'..'!$B$5))*'..'!$B$5","v":-5.126547128119377E-2},{"$f":"(Abschreibungsbarwert(-1,$A27,O$2,'..'!$B$5)-Abschreibungsbarwert('..'!$B$7,'.'!$A27,'.'!O$2,'..'!$B$5))*'..'!$B$5","v":-5.1889547686157875E-2},{"$f":"(Abschreibungsbarwert(-1,$A27,P$2,'..'!$B$5)-Abschreibungsbarwert('..'!$B$7,'.'!$A27,'.'!P$2,'..'!$B$5))*'..'!$B$5","v":-5.23278101236095E-2},{"$f":"(Abschreibungsbarwert(-1,$A27,Q$2,'..'!$B$5)-Abschreibungsbarwert('..'!$B$7,'.'!$A27,'.'!Q$2,'..'!$B$5))*'..'!$B$5","v":-5.2607772733096178E-2},{"$f":"(Abschreibungsbarwert(-1,$A27,R$2,'..'!$B$5)-Abschreibungsbarwert('..'!$B$7,'.'!$A27,'.'!R$2,'..'!$B$5))*'..'!$B$5","v":-5.2753003581012516E-2},{"$f":"(Abschreibungsbarwert(-1,$A27,S$2,'..'!$B$5)-Abschreibungsbarwert('..'!$B$7,'.'!$A27,'.'!S$2,'..'!$B$5))*'..'!$B$5","v":-5.2783709170810461E-2},{"$f":"(Abschreibungsbarwert(-1,$A27,T$2,'..'!$B$5)-Abschreibungsbarwert('..'!$B$7,'.'!$A27,'.'!T$2,'..'!$B$5))*'..'!$B$5","v":-5.2717228599559393E-2},{"$f":"(Abschreibungsbarwert(-1,$A27,U$2,'..'!$B$5)-Abschreibungsbarwert('..'!$B$7,'.'!$A27,'.'!U$2,'..'!$B$5))*'..'!$B$5","v":-5.256845193310293E-2},{"$f":"(Abschreibungsbarwert(-1,$A27,V$2,'..'!$B$5)-Abschreibungsbarwert('..'!$B$7,'.'!$A27,'.'!V$2,'..'!$B$5))*'..'!$B$5","v":-5.2350174926348206E-2},{"$f":"(Abschreibungsbarwert(-1,$A27,W$2,'..'!$B$5)-Abschreibungsbarwert('..'!$B$7,'.'!$A27,'.'!W$2,'..'!$B$5))*'..'!$B$5","v":-5.2073400195416494E-2},{"$f":"(Abschreibungsbarwert(-1,$A27,X$2,'..'!$B$5)-Abschreibungsbarwert('..'!$B$7,'.'!$A27,'.'!X$2,'..'!$B$5))*'..'!$B$5","v":-5.174759327772889E-2},{"$f":"(Abschreibungsbarwert(-1,$A27,Y$2,'..'!$B$5)-Abschreibungsbarwert('..'!$B$7,'.'!$A27,'.'!Y$2,'..'!$B$5))*'..'!$B$5","v":-5.1380900632132083E-2},{"$f":"(Abschreibungsbarwert(-1,$A27,Z$2,'..'!$B$5)-Abschreibungsbarwert('..'!$B$7,'.'!$A27,'.'!Z$2,'..'!$B$5))*'..'!$B$5","v":-5.0980335482953811E-2}]
[26,{"$f":"(Abschreibungsbarwert(-1,$A28,B$2,'..'!$B$5)-Abschreibungsbarwert('..'!$B$7,'.'!$A28,'.'!B$2,'..'!$B$5))*'..'!$B$5","v":-9.7666052643196246E-3},{"$f":"(Abschreibungsbarwert(-1,$A28,C$2,'..'!$B$5)-Abschreibungsbarwert('..'!$B$7,'.'!$A28,'.'!C$2,'..'!$B$5))*'..'!$B$5","v":-1.7922556760147659E-2},{"$f":"(Abschreibungsbarwert(-1,$A28,D$2,'..'!$B$5)-Abschreibungsbarwert('..'!$B$7,'.'!$A28,'.'!D$2,'..'!$B$5))*'..'!$B$5","v":-2.4721380773020274E-2},{"$f":"(Abschreibungsbarwert(-1,$A28,E$2,'..'!$B$5)-Abschreibungsbarwert('..'!$B$7,'.'!$A28,'.'!E$2,'..'!$B$5))*'..'!$B$5","v":-3.0375352365026378E-2},{"$f":"(Abschreibungsbarwert(-1,$A28,F$2,'..'!$B$5)-Abschreibungsbarwert('..'!$B$7,'.'!$A28,'.'!F$2,'..'!$B$5))*'..'!$B$5","v":-3.5062499467859908E-2},{"$f":"(Abschreibungsbarwert(-1,$A28,G$2,'..'!$B$5)-Abschreibungsbarwert('..'!$B$7,'.'!$A28,'.'!G$2,'..'!$B$5))*'..'!$B$5","v":-3.8932367433319889E-2},{"$f":"(Abschreibungsbarwert(-1,$A28,H$2,'..'!$B$5)-Abschreibungsbarwert('..'!$B$7,'.'!$A28,'.'!H$2,'..'!$B$5))*'..'!$B$5","v":-4.2110772003280089E-2},{"$f":"(Abschreibungsbarwert(-1,$A28,I$2,'..'!$B$5)-Abschreibungsbarwert('..'!$B$7,'.'!$A28,'.'!I$2,'..'!$B$5))*'..'!$B$5","v":-4.4703725226247396E-2},{"$f":"(Abschreibungsbarwert(-1,$A28,J$2,'..'!$B$5)-Abschreibungsbarwert('..'!$B$7,'.'!$A28,'.'!J$2,'..'!$B$5))*'..'!$B$5","v":-4.6800683963876731E-2},{"$f":"(Abschreibungsbarwert(-1,$A28,K$2,'..'!$B$5)-Abschreibungsbarwert('..'!$B$7,'.'!$A28,'.'!K$2,'..'!$B$5))*'..'!$B$5","v":-4.8477242562713331E-2},{"$f":"(Abschreibungsbarwert(-1,$A28,L$2,'..'!$B$5)-Abschreibungsbarwert('..'!$B$7,'.'!$A28,'.'!L$2,'..'!$B$5))*'..'!$B$5","v":-4.9797368640922109E-2},{"$f":"(Abschreibungsbarwert(-1,$A28,M$2,'..'!$B$5)-Abschreibungsbarwert('..'!$B$7,'.'!$A28,'.'!M$2,'..'!$B$5))*'..'!$B$5","v":-5.0815262668413089E-2},{"$f":"(Abschreibungsbarwert(-1,$A28,N$2,'..'!$B$5)-Abschreibungsbarwert('..'!$B$7,'.'!$A28,'.'!N$2,'..'!$B$5))*'..'!$B$5","v":-5.1576907237157375E-2},{"$f":"(Abschreibungsbarwert(-1,$A28,O$2,'..'!$B$5)-Abschreibungsbarwert('..'!$B$7,'.'!$A28,'.'!O$2,'..'!$B$5))*'..'!$B$5","v":-5.2121359938907146E-2},{"$f":"(Abschreibungsbarwert(-1,$A28,P$2,'..'!$B$5)-Abschreibungsbarwert('..'!$B$7,'.'!$A28,'.'!P$2,'..'!$B$5))*'..'!$B$5","v":-5.2481834041765388E-2},{"$f":"(Abschreibungsbarwert(-1,$A28,Q$2,'..'!$B$5)-Abschreibungsbarwert('..'!$B$7,'.'!$A28,'.'!Q$2,'..'!$B$5))*'..'!$B$5","v":-5.2686603247383508E-2},{"$f":"(Abschreibungsbarwert(-1,$A28,R$2,'..'!$B$5)-Abschreibungsbarwert('..'!$B$7,'.'!$A28,'.'!R$2,'..'!$B$5))*'..'!$B$5","v":-5.2759760366828924E-2},{"$f":"(Abschreibungsbarwert(-1,$A28,S$2,'..'!$B$5)-Abschreibungsbarwert('..'!$B$7,'.'!$A28,'.'!S$2,'..'!$B$5))*'..'!$B$5","v":-5.2721854494758233E-2},{"$f":"(Abschreibungsbarwert(-1,$A28,T$2,'..'!$B$5)-Abschreibungsbarwert('..'!$B$7,'.'!$A28,'.'!T$2,'..'!$B$5))*'..'!$B$5","v":-5.2590426963205913E-2},{"$f":"(Abschreibungsbarwert(-1,$A28,U$2,'..'!$B$5)-Abschreibungsbarwert('..'!$B$7,'.'!$A28,'.'!U$2,'..'!$B$5))*'..'!$B$5","v":-5.238046283692098E-2},{"$f":"(Abschreibungsbarwert(-1,$A28,V$2,'..'!$B$5)-Abschreibungsbarwert('..'!$B$7,'.'!$A28,'.'!V$2,'..'!$B$5))*'..'!$B$5","v":-5.2104771825858376E-2},{"$f":"(Abschreibungsbarwert(-1,$A28,W$2,'..'!$B$5)-Abschreibungsbarwert('..'!$B$7,'.'!$A28,'.'!W$2,'..'!$B$5))*'..'!$B$5","v":-5.177431011943024E-2},{"$f":"(Abschreibungsbarwert(-1,$A28,X$2,'..'!$B$5)-Abschreibungsbarwert('..'!$B$7,'.'!$A28,'.'!X$2,'..'!$B$5))*'..'!$B$5","v":-5.1398452696310964E-2},{"$f":"(Abschreibungsbarwert(-1,$A28,Y$2,'..'!$B$5)-Abschreibungsbarwert('..'!$B$7,'.'!$A28,'.'!Y$2,'..'!$B$5))*'..'!$B$5","v":-5.0985224055940921E-2},{"$f":"(Abschreibungsbarwert(-1,$A28,Z$2,'..'!$B$5)-Abschreibungsbarwert('..'!$B$7,'.'!$A28,'.'!Z$2,'..'!$B$5))*'..'!$B$5","v":-5.0541493990937457E-2}]
[27,{"$f":"(Abschreibungsbarwert(-1,$A29,B$2,'..'!$B$5)-Abschreibungsbarwert('..'!$B$7,'.'!$A29,'.'!B$2,'..'!$B$5))*'..'!$B$5","v":-1.0082906445930552E-2},{"$f":"(Abschreibungsbarwert(-1,$A29,C$2,'..'!$B$5)-Abschreibungsbarwert('..'!$B$7,'.'!$A29,'.'!C$2,'..'!$B$5))*'..'!$B$5","v":-1.8448912745375468E-2},{"$f":"(Abschreibungsbarwert(-1,$A29,D$2,'..'!$B$5)-Abschreibungsbarwert('..'!$B$7,'.'!$A29,'.'!D$2,'..'!$B$5))*'..'!$B$5","v":-2.537667712243117E-2},{"$f":"(Abschreibungsbarwert(-1,$A29,E$2,'..'!$B$5)-Abschreibungsbarwert('..'!$B$7,'.'!$A29,'.'!E$2,'..'!$B$5))*'..'!$B$5","v":-3.1098162343001085E-2},{"$f":"(Abschreibungsbarwert(-1,$A29,F$2,'..'!$B$5)-Abschreibungsbarwert('..'!$B$7,'.'!$A29,'.'!F$2,'..'!$B$5))*'..'!$B$5","v":-3.5806792401067343E-2},{"$f":"(Abschreibungsbarwert(-1,$A29,G$2,'..'!$B$5)-Abschreibungsbarwert('..'!$B$7,'.'!$A29,'.'!G$2,'..'!$B$5))*'..'!$B$5","v":-3.9664125590069703E-2},{"$f":"(Abschreibungsbarwert(-1,$A29,H$2,'..'!$B$5)-Abschreibungsbarwert('..'!$B$7,'.'!$A29,'.'!H$2,'..'!$B$5))*'..'!$B$5","v":-4.2805324131492371E-2},{"$f":"(Abschreibungsbarwert(-1,$A29,I$2,'..'!$B$5)-Abschreibungsbarwert('..'!$B$7,'.'!$A29,'.'!I$2,'..'!$B$5))*'..'!$B$5","v":-4.5343645763799248E-2},{"$f":"(Abschreibungsbarwert(-1,$A29,J$2,'..'!$B$5)-Abschreibungsbarwert('..'!$B$7,'.'!$A29,'.'!J$2,'..'!$B$5))*'..'!$B$5","v":-4.7374138979555031E-2},{"$f":"(Abschreibungsbarwert(-1,$A29,K$2,'..'!$B$5)-Abschreibungsbarwert('..'!$B$7,'.'!$A29,'.'!K$2,'..'!$B$5))*'..'!$B$5","v":-4.8976688638882056E-2},{"$f":"(Abschreibungsbarwert(-1,$A29,L$2,'..'!$B$5)-Abschreibungsbarwert('..'!$B$7,'.'!$A29,'.'!L$2,'..'!$B$5))*'..'!$B$5","v":-5.0218530676477774E-2},{"$f":"(Abschreibungsbarwert(-1,$A29,M$2,'..'!$B$5)-Abschreibungsbarwert('..'!$B$7,'.'!$A29,'.'!M$2,'..'!$B$5))*'..'!$B$5","v":-5.1156332133858264E-2},{"$f":"(Abschreibungsbarwert(-1,$A29,N$2,'..'!$B$5)-Abschreibungsbarwert('..'!$B$7,'.'!$A29,'.'!N$2,'..'!$B$5))*'..'!$B$5","v":-5.18379146647482E-2},{"$f":"(Abschreibungsbarwert(-1,$A29,O$2,'..'!$B$5)-Abschreibungsbarwert('..'!$B$7,'.'!$A29,'.'!O$2,'..'!$B$5))*'..'!$B$5","v":-5.2303685091133957E-2},{"$f":"(Abschreibungsbarwert(-1,$A29,P$2,'..'!$B$5)-Abschreibungsbarwert('..'!$B$7,'.'!$A29,'.'!P$2,'..'!$B$5))*'..'!$B$5","v":-5.2587824826451877E-2},{"$f":"(Abschreibungsbarwert(-1,$A29,Q$2,'..'!$B$5)-Abschreibungsbarwert('..'!$B$7,'.'!$A29,'.'!Q$2,'..'!$B$5))*'..'!$B$5","v":-5.271928047190947E-2},{"$f":"(Abschreibungsbarwert(-1,$A29,R$2,'..'!$B$5)-Abschreibungsbarwert('..'!$B$7,'.'!$A29,'.'!R$2,'..'!$B$5))*'..'!$B$5","v":-5.2722590187655231E-2},{"$f":"(Abschreibungsbarwert(-1,$A29,S$2,'..'!$B$5)-Abschreibungsbarwert('..'!$B$7,'.'!$A29,'.'!S$2,'..'!$B$5))*'..'!$B$5","v":-5.2618574188372444E-2},{"$f":"(Abschreibungsbarwert(-1,$A29,T$2,'..'!$B$5)-Abschreibungsbarwert('..'!$B$7,'.'!$A29,'.'!T$2,'..'!$B$5))*'..'!$B$5","v":-5.2424912630320758E-2},{"$f":"(Abschreibungsbarwert(-1,$A29,U$2,'..'!$B$5)-Abschreibungsbarwert('..'!$B$7,'.'!$A29,'.'!U$2,'..'!$B$5))*'..'!$B$5","v":-5.2156630017938216E-2},{"$f":"(Abschreibungsbarwert(-1,$A29,V$2,'..'!$B$5)-Abschreibungsbarwert('..'!$B$7,'.'!$A29,'.'!V$2,'..'!$B$5))*'..'!$B$5","v":-5.1826501881893097E-2},{"$f":"(Abschreibungsbarwert(-1,$A29,W$2,'..'!$B$5)-Abschreibungsbarwert('..'!$B$7,'.'!$A29,'.'!W$2,'..'!$B$5))*'..'!$B$5","v":-5.1445396721728022E-2},{"$f":"(Abschreibungsbarwert(-1,$A29,X$2,'..'!$B$5)-Abschreibungsbarwert('..'!$B$7,'.'!$A29,'.'!X$2,'..'!$B$5))*'..'!$B$5","v":-5.1022563948271552E-2},{"$f":"(Abschreibungsbarwert(-1,$A29,Y$2,'..'!$B$5)-Abschreibungsbarwert('..'!$B$7,'.'!$A29,'.'!Y$2,'..'!$B$5))*'..'!$B$5","v":-5.0565876709829753E-2},{"$f":"(Abschreibungsbarwert(-1,$A29,Z$2,'..'!$B$5)-Abschreibungsbarwert('..'!$B$7,'.'!$A29,'.'!Z$2,'..'!$B$5))*'..'!$B$5","v":-5.0082036966038121E-2}]
[28,{"$f":"(Abschreibungsbarwert(-1,$A30,B$2,'..'!$B$5)-Abschreibungsbarwert('..'!$B$7,'.'!$A30,'.'!B$2,'..'!$B$5))*'..'!$B$5","v":-1.0399760134002732E-2},{"$f":"(Abschreibungsbarwert(-1,$A30,C$2,'..'!$B$5)-Abschreibungsbarwert('..'!$B$7,'.'!$A30,'.'!C$2,'..'!$B$5))*'..'!$B$5","v":-1.8972858329950364E-2},{"$f":"(Abschreibungsbarwert(-1,$A30,D$2,'..'!$B$5)-Abschreibungsbarwert('..'!$B$7,'.'!$A30,'.'!D$2,'..'!$B$5))*'..'!$B$5","v":-2.6024714078829655E-2},{"$f":"(Abschreibungsbarwert(-1,$A30,E$2,'..'!$B$5)-Abschreibungsbarwert('..'!$B$7,'.'!$A30,'.'!E$2,'..'!$B$5))*'..'!$B$5","v":-3.1808082502674355E-2},{"$f":"(Abschreibungsbarwert(-1,$A30,F$2,'..'!$B$5)-Abschreibungsbarwert('..'!$B$7,'.'!$A30,'.'!F$2,'..'!$B$5))*'..'!$B$5","v":-3.6532510769062096E-2},{"$f":"(Abschreibungsbarwert(-1,$A30,G$2,'..'!$B$5)-Abschreibungsbarwert('..'!$B$7,'.'!$A30,'.'!G$2,'..'!$B$5))*'..'!$B$5","v":-4.0372028086731473E-2},{"$f":"(Abschreibungsbarwert(-1,$A30,H$2,'..'!$B$5)-Abschreibungsbarwert('..'!$B$7,'.'!$A30,'.'!H$2,'..'!$B$5))*'..'!$B$5","v":-4.3471411557871882E-2},{"$f":"(Abschreibungsbarwert(-1,$A30,I$2,'..'!$B$5)-Abschreibungsbarwert('..'!$B$7,'.'!$A30,'.'!I$2,'..'!$B$5))*'..'!$B$5","v":-4.5951301565230716E-2},{"$f":"(Abschreibungsbarwert(-1,$A30,J$2,'..'!$B$5)-Abschreibungsbarwert('..'!$B$7,'.'!$A30,'.'!J$2,'..'!$B$5))*'..'!$B$5","v":-4.7912385957735143E-2},{"$f":"(Abschreibungsbarwert(-1,$A30,K$2,'..'!$B$5)-Abschreibungsbarwert('..'!$B$7,'.'!$A30,'.'!K$2,'..'!$B$5))*'..'!$B$5","v":-4.9438829048342778E-2},{"$f":"(Abschreibungsbarwert(-1,$A30,L$2,'..'!$B$5)-Abschreibungsbarwert('..'!$B$7,'.'!$A30,'.'!L$2,'..'!$B$5))*'..'!$B$5","v":-5.0601086993838036E-2},{"$f":"(Abschreibungsbarwert(-1,$A30,M$2,'..'!$B$5)-Abschreibungsbarwert('..'!$B$7,'.'!$A30,'.'!M$2,'..'!$B$5))*'..'!$B$5","v":-5.1458223641794795E-2},{"$f":"(Abschreibungsbarwert(-1,$A30,N$2,'..'!$B$5)-Abschreibungsbarwert('..'!$B$7,'.'!$A30,'.'!N$2,'..'!$B$5))*'..'!$B$5","v":-5.2059818956391973E-2},{"$f":"(Abschreibungsbarwert(-1,$A30,O$2,'..'!$B$5)-Abschreibungsbarwert('..'!$B$7,'.'!$A30,'.'!O$2,'..'!$B$5))*'..'!$B$5","v":-5.2447544533629299E-2},{"$f":"(Abschreibungsbarwert(-1,$A30,P$2,'..'!$B$5)-Abschreibungsbarwert('..'!$B$7,'.'!$A30,'.'!P$2,'..'!$B$5))*'..'!$B$5","v":-5.265646659104662E-2},{"$f":"(Abschreibungsbarwert(-1,$A30,Q$2,'..'!$B$5)-Abschreibungsbarwert('..'!$B$7,'.'!$A30,'.'!Q$2,'..'!$B$5))*'..'!$B$5","v":-5.2716125459751802E-2},{"$f":"(Abschreibungsbarwert(-1,$A30,R$2,'..'!$B$5)-Abschreibungsbarwert('..'!$B$7,'.'!$A30,'.'!R$2,'..'!$B$5))*'..'!$B$5","v":-5.265143145802418E-2},{"$f":"(Abschreibungsbarwert(-1,$A30,S$2,'..'!$B$5)-Abschreibungsbarwert('..'!$B$7,'.'!$A30,'.'!S$2,'..'!$B$5))*'..'!$B$5","v":-5.2483409642931522E-2},{"$f":"(Abschreibungsbarwert(-1,$A30,T$2,'..'!$B$5)-Abschreibungsbarwert('..'!$B$7,'.'!$A30,'.'!T$2,'..'!$B$5))*'..'!$B$5","v":-5.222981996766881E-2},{"$f":"(Abschreibungsbarwert(-1,$A30,U$2,'..'!$B$5)-Abschreibungsbarwert('..'!$B$7,'.'!$A30,'.'!U$2,'..'!$B$5))*'..'!$B$5","v":-5.1905674538191157E-2},{"$f":"(Abschreibungsbarwert(-1,$A30,V$2,'..'!$B$5)-Abschreibungsbarwert('..'!$B$7,'.'!$A30,'.'!V$2,'..'!$B$5))*'..'!$B$5","v":-5.1523669740527099E-2},{"$f":"(Abschreibungsbarwert(-1,$A30,W$2,'..'!$B$5)-Abschreibungsbarwert('..'!$B$7,'.'!$A30,'.'!W$2,'..'!$B$5))*'..'!$B$5","v":-5.1094547822298386E-2},{"$f":"(Abschreibungsbarwert(-1,$A30,X$2,'..'!$B$5)-Abschreibungsbarwert('..'!$B$7,'.'!$A30,'.'!X$2,'..'!$B$5))*'..'!$B$5","v":-5.0627399916438588E-2},{"$f":"(Abschreibungsbarwert(-1,$A30,Y$2,'..'!$B$5)-Abschreibungsbarwert('..'!$B$7,'.'!$A30,'.'!Y$2,'..'!$B$5))*'..'!$B$5","v":-5.0129920378191729E-2},{"$f":"(Abschreibungsbarwert(-1,$A30,Z$2,'..'!$B$5)-Abschreibungsbarwert('..'!$B$7,'.'!$A30,'.'!Z$2,'..'!$B$5))*'..'!$B$5","v":-4.9608620576989962E-2}]
[29,{"$f":"(Abschreibungsbarwert(-1,$A31,B$2,'..'!$B$5)-Abschreibungsbarwert('..'!$B$7,'.'!$A31,'.'!B$2,'..'!$B$5))*'..'!$B$5","v":-1.0713315018460463E-2},{"$f":"(Abschreibungsbarwert(-1,$A31,C$2,'..'!$B$5)-Abschreibungsbarwert('..'!$B$7,'.'!$A31,'.'!C$2,'..'!$B$5))*'..'!$B$5","v":-1.9487878171072007E-2},{"$f":"(Abschreibungsbarwert(-1,$A31,D$2,'..'!$B$5)-Abschreibungsbarwert('..'!$B$7,'.'!$A31,'.'!D$2,'..'!$B$5))*'..'!$B$5","v":-2.6657261554793209E-2},{"$f":"(Abschreibungsbarwert(-1,$A31,E$2,'..'!$B$5)-Abschreibungsbarwert('..'!$B$7,'.'!$A31,'.'!E$2,'..'!$B$5))*'..'!$B$5","v":-3.2495911851868252E-2},{"$f":"(Abschreibungsbarwert(-1,$A31,F$2,'..'!$B$5)-Abschreibungsbarwert('..'!$B$7,'.'!$A31,'.'!F$2,'..'!$B$5))*'..'!$B$5","v":-3.7230052928845382E-2},{"$f":"(Abschreibungsbarwert(-1,$A31,G$2,'..'!$B$5)-Abschreibungsbarwert('..'!$B$7,'.'!$A31,'.'!G$2,'..'!$B$5))*'..'!$B$5","v":-4.1046498852578765E-2},{"$f":"(Abschreibungsbarwert(-1,$A31,H$2,'..'!$B$5)-Abschreibungsbarwert('..'!$B$7,'.'!$A31,'.'!H$2,'..'!$B$5))*'..'!$B$5","v":-4.4099792418401472E-2},{"$f":"(Abschreibungsbarwert(-1,$A31,I$2,'..'!$B$5)-Abschreibungsbarwert('..'!$B$7,'.'!$A31,'.'!I$2,'..'!$B$5))*'..'!$B$5","v":-4.651799906363422E-2},{"$f":"(Abschreibungsbarwert(-1,$A31,J$2,'..'!$B$5)-Abschreibungsbarwert('..'!$B$7,'.'!$A31,'.'!J$2,'..'!$B$5))*'..'!$B$5","v":-4.8407418854799836E-2},{"$f":"(Abschreibungsbarwert(-1,$A31,K$2,'..'!$B$5)-Abschreibungsbarwert('..'!$B$7,'.'!$A31,'.'!K$2,'..'!$B$5))*'..'!$B$5","v":-4.9856426162374658E-2},{"$f":"(Abschreibungsbarwert(-1,$A31,L$2,'..'!$B$5)-Abschreibungsbarwert('..'!$B$7,'.'!$A31,'.'!L$2,'..'!$B$5))*'..'!$B$5","v":-5.0938604623506134E-2},{"$f":"(Abschreibungsbarwert(-1,$A31,M$2,'..'!$B$5)-Abschreibungsbarwert('..'!$B$7,'.'!$A31,'.'!M$2,'..'!$B$5))*'..'!$B$5","v":-5.1715311668378006E-2},{"$f":"(Abschreibungsbarwert(-1,$A31,N$2,'..'!$B$5)-Abschreibungsbarwert('..'!$B$7,'.'!$A31,'.'!N$2,'..'!$B$5))*'..'!$B$5","v":-5.2237780400044315E-2},{"$f":"(Abschreibungsbarwert(-1,$A31,O$2,'..'!$B$5)-Abschreibungsbarwert('..'!$B$7,'.'!$A31,'.'!O$2,'..'!$B$5))*'..'!$B$5","v":-5.2548845525414604E-2},{"$f":"(Abschreibungsbarwert(-1,$A31,P$2,'..'!$B$5)-Abschreibungsbarwert('..'!$B$7,'.'!$A31,'.'!P$2,'..'!$B$5))*'..'!$B$5","v":-5.2684363205317102E-2},{"$f":"(Abschreibungsbarwert(-1,$A31,Q$2,'..'!$B$5)-Abschreibungsbarwert('..'!$B$7,'.'!$A31,'.'!Q$2,'..'!$B$5))*'..'!$B$5","v":-5.2674381236775585E-2},{"$f":"(Abschreibungsbarwert(-1,$A31,R$2,'..'!$B$5)-Abschreibungsbarwert('..'!$B$7,'.'!$A31,'.'!R$2,'..'!$B$5))*'..'!$B$5","v":-5.2544105203344176E-2},{"$f":"(Abschreibungsbarwert(-1,$A31,S$2,'..'!$B$5)-Abschreibungsbarwert('..'!$B$7,'.'!$A31,'.'!S$2,'..'!$B$5))*'..'!$B$5","v":-5.2314697580310862E-2},{"$f":"(Abschreibungsbarwert(-1,$A31,T$2,'..'!$B$5)-Abschreibungsbarwert('..'!$B$7,'.'!$A31,'.'!T$2,'..'!$B$5))*'..'!$B$5","v":-5.2003939827460252E-2},{"$f":"(Abschreibungsbarwert(-1,$A31,U$2,'..'!$B$5)-Abschreibungsbarwert('..'!$B$7,'.'!$A31,'.'!U$2,'..'!$B$5))*'..'!$B$5","v":-5.1626781900303897E-2},{"$f":"(Abschreibungsbarwert(-1,$A31,V$2,'..'!$B$5)-Abschreibungsbarwert('..'!$B$7,'.'!$A31,'.'!V$2,'..'!$B$5))*'..'!$B$5","v":-5.1195799089940396E-2},{"$f":"(Abschreibungsbarwert(-1,$A31,W$2,'..'!$B$5)-Abschreibungsbarwert('..'!$B$7,'.'!$A31,'.'!W$2,'..'!$B$5))*'..'!$B$5","v":-5.0721572446702327E-2},{"$f":"(Abschreibungsbarwert(-1,$A31,X$2,'..'!$B$5)-Abschreibungsbarwert('..'!$B$7,'.'!$A31,'.'!X$2,'..'!$B$5))*'..'!$B$5","v":-5.021300608235419E-2},{"$f":"(Abschreibungsbarwert(-1,$A31,Y$2,'..'!$B$5)-Abschreibungsbarwert('..'!$B$7,'.'!$A31,'.'!Y$2,'..'!$B$5))*'..'!$B$5","v":-4.9677592243511225E-2},{"$f":"(Abschreibungsbarwert(-1,$A31,Z$2,'..'!$B$5)-Abschreibungsbarwert('..'!$B$7,'.'!$A31,'.'!Z$2,'..'!$B$5))*'..'!$B$5","v":-4.9121633096424623E-2}]
[30,{"$f":"(Abschreibungsbarwert(-1,$A32,B$2,'..'!$B$5)-Abschreibungsbarwert('..'!$B$7,'.'!$A32,'.'!B$2,'..'!$B$5))*'..'!$B$5","v":-1.1023803844719599E-2},{"$f":"(Abschreibungsbarwert(-1,$A32,C$2,'..'!$B$5)-Abschreibungsbarwert('..'!$B$7,'.'!$A32,'.'!C$2,'..'!$B$5))*'..'!$B$5","v":-1.9994464100592305E-2},{"$f":"(Abschreibungsbarwert(-1,$A32,D$2,'..'!$B$5)-Abschreibungsbarwert('..'!$B$7,'.'!$A32,'.'!D$2,'..'!$B$5))*'..'!$B$5","v":-2.7275115017363547E-2},{"$f":"(Abschreibungsbarwert(-1,$A32,E$2,'..'!$B$5)-Abschreibungsbarwert('..'!$B$7,'.'!$A32,'.'!E$2,'..'!$B$5))*'..'!$B$5","v":-3.3162792055648788E-2},{"$f":"(Abschreibungsbarwert(-1,$A32,F$2,'..'!$B$5)-Abschreibungsbarwert('..'!$B$7,'.'!$A32,'.'!F$2,'..'!$B$5))*'..'!$B$5","v":-3.7900937305539811E-2},{"$f":"(Abschreibungsbarwert(-1,$A32,G$2,'..'!$B$5)-Abschreibungsbarwert('..'!$B$7,'.'!$A32,'.'!G$2,'..'!$B$5))*'..'!$B$5","v":-4.1689447839897219E-2},{"$f":"(Abschreibungsbarwert(-1,$A32,H$2,'..'!$B$5)-Abschreibungsbarwert('..'!$B$7,'.'!$A32,'.'!H$2,'..'!$B$5))*'..'!$B$5","v":-4.4692766990012858E-2},{"$f":"(Abschreibungsbarwert(-1,$A32,I$2,'..'!$B$5)-Abschreibungsbarwert('..'!$B$7,'.'!$A32,'.'!I$2,'..'!$B$5))*'..'!$B$5","v":-4.70464134550036E-2},{"$f":"(Abschreibungsbarwert(-1,$A32,J$2,'..'!$B$5)-Abschreibungsbarwert('..'!$B$7,'.'!$A32,'.'!J$2,'..'!$B$5))*'..'!$B$5","v":-4.8862260829344757E-2},{"$f":"(Abschreibungsbarwert(-1,$A32,K$2,'..'!$B$5)-Abschreibungsbarwert('..'!$B$7,'.'!$A32,'.'!K$2,'..'!$B$5))*'..'!$B$5","v":-5.0232815492170409E-2},{"$f":"(Abschreibungsbarwert(-1,$A32,L$2,'..'!$B$5)-Abschreibungsbarwert('..'!$B$7,'.'!$A32,'.'!L$2,'..'!$B$5))*'..'!$B$5","v":-5.1234689940508546E-2},{"$f":"(Abschreibungsbarwert(-1,$A32,M$2,'..'!$B$5)-Abschreibungsbarwert('..'!$B$7,'.'!$A32,'.'!M$2,'..'!$B$5))*'..'!$B$5","v":-5.1931428545368488E-2},{"$f":"(Abschreibungsbarwert(-1,$A32,N$2,'..'!$B$5)-Abschreibungsbarwert('..'!$B$7,'.'!$A32,'.'!N$2,'..'!$B$5))*'..'!$B$5","v":-5.2375811023432396E-2},{"$f":"(Abschreibungsbarwert(-1,$A32,O$2,'..'!$B$5)-Abschreibungsbarwert('..'!$B$7,'.'!$A32,'.'!O$2,'..'!$B$5))*'..'!$B$5","v":-5.2611733830033834E-2},{"$f":"(Abschreibungsbarwert(-1,$A32,P$2,'..'!$B$5)-Abschreibungsbarwert('..'!$B$7,'.'!$A32,'.'!P$2,'..'!$B$5))*'..'!$B$5","v":-5.2675749776389329E-2},{"$f":"(Abschreibungsbarwert(-1,$A32,Q$2,'..'!$B$5)-Abschreibungsbarwert('..'!$B$7,'.'!$A32,'.'!Q$2,'..'!$B$5))*'..'!$B$5","v":-5.2598330352582649E-2},{"$f":"(Abschreibungsbarwert(-1,$A32,R$2,'..'!$B$5)-Abschreibungsbarwert('..'!$B$7,'.'!$A32,'.'!R$2,'..'!$B$5))*'..'!$B$5","v":-5.2404902635601991E-2},{"$f":"(Abschreibungsbarwert(-1,$A32,S$2,'..'!$B$5)-Abschreibungsbarwert('..'!$B$7,'.'!$A32,'.'!S$2,'..'!$B$5))*'..'!$B$5","v":-5.2116702603967238E-2},{"$f":"(Abschreibungsbarwert(-1,$A32,T$2,'..'!$B$5)-Abschreibungsbarwert('..'!$B$7,'.'!$A32,'.'!T$2,'..'!$B$5))*'..'!$B$5","v":-5.1751478637743799E-2},{"$f":"(Abschreibungsbarwert(-1,$A32,U$2,'..'!$B$5)-Abschreibungsbarwert('..'!$B$7,'.'!$A32,'.'!U$2,'..'!$B$5))*'..'!$B$5","v":-5.1324072538875096E-2},{"$f":"(Abschreibungsbarwert(-1,$A32,V$2,'..'!$B$5)-Abschreibungsbarwert('..'!$B$7,'.'!$A32,'.'!V$2,'..'!$B$5))*'..'!$B$5","v":-5.0846900234040912E-2},{"$f":"(Abschreibungsbarwert(-1,$A32,W$2,'..'!$B$5)-Abschreibungsbarwert('..'!$B$7,'.'!$A32,'.'!W$2,'..'!$B$5))*'..'!$B$5","v":-5.0330350162027318E-2},{"$f":"(Abschreibungsbarwert(-1,$A32,X$2,'..'!$B$5)-Abschreibungsbarwert('..'!$B$7,'.'!$A32,'.'!X$2,'..'!$B$5))*'..'!$B$5","v":-4.9783113995411132E-2},{"$f":"(Abschreibungsbarwert(-1,$A32,Y$2,'..'!$B$5)-Abschreibungsbarwert('..'!$B$7,'.'!$A32,'.'!Y$2,'..'!$B$5))*'..'!$B$5","v":-4.9212461640243767E-2},{"$f":"(Abschreibungsbarwert(-1,$A32,Z$2,'..'!$B$5)-Abschreibungsbarwert('..'!$B$7,'.'!$A32,'.'!Z$2,'..'!$B$5))*'..'!$B$5","v":-4.8624470268826499E-2}]
[31,{"$f":"(Abschreibungsbarwert(-1,$A33,B$2,'..'!$B$5)-Abschreibungsbarwert('..'!$B$7,'.'!$A33,'.'!B$2,'..'!$B$5))*'..'!$B$5","v":-1.1334607901850254E-2},{"$f":"(Abschreibungsbarwert(-1,$A33,C$2,'..'!$B$5)-Abschreibungsbarwert('..'!$B$7,'.'!$A33,'.'!C$2,'..'!$B$5))*'..'!$B$5","v":-2.0498343724890272E-2},{"$f":"(Abschreibungsbarwert(-1,$A33,D$2,'..'!$B$5)-Abschreibungsbarwert('..'!$B$7,'.'!$A33,'.'!D$2,'..'!$B$5))*'..'!$B$5","v":-2.7885606846085584E-2},{"$f":"(Abschreibungsbarwert(-1,$A33,E$2,'..'!$B$5)-Abschreibungsbarwert('..'!$B$7,'.'!$A33,'.'!E$2,'..'!$B$5))*'..'!$B$5","v":-3.381712593553584E-2},{"$f":"(Abschreibungsbarwert(-1,$A33,F$2,'..'!$B$5)-Abschreibungsbarwert('..'!$B$7,'.'!$A33,'.'!F$2,'..'!$B$5))*'..'!$B$5","v":-3.855424961334443E-2},{"$f":"(Abschreibungsbarwert(-1,$A33,G$2,'..'!$B$5)-Abschreibungsbarwert('..'!$B$7,'.'!$A33,'.'!G$2,'..'!$B$5))*'..'!$B$5","v":-4.2310360539000176E-2},{"$f":"(Abschreibungsbarwert(-1,$A33,H$2,'..'!$B$5)-Abschreibungsbarwert('..'!$B$7,'.'!$A33,'.'!H$2,'..'!$B$5))*'..'!$B$5","v":-4.5260012168092383E-2},{"$f":"(Abschreibungsbarwert(-1,$A33,I$2,'..'!$B$5)-Abschreibungsbarwert('..'!$B$7,'.'!$A33,'.'!I$2,'..'!$B$5))*'..'!$B$5","v":-4.7546258580554612E-2},{"$f":"(Abschreibungsbarwert(-1,$A33,J$2,'..'!$B$5)-Abschreibungsbarwert('..'!$B$7,'.'!$A33,'.'!J$2,'..'!$B$5))*'..'!$B$5","v":-4.9286547469092487E-2},{"$f":"(Abschreibungsbarwert(-1,$A33,K$2,'..'!$B$5)-Abschreibungsbarwert('..'!$B$7,'.'!$A33,'.'!K$2,'..'!$B$5))*'..'!$B$5","v":-5.0577468091872572E-2},{"$f":"(Abschreibungsbarwert(-1,$A33,L$2,'..'!$B$5)-Abschreibungsbarwert('..'!$B$7,'.'!$A33,'.'!L$2,'..'!$B$5))*'..'!$B$5","v":-5.14985847678925E-2},{"$f":"(Abschreibungsbarwert(-1,$A33,M$2,'..'!$B$5)-Abschreibungsbarwert('..'!$B$7,'.'!$A33,'.'!M$2,'..'!$B$5))*'..'!$B$5","v":-5.2115538505685316E-2},{"$f":"(Abschreibungsbarwert(-1,$A33,N$2,'..'!$B$5)-Abschreibungsbarwert('..'!$B$7,'.'!$A33,'.'!N$2,'..'!$B$5))*'..'!$B$5","v":-5.2482561663191742E-2},{"$f":"(Abschreibungsbarwert(-1,$A33,O$2,'..'!$B$5)-Abschreibungsbarwert('..'!$B$7,'.'!$A33,'.'!O$2,'..'!$B$5))*'..'!$B$5","v":-5.2644520867284376E-2},{"$f":"(Abschreibungsbarwert(-1,$A33,P$2,'..'!$B$5)-Abschreibungsbarwert('..'!$B$7,'.'!$A33,'.'!P$2,'..'!$B$5))*'..'!$B$5","v":-5.263858001846522E-2},{"$f":"(Abschreibungsbarwert(-1,$A33,Q$2,'..'!$B$5)-Abschreibungsbarwert('..'!$B$7,'.'!$A33,'.'!Q$2,'..'!$B$5))*'..'!$B$5","v":-5.2495556707726307E-2},{"$f":"(Abschreibungsbarwert(-1,$A33,R$2,'..'!$B$5)-Abschreibungsbarwert('..'!$B$7,'.'!$A33,'.'!R$2,'..'!$B$5))*'..'!$B$5","v":-5.2241030720467478E-2},{"$f":"(Abschreibungsbarwert(-1,$A33,S$2,'..'!$B$5)-Abschreibungsbarwert('..'!$B$7,'.'!$A33,'.'!S$2,'..'!$B$5))*'..'!$B$5","v":-5.1896251673191743E-2},{"$f":"(Abschreibungsbarwert(-1,$A33,T$2,'..'!$B$5)-Abschreibungsbarwert('..'!$B$7,'.'!$A33,'.'!T$2,'..'!$B$5))*'..'!$B$5","v":-5.1478883580076795E-2},{"$f":"(Abschreibungsbarwert(-1,$A33,U$2,'..'!$B$5)-Abschreibungsbarwert('..'!$B$7,'.'!$A33,'.'!U$2,'..'!$B$5))*'..'!$B$5","v":-5.1003616776388788E-2},{"$f":"(Abschreibungsbarwert(-1,$A33,V$2,'..'!$B$5)-Abschreibungsbarwert('..'!$B$7,'.'!$A33,'.'!V$2,'..'!$B$5))*'..'!$B$5","v":-5.0482671740846023E-2},{"$f":"(Abschreibungsbarwert(-1,$A33,W$2,'..'!$B$5)-Abschreibungsbarwert('..'!$B$7,'.'!$A33,'.'!W$2,'..'!$B$5))*'..'!$B$5","v":-4.9926214650888492E-2},{"$f":"(Abschreibungsbarwert(-1,$A33,X$2,'..'!$B$5)-Abschreibungsbarwert('..'!$B$7,'.'!$A33,'.'!X$2,'..'!$B$5))*'..'!$B$5","v":-4.9342700730731388E-2},{"$f":"(Abschreibungsbarwert(-1,$A33,Y$2,'..'!$B$5)-Abschreibungsbarwert('..'!$B$7,'.'!$A33,'.'!Y$2,'..'!$B$5))*'..'!$B$5","v":-4.873915842091351E-2},{"$f":"(Abschreibungsbarwert(-1,$A33,Z$2,'..'!$B$5)-Abschreibungsbarwert('..'!$B$7,'.'!$A33,'.'!Z$2,'..'!$B$5))*'..'!$B$5","v":-4.8121424958911842E-2}]
[32,{"$f":"(Abschreibungsbarwert(-1,$A34,B$2,'..'!$B$5)-Abschreibungsbarwert('..'!$B$7,'.'!$A34,'.'!B$2,'..'!$B$5))*'..'!$B$5","v":-1.1642279234015366E-2},{"$f":"(Abschreibungsbarwert(-1,$A34,C$2,'..'!$B$5)-Abschreibungsbarwert('..'!$B$7,'.'!$A34,'.'!C$2,'..'!$B$5))*'..'!$B$5","v":-2.099378481365578E-2},{"$f":"(Abschreibungsbarwert(-1,$A34,D$2,'..'!$B$5)-Abschreibungsbarwert('..'!$B$7,'.'!$A34,'.'!D$2,'..'!$B$5))*'..'!$B$5","v":-2.8481623964242208E-2},{"$f":"(Abschreibungsbarwert(-1,$A34,E$2,'..'!$B$5)-Abschreibungsbarwert('..'!$B$7,'.'!$A34,'.'!E$2,'..'!$B$5))*'..'!$B$5","v":-3.4451104645552941E-2},{"$f":"(Abschreibungsbarwert(-1,$A34,F$2,'..'!$B$5)-Abschreibungsbarwert('..'!$B$7,'.'!$A34,'.'!F$2,'..'!$B$5))*'..'!$B$5","v":-3.9181991160285895E-2},{"$f":"(Abschreibungsbarwert(-1,$A34,G$2,'..'!$B$5)-Abschreibungsbarwert('..'!$B$7,'.'!$A34,'.'!G$2,'..'!$B$5))*'..'!$B$5","v":-4.2901410151261164E-2},{"$f":"(Abschreibungsbarwert(-1,$A34,H$2,'..'!$B$5)-Abschreibungsbarwert('..'!$B$7,'.'!$A34,'.'!H$2,'..'!$B$5))*'..'!$B$5","v":-4.5794120794969369E-2},{"$f":"(Abschreibungsbarwert(-1,$A34,I$2,'..'!$B$5)-Abschreibungsbarwert('..'!$B$7,'.'!$A34,'.'!I$2,'..'!$B$5))*'..'!$B$5","v":-4.8010706113804855E-2},{"$f":"(Abschreibungsbarwert(-1,$A34,J$2,'..'!$B$5)-Abschreibungsbarwert('..'!$B$7,'.'!$A34,'.'!J$2,'..'!$B$5))*'..'!$B$5","v":-4.9674120921133234E-2},{"$f":"(Abschreibungsbarwert(-1,$A34,K$2,'..'!$B$5)-Abschreibungsbarwert('..'!$B$7,'.'!$A34,'.'!K$2,'..'!$B$5))*'..'!$B$5","v":-5.088493774499691E-2},{"$f":"(Abschreibungsbarwert(-1,$A34,L$2,'..'!$B$5)-Abschreibungsbarwert('..'!$B$7,'.'!$A34,'.'!L$2,'..'!$B$5))*'..'!$B$5","v":-5.1725558870869395E-2},{"$f":"(Abschreibungsbarwert(-1,$A34,M$2,'..'!$B$5)-Abschreibungsbarwert('..'!$B$7,'.'!$A34,'.'!M$2,'..'!$B$5))*'..'!$B$5","v":-5.2263605607308944E-2},{"$f":"(Abschreibungsbarwert(-1,$A34,N$2,'..'!$B$5)-Abschreibungsbarwert('..'!$B$7,'.'!$A34,'.'!N$2,'..'!$B$5))*'..'!$B$5","v":-5.2554651340808403E-2},{"$f":"(Abschreibungsbarwert(-1,$A34,O$2,'..'!$B$5)-Abschreibungsbarwert('..'!$B$7,'.'!$A34,'.'!O$2,'..'!$B$5))*'..'!$B$5","v":-5.2644430092103373E-2},{"$f":"(Abschreibungsbarwert(-1,$A34,P$2,'..'!$B$5)-Abschreibungsbarwert('..'!$B$7,'.'!$A34,'.'!P$2,'..'!$B$5))*'..'!$B$5","v":-5.257062495084508E-2},{"$f":"(Abschreibungsbarwert(-1,$A34,Q$2,'..'!$B$5)-Abschreibungsbarwert('..'!$B$7,'.'!$A34,'.'!Q$2,'..'!$B$5))*'..'!$B$5","v":-5.236431928068519E-2},{"$f":"(Abschreibungsbarwert(-1,$A34,R$2,'..'!$B$5)-Abschreibungsbarwert('..'!$B$7,'.'!$A34,'.'!R$2,'..'!$B$5))*'..'!$B$5","v":-5.2051176664197424E-2},{"$f":"(Abschreibungsbarwert(-1,$A34,S$2,'..'!$B$5)-Abschreibungsbarwert('..'!$B$7,'.'!$A34,'.'!S$2,'..'!$B$5))*'..'!$B$5","v":-5.1652402199662419E-2},{"$f":"(Abschreibungsbarwert(-1,$A34,T$2,'..'!$B$5)-Abschreibungsbarwert('..'!$B$7,'.'!$A34,'.'!T$2,'..'!$B$5))*'..'!$B$5","v":-5.1185527196324479E-2},{"$f":"(Abschreibungsbarwert(-1,$A34,U$2,'..'!$B$5)-Abschreibungsbarwert('..'!$B$7,'.'!$A34,'.'!U$2,'..'!$B$5))*'..'!$B$5","v":-5.0665050940335285E-2},{"$f":"(Abschreibungsbarwert(-1,$A34,V$2,'..'!$B$5)-Abschreibungsbarwert('..'!$B$7,'.'!$A34,'.'!V$2,'..'!$B$5))*'..'!$B$5","v":-5.0102966552181376E-2},{"$f":"(Abschreibungsbarwert(-1,$A34,W$2,'..'!$B$5)-Abschreibungsbarwert('..'!$B$7,'.'!$A34,'.'!W$2,'..'!$B$5))*'..'!$B$5","v":-4.9509192662675103E-2},{"$f":"(Abschreibungsbarwert(-1,$A34,X$2,'..'!$B$5)-Abschreibungsbarwert('..'!$B$7,'.'!$A34,'.'!X$2,'..'!$B$5))*'..'!$B$5","v":-4.8891928412921268E-2},{"$f":"(Abschreibungsbarwert(-1,$A34,Y$2,'..'!$B$5)-Abschreibungsbarwert('..'!$B$7,'.'!$A34,'.'!Y$2,'..'!$B$5))*'..'!$B$5","v":-4.8257945910191842E-2},{"$f":"(Abschreibungsbarwert(-1,$A34,Z$2,'..'!$B$5)-Abschreibungsbarwert('..'!$B$7,'.'!$A34,'.'!Z$2,'..'!$B$5))*'..'!$B$5","v":-4.7612831570602164E-2}]
[33,{"$f":"(Abschreibungsbarwert(-1,$A35,B$2,'..'!$B$5)-Abschreibungsbarwert('..'!$B$7,'.'!$A35,'.'!B$2,'..'!$B$5))*'..'!$B$5","v":-1.1947012936585712E-2},{"$f":"(Abschreibungsbarwert(-1,$A35,C$2,'..'!$B$5)-Abschreibungsbarwert('..'!$B$7,'.'!$A35,'.'!C$2,'..'!$B$5))*'..'!$B$5","v":-2.1481203652067668E-2},{"$f":"(Abschreibungsbarwert(-1,$A35,D$2,'..'!$B$5)-Abschreibungsbarwert('..'!$B$7,'.'!$A35,'.'!D$2,'..'!$B$5))*'..'!$B$5","v":-2.9063844734423094E-2},{"$f":"(Abschreibungsbarwert(-1,$A35,E$2,'..'!$B$5)-Abschreibungsbarwert('..'!$B$7,'.'!$A35,'.'!E$2,'..'!$B$5))*'..'!$B$5","v":-3.5065704527463742E-2},{"$f":"(Abschreibungsbarwert(-1,$A35,F$2,'..'!$B$5)-Abschreibungsbarwert('..'!$B$7,'.'!$A35,'.'!F$2,'..'!$B$5))*'..'!$B$5","v":-3.9785458407767274E-2},{"$f":"(Abschreibungsbarwert(-1,$A35,G$2,'..'!$B$5)-Abschreibungsbarwert('..'!$B$7,'.'!$A35,'.'!G$2,'..'!$B$5))*'..'!$B$5","v":-4.3464219207316891E-2},{"$f":"(Abschreibungsbarwert(-1,$A35,H$2,'..'!$B$5)-Abschreibungsbarwert('..'!$B$7,'.'!$A35,'.'!H$2,'..'!$B$5))*'..'!$B$5","v":-4.6297032215281635E-2},{"$f":"(Abschreibungsbarwert(-1,$A35,I$2,'..'!$B$5)-Abschreibungsbarwert('..'!$B$7,'.'!$A35,'.'!I$2,'..'!$B$5))*'..'!$B$5","v":-4.8441990357221097E-2},{"$f":"(Abschreibungsbarwert(-1,$A35,J$2,'..'!$B$5)-Abschreibungsbarwert('..'!$B$7,'.'!$A35,'.'!J$2,'..'!$B$5))*'..'!$B$5","v":-5.0027479146162533E-2},{"$f":"(Abschreibungsbarwert(-1,$A35,K$2,'..'!$B$5)-Abschreibungsbarwert('..'!$B$7,'.'!$A35,'.'!K$2,'..'!$B$5))*'..'!$B$5","v":-5.1157948442186067E-2},{"$f":"(Abschreibungsbarwert(-1,$A35,L$2,'..'!$B$5)-Abschreibungsbarwert('..'!$B$7,'.'!$A35,'.'!L$2,'..'!$B$5))*'..'!$B$5","v":-5.1918521080851349E-2},{"$f":"(Abschreibungsbarwert(-1,$A35,M$2,'..'!$B$5)-Abschreibungsbarwert('..'!$B$7,'.'!$A35,'.'!M$2,'..'!$B$5))*'..'!$B$5","v":-5.2378681066313229E-2},{"$f":"(Abschreibungsbarwert(-1,$A35,N$2,'..'!$B$5)-Abschreibungsbarwert('..'!$B$7,'.'!$A35,'.'!N$2,'..'!$B$5))*'..'!$B$5","v":-5.2595231730408795E-2},{"$f":"(Abschreibungsbarwert(-1,$A35,O$2,'..'!$B$5)-Abschreibungsbarwert('..'!$B$7,'.'!$A35,'.'!O$2,'..'!$B$5))*'..'!$B$5","v":-5.261467357080938E-2},{"$f":"(Abschreibungsbarwert(-1,$A35,P$2,'..'!$B$5)-Abschreibungsbarwert('..'!$B$7,'.'!$A35,'.'!P$2,'..'!$B$5))*'..'!$B$5","v":-5.247511975220915E-2},{"$f":"(Abschreibungsbarwert(-1,$A35,Q$2,'..'!$B$5)-Abschreibungsbarwert('..'!$B$7,'.'!$A35,'.'!Q$2,'..'!$B$5))*'..'!$B$5","v":-5.2207842456558455E-2},{"$f":"(Abschreibungsbarwert(-1,$A35,R$2,'..'!$B$5)-Abschreibungsbarwert('..'!$B$7,'.'!$A35,'.'!R$2,'..'!$B$5))*'..'!$B$5","v":-5.183852384452739E-2},{"$f":"(Abschreibungsbarwert(-1,$A35,S$2,'..'!$B$5)-Abschreibungsbarwert('..'!$B$7,'.'!$A35,'.'!S$2,'..'!$B$5))*'..'!$B$5","v":-5.1388270142685807E-2},{"$f":"(Abschreibungsbarwert(-1,$A35,T$2,'..'!$B$5)-Abschreibungsbarwert('..'!$B$7,'.'!$A35,'.'!T$2,'..'!$B$5))*'..'!$B$5","v":-5.0874435375404106E-2},{"$f":"(Abschreibungsbarwert(-1,$A35,U$2,'..'!$B$5)-Abschreibungsbarwert('..'!$B$7,'.'!$A35,'.'!U$2,'..'!$B$5))*'..'!$B$5","v":-5.0311291803225348E-2},{"$f":"(Abschreibungsbarwert(-1,$A35,V$2,'..'!$B$5)-Abschreibungsbarwert('..'!$B$7,'.'!$A35,'.'!V$2,'..'!$B$5))*'..'!$B$5","v":-4.9710576657413581E-2},{"$f":"(Abschreibungsbarwert(-1,$A35,W$2,'..'!$B$5)-Abschreibungsbarwert('..'!$B$7,'.'!$A35,'.'!W$2,'..'!$B$5))*'..'!$B$5","v":-4.9081938844339534E-2},{"$f":"(Abschreibungsbarwert(-1,$A35,X$2,'..'!$B$5)-Abschreibungsbarwert('..'!$B$7,'.'!$A35,'.'!X$2,'..'!$B$5))*'..'!$B$5","v":-4.8433304599472198E-2},{"$f":"(Abschreibungsbarwert(-1,$A35,Y$2,'..'!$B$5)-Abschreibungsbarwert('..'!$B$7,'.'!$A35,'.'!Y$2,'..'!$B$5))*'..'!$B$5","v":-4.7771177338786372E-2},{"$f":"(Abschreibungsbarwert(-1,$A35,Z$2,'..'!$B$5)-Abschreibungsbarwert('..'!$B$7,'.'!$A35,'.'!Z$2,'..'!$B$5))*'..'!$B$5","v":-4.7100883982137236E-2}]
[34,{"$f":"(Abschreibungsbarwert(-1,$A36,B$2,'..'!$B$5)-Abschreibungsbarwert('..'!$B$7,'.'!$A36,'.'!B$2,'..'!$B$5))*'..'!$B$5","v":-1.2251869903633215E-2},{"$f":"(Abschreibungsbarwert(-1,$A36,C$2,'..'!$B$5)-Abschreibungsbarwert('..'!$B$7,'.'!$A36,'.'!C$2,'..'!$B$5))*'..'!$B$5","v":-2.1965704670471584E-2},{"$f":"(Abschreibungsbarwert(-1,$A36,D$2,'..'!$B$5)-Abschreibungsbarwert('..'!$B$7,'.'!$A36,'.'!D$2,'..'!$B$5))*'..'!$B$5","v":-2.9638706483799723E-2},{"$f":"(Abschreibungsbarwert(-1,$A36,E$2,'..'!$B$5)-Abschreibungsbarwert('..'!$B$7,'.'!$A36,'.'!E$2,'..'!$B$5))*'..'!$B$5","v":-3.566819686386697E-2},{"$f":"(Abschreibungsbarwert(-1,$A36,F$2,'..'!$B$5)-Abschreibungsbarwert('..'!$B$7,'.'!$A36,'.'!F$2,'..'!$B$5))*'..'!$B$5","v":-4.0372404333081653E-2},{"$f":"(Abschreibungsbarwert(-1,$A36,G$2,'..'!$B$5)-Abschreibungsbarwert('..'!$B$7,'.'!$A36,'.'!G$2,'..'!$B$5))*'..'!$B$5","v":-4.4006772287277639E-2},{"$f":"(Abschreibungsbarwert(-1,$A36,H$2,'..'!$B$5)-Abschreibungsbarwert('..'!$B$7,'.'!$A36,'.'!H$2,'..'!$B$5))*'..'!$B$5","v":-4.6776784175634155E-2},{"$f":"(Abschreibungsbarwert(-1,$A36,I$2,'..'!$B$5)-Abschreibungsbarwert('..'!$B$7,'.'!$A36,'.'!I$2,'..'!$B$5))*'..'!$B$5","v":-4.8848074476612748E-2},{"$f":"(Abschreibungsbarwert(-1,$A36,J$2,'..'!$B$5)-Abschreibungsbarwert('..'!$B$7,'.'!$A36,'.'!J$2,'..'!$B$5))*'..'!$B$5","v":-5.0354419210505548E-2},{"$f":"(Abschreibungsbarwert(-1,$A36,K$2,'..'!$B$5)-Abschreibungsbarwert('..'!$B$7,'.'!$A36,'.'!K$2,'..'!$B$5))*'..'!$B$5","v":-5.1404065832496904E-2},{"$f":"(Abschreibungsbarwert(-1,$A36,L$2,'..'!$B$5)-Abschreibungsbarwert('..'!$B$7,'.'!$A36,'.'!L$2,'..'!$B$5))*'..'!$B$5","v":-5.2084759506512812E-2},{"$f":"(Abschreibungsbarwert(-1,$A36,M$2,'..'!$B$5)-Abschreibungsbarwert('..'!$B$7,'.'!$A36,'.'!M$2,'..'!$B$5))*'..'!$B$5","v":-5.2467743578811052E-2},{"$f":"(Abschreibungsbarwert(-1,$A36,N$2,'..'!$B$5)-Abschreibungsbarwert('..'!$B$7,'.'!$A36,'.'!N$2,'..'!$B$5))*'..'!$B$5","v":-5.261095096248937E-2},{"$f":"(Abschreibungsbarwert(-1,$A36,O$2,'..'!$B$5)-Abschreibungsbarwert('..'!$B$7,'.'!$A36,'.'!O$2,'..'!$B$5))*'..'!$B$5","v":-5.2561555873648774E-2},{"$f":"(Abschreibungsbarwert(-1,$A36,P$2,'..'!$B$5)-Abschreibungsbarwert('..'!$B$7,'.'!$A36,'.'!P$2,'..'!$B$5))*'..'!$B$5","v":-5.2358018708298412E-2},{"$f":"(Abschreibungsbarwert(-1,$A36,Q$2,'..'!$B$5)-Abschreibungsbarwert('..'!$B$7,'.'!$A36,'.'!Q$2,'..'!$B$5))*'..'!$B$5","v":-5.2031728365214872E-2},{"$f":"(Abschreibungsbarwert(-1,$A36,R$2,'..'!$B$5)-Abschreibungsbarwert('..'!$B$7,'.'!$A36,'.'!R$2,'..'!$B$5))*'..'!$B$5","v":-5.160832413299845E-2},{"$f":"(Abschreibungsbarwert(-1,$A36,S$2,'..'!$B$5)-Abschreibungsbarwert('..'!$B$7,'.'!$A36,'.'!S$2,'..'!$B$5))*'..'!$B$5","v":-5.1108761938239003E-2},{"$f":"(Abschreibungsbarwert(-1,$A36,T$2,'..'!$B$5)-Abschreibungsbarwert('..'!$B$7,'.'!$A36,'.'!T$2,'..'!$B$5))*'..'!$B$5","v":-5.055017619852363E-2},{"$f":"(Abschreibungsbarwert(-1,$A36,U$2,'..'!$B$5)-Abschreibungsbarwert('..'!$B$7,'.'!$A36,'.'!U$2,'..'!$B$5))*'..'!$B$5","v":-4.9946577895616399E-2},{"$f":"(Abschreibungsbarwert(-1,$A36,V$2,'..'!$B$5)-Abschreibungsbarwert('..'!$B$7,'.'!$A36,'.'!V$2,'..'!$B$5))*'..'!$B$5","v":-4.9309421130893247E-2},{"$f":"(Abschreibungsbarwert(-1,$A36,W$2,'..'!$B$5)-Abschreibungsbarwert('..'!$B$7,'.'!$A36,'.'!W$2,'..'!$B$5))*'..'!$B$5","v":-4.8648063845623944E-2},{"$f":"(Abschreibungsbarwert(-1,$A36,X$2,'..'!$B$5)-Abschreibungsbarwert('..'!$B$7,'.'!$A36,'.'!X$2,'..'!$B$5))*'..'!$B$5","v":-4.797014319503947E-2},{"$f":"(Abschreibungsbarwert(-1,$A36,Y$2,'..'!$B$5)-Abschreibungsbarwert('..'!$B$7,'.'!$A36,'.'!Y$2,'..'!$B$5))*'..'!$B$5","v":-4.7281881956587689E-2},{"$f":"(Abschreibungsbarwert(-1,$A36,Z$2,'..'!$B$5)-Abschreibungsbarwert('..'!$B$7,'.'!$A36,'.'!Z$2,'..'!$B$5))*'..'!$B$5","v":-4.6588339095706963E-2}]
[35,{"$f":"(Abschreibungsbarwert(-1,$A37,B$2,'..'!$B$5)-Abschreibungsbarwert('..'!$B$7,'.'!$A37,'.'!B$2,'..'!$B$5))*'..'!$B$5","v":-1.2553739187864107E-2},{"$f":"(Abschreibungsbarwert(-1,$A37,C$2,'..'!$B$5)-Abschreibungsbarwert('..'!$B$7,'.'!$A37,'.'!C$2,'..'!$B$5))*'..'!$B$5","v":-2.2442205182611585E-2},{"$f":"(Abschreibungsbarwert(-1,$A37,D$2,'..'!$B$5)-Abschreibungsbarwert('..'!$B$7,'.'!$A37,'.'!D$2,'..'!$B$5))*'..'!$B$5","v":-3.0200013342256454E-2},{"$f":"(Abschreibungsbarwert(-1,$A37,E$2,'..'!$B$5)-Abschreibungsbarwert('..'!$B$7,'.'!$A37,'.'!E$2,'..'!$B$5))*'..'!$B$5","v":-3.6251902198138605E-2},{"$f":"(Abschreibungsbarwert(-1,$A37,F$2,'..'!$B$5)-Abschreibungsbarwert('..'!$B$7,'.'!$A37,'.'!F$2,'..'!$B$5))*'..'!$B$5","v":-4.0936113029646247E-2},{"$f":"(Abschreibungsbarwert(-1,$A37,G$2,'..'!$B$5)-Abschreibungsbarwert('..'!$B$7,'.'!$A37,'.'!G$2,'..'!$B$5))*'..'!$B$5","v":-4.4522621759531283E-2},{"$f":"(Abschreibungsbarwert(-1,$A37,H$2,'..'!$B$5)-Abschreibungsbarwert('..'!$B$7,'.'!$A37,'.'!H$2,'..'!$B$5))*'..'!$B$5","v":-4.7227393079546647E-2},{"$f":"(Abschreibungsbarwert(-1,$A37,I$2,'..'!$B$5)-Abschreibungsbarwert('..'!$B$7,'.'!$A37,'.'!I$2,'..'!$B$5))*'..'!$B$5","v":-4.9223552981632369E-2},{"$f":"(Abschreibungsbarwert(-1,$A37,J$2,'..'!$B$5)-Abschreibungsbarwert('..'!$B$7,'.'!$A37,'.'!J$2,'..'!$B$5))*'..'!$B$5","v":-5.0650167921964549E-2},{"$f":"(Abschreibungsbarwert(-1,$A37,K$2,'..'!$B$5)-Abschreibungsbarwert('..'!$B$7,'.'!$A37,'.'!K$2,'..'!$B$5))*'..'!$B$5","v":-5.1619160476367297E-2},{"$f":"(Abschreibungsbarwert(-1,$A37,L$2,'..'!$B$5)-Abschreibungsbarwert('..'!$B$7,'.'!$A37,'.'!L$2,'..'!$B$5))*'..'!$B$5","v":-5.2220770434722265E-2},{"$f":"(Abschreibungsbarwert(-1,$A37,M$2,'..'!$B$5)-Abschreibungsbarwert('..'!$B$7,'.'!$A37,'.'!M$2,'..'!$B$5))*'..'!$B$5","v":-5.2527877741415326E-2},{"$f":"(Abschreibungsbarwert(-1,$A37,N$2,'..'!$B$5)-Abschreibungsbarwert('..'!$B$7,'.'!$A37,'.'!N$2,'..'!$B$5))*'..'!$B$5","v":-5.2599432688374394E-2},{"$f":"(Abschreibungsbarwert(-1,$A37,O$2,'..'!$B$5)-Abschreibungsbarwert('..'!$B$7,'.'!$A37,'.'!O$2,'..'!$B$5))*'..'!$B$5","v":-5.2483184160845867E-2},{"$f":"(Abschreibungsbarwert(-1,$A37,P$2,'..'!$B$5)-Abschreibungsbarwert('..'!$B$7,'.'!$A37,'.'!P$2,'..'!$B$5))*'..'!$B$5","v":-5.2217854637213908E-2},{"$f":"(Abschreibungsbarwert(-1,$A37,Q$2,'..'!$B$5)-Abschreibungsbarwert('..'!$B$7,'.'!$A37,'.'!Q$2,'..'!$B$5))*'..'!$B$5","v":-5.1834878110551798E-2},{"$f":"(Abschreibungsbarwert(-1,$A37,R$2,'..'!$B$5)-Abschreibungsbarwert('..'!$B$7,'.'!$A37,'.'!R$2,'..'!$B$5))*'..'!$B$5","v":-5.1359791898375987E-2},{"$f":"(Abschreibungsbarwert(-1,$A37,S$2,'..'!$B$5)-Abschreibungsbarwert('..'!$B$7,'.'!$A37,'.'!S$2,'..'!$B$5))*'..'!$B$5","v":-5.0813353739851713E-2},{"$f":"(Abschreibungsbarwert(-1,$A37,T$2,'..'!$B$5)-Abschreibungsbarwert('..'!$B$7,'.'!$A37,'.'!T$2,'..'!$B$5))*'..'!$B$5","v":-5.0212440351556586E-2},{"$f":"(Abschreibungsbarwert(-1,$A37,U$2,'..'!$B$5)-Abschreibungsbarwert('..'!$B$7,'.'!$A37,'.'!U$2,'..'!$B$5))*'..'!$B$5","v":-4.9570771734291703E-2},{"$f":"(Abschreibungsbarwert(-1,$A37,V$2,'..'!$B$5)-Abschreibungsbarwert('..'!$B$7,'.'!$A37,'.'!V$2,'..'!$B$5))*'..'!$B$5","v":-4.8899496236362819E-2},{"$f":"(Abschreibungsbarwert(-1,$A37,W$2,'..'!$B$5)-Abschreibungsbarwert('..'!$B$7,'.'!$A37,'.'!W$2,'..'!$B$5))*'..'!$B$5","v":-4.8207664101371644E-2},{"$f":"(Abschreibungsbarwert(-1,$A37,X$2,'..'!$B$5)-Abschreibungsbarwert('..'!$B$7,'.'!$A37,'.'!X$2,'..'!$B$5))*'..'!$B$5","v":-4.7502611513127638E-2},{"$f":"(Abschreibungsbarwert(-1,$A37,Y$2,'..'!$B$5)-Abschreibungsbarwert('..'!$B$7,'.'!$A37,'.'!Y$2,'..'!$B$5))*'..'!$B$5","v":-4.6790272651564983E-2},{"$f":"(Abschreibungsbarwert(-1,$A37,Z$2,'..'!$B$5)-Abschreibungsbarwert('..'!$B$7,'.'!$A37,'.'!Z$2,'..'!$B$5))*'..'!$B$5","v":-4.607543372467706E-2}]
[]
[]
[null,"Minimum:",{"$f":"MIN(B3:P37)","v":-5.2684363205317102E-2}]
[null,"Maximum:",{"$f":"MAX(B3:P37)","v":0}]